BEGIN:VCALENDAR
VERSION:2.0
PRODID:-//Fun in Farmington - ECPv6.15.20//NONSGML v1.0//EN
CALSCALE:GREGORIAN
METHOD:PUBLISH
X-ORIGINAL-URL:https://funinfarmington.com
X-WR-CALDESC:Events for Fun in Farmington
REFRESH-INTERVAL;VALUE=DURATION:PT1H
X-Robots-Tag:noindex
X-PUBLISHED-TTL:PT1H
BEGIN:VTIMEZONE
TZID:UTC
BEGIN:STANDARD
TZOFFSETFROM:+0000
TZOFFSETTO:+0000
TZNAME:UTC
DTSTART:20260101T000000
END:STANDARD
END:VTIMEZONE
BEGIN:VEVENT
DTSTART;TZID=UTC:20270331T183000
DTEND;TZID=UTC:20270331T191500
DTSTAMP:20260420T110036
CREATED:20260110T191407Z
LAST-MODIFIED:20260302T145452Z
UID:10019058-1806517800-1806520500@funinfarmington.com
SUMMARY:Paws for Reading at Library (FH)
DESCRIPTION:Registration is required. \nPractice your reading with a certified therapy dog!  The dog loves listening to readers and will cheer you on!  Please sign up for one 15-minute time slot per week.
URL:https://funinfarmington.com/event/paws-for-reading/2027-03-31/
LOCATION:Farmington Community Library – Farmington Hills Location\, 32737 W. 12 Mile Rd.\, Farmington Hills\, Michigan\, 48334
CATEGORIES:Community,Educational,Kids & Families
END:VEVENT
BEGIN:VEVENT
DTSTART;TZID=UTC:20270402T170000
DTEND;TZID=UTC:20270402T200000
DTSTAMP:20260420T110036
CREATED:20260418T211330Z
LAST-MODIFIED:20260418T211330Z
UID:10020525-1806685200-1806696000@funinfarmington.com
SUMMARY:First Friday at SkepSpace
DESCRIPTION:Join us every first Friday of the month from 5pm -8pm. Tour Artists’ studios\, contribute to a community art project\, meet our artists and learn about ongoing meetups and upcoming workshops. Enjoy music and light refreshments.
URL:https://funinfarmington.com/event/first-friday-at-skepspace/2027-04-02/
LOCATION:Skep Space\, 33018 Grand River Ave\, Farmington Hills\, Michigan\, 48336
CATEGORIES:Art,Community
END:VEVENT
BEGIN:VEVENT
DTSTART;TZID=UTC:20270412T160000
DTEND;TZID=UTC:20270412T170000
DTSTAMP:20260420T110036
CREATED:20260110T185924Z
LAST-MODIFIED:20260110T190814Z
UID:10019013-1807545600-1807549200@funinfarmington.com
SUMMARY:1-2-3 Read with Me (1st\, 2nd\, 3rd Grd) at Library (FH)
DESCRIPTION:Are you in 1st\, 2nd\, or 3rd grade? This book club is for you! Join us as we explore literary genres and read books together. Practice reading aloud (or just listen). There is no required reading—just come and read with me! \nJanuary Theme— Let’s go on an Adventure \nRegistration is required.
URL:https://funinfarmington.com/event/1-2-3-read-with-me-1st-2nd-3rd-grd-at-library-fh/2027-04-12/
LOCATION:Farmington Community Library – Farmington Hills Location\, 32737 W. 12 Mile Rd.\, Farmington Hills\, Michigan\, 48334
CATEGORIES:Community,Educational,Kids & Families
END:VEVENT
BEGIN:VEVENT
DTSTART;TZID=UTC:20270414T183000
DTEND;TZID=UTC:20270414T191500
DTSTAMP:20260420T110036
CREATED:20260110T191407Z
LAST-MODIFIED:20260302T145452Z
UID:10019059-1807727400-1807730100@funinfarmington.com
SUMMARY:Paws for Reading at Library (FH)
DESCRIPTION:Registration is required. \nPractice your reading with a certified therapy dog!  The dog loves listening to readers and will cheer you on!  Please sign up for one 15-minute time slot per week.
URL:https://funinfarmington.com/event/paws-for-reading/2027-04-14/
LOCATION:Farmington Community Library – Farmington Hills Location\, 32737 W. 12 Mile Rd.\, Farmington Hills\, Michigan\, 48334
CATEGORIES:Community,Educational,Kids & Families
END:VEVENT
BEGIN:VEVENT
DTSTART;TZID=UTC:20270416T160000
DTEND;TZID=UTC:20270416T170000
DTSTAMP:20260420T110036
CREATED:20260110T190623Z
LAST-MODIFIED:20260110T190623Z
UID:10018998-1807891200-1807894800@funinfarmington.com
SUMMARY:FCL Coding Lab (Grades 3-5) at Library (Farmington)
DESCRIPTION:Registration is not required.  \nLearn how to code with FCL’s Fiero Code program! \nEvery 3rd Friday from September to December\, get together with friends in an open lab session and jump into the fun world of coding. Learn at your own pace or work together on different projects\, like designing a website\, programming a dancing robot\, or designing video games! \nIf you don’t have a Fiero Code account yet\, we can help you set one up. You’ll need an email address. If you have a Farmington Community Library card\, please have your card number and PIN with you. If you don’t have an FCL card\, no problem—staff can still help you get started. \nParticipants can either bring their own laptops or use one of the library’s laptops. Laptops are limited\, so we encourage participants to share with a friend.
URL:https://funinfarmington.com/event/fcl-coding-lab-grades-3-5-at-library-farmington/2027-04-16/
LOCATION:Farmington Community Library – Farmington Location\, 23500 Liberty St.\, Farmington\, Michigan\, 48335
CATEGORIES:Community,Educational,Kids & Families
END:VEVENT
BEGIN:VEVENT
DTSTART;TZID=UTC:20270423T103000
DTEND;TZID=UTC:20270423T120000
DTSTAMP:20260420T110036
CREATED:20260419T184602Z
LAST-MODIFIED:20260419T184602Z
UID:10020860-1808476200-1808481600@funinfarmington.com
SUMMARY:Senior Social Hour! (Ages 60+) at Library (FH)
DESCRIPTION:Registration is preferred. \nAre you an adult 60+ looking for fun and an opportunity to socialize? Check out the library’s new program specifically for you! There will be crafts\, music\, games\, puzzles\, coffee\, and light refreshments. Make some friends while having fun! FCL’s Senior Outreach Librarian will also be available to answer questions about the Library. Drop-in anytime between 10:30-noon every fourth Friday of the month. Caregivers are also welcome to attend.
URL:https://funinfarmington.com/event/senior-social-hour-ages-60-at-library-fh/2027-04-23/
LOCATION:Farmington Community Library – Farmington Hills Location\, 32737 W. 12 Mile Rd.\, Farmington Hills\, Michigan\, 48334
CATEGORIES:Community,Seniors
END:VEVENT
BEGIN:VEVENT
DTSTART;TZID=UTC:20270424T110000
DTEND;TZID=UTC:20270424T120000
DTSTAMP:20260420T110036
CREATED:20260110T192323Z
LAST-MODIFIED:20260110T192323Z
UID:10019110-1808564400-1808568000@funinfarmington.com
SUMMARY:Saturday STREAM (Grades K-5) at Library (Farmington)
DESCRIPTION:No registration is required. \nKids in grades K-5 can come to the Library and experiment with Science\, Technology\, Reading\, Engineering\, Art\, and Math concepts. We will have a selection of toys available for open-ended play and discovery.
URL:https://funinfarmington.com/event/saturday-stream-grades-k-5-at-library-farmington-2/2027-04-24/
LOCATION:Farmington Community Library – Farmington Location\, 23500 Liberty St.\, Farmington\, Michigan\, 48335
CATEGORIES:Art,Community,Educational,Kids & Families
END:VEVENT
BEGIN:VEVENT
DTSTART;TZID=UTC:20270427T183000
DTEND;TZID=UTC:20270427T193000
DTSTAMP:20260420T110036
CREATED:20260110T191855Z
LAST-MODIFIED:20260110T191855Z
UID:10019093-1808850600-1808854200@funinfarmington.com
SUMMARY:Drop-in Chess
DESCRIPTION:No registration is required. \nDrop in and play chess with friends or meet new players. Chess sets will be provided; instruction will not be provided.
URL:https://funinfarmington.com/event/drop-in-chess/2027-04-27/
LOCATION:Farmington Community Library – Farmington Hills Location\, 32737 W. 12 Mile Rd.\, Farmington Hills\, Michigan\, 48334
CATEGORIES:Community,Games,Kids & Families
END:VEVENT
BEGIN:VEVENT
DTSTART;TZID=UTC:20270428T183000
DTEND;TZID=UTC:20270428T191500
DTSTAMP:20260420T110036
CREATED:20260110T191407Z
LAST-MODIFIED:20260302T145452Z
UID:10019060-1808937000-1808939700@funinfarmington.com
SUMMARY:Paws for Reading at Library (FH)
DESCRIPTION:Registration is required. \nPractice your reading with a certified therapy dog!  The dog loves listening to readers and will cheer you on!  Please sign up for one 15-minute time slot per week.
URL:https://funinfarmington.com/event/paws-for-reading/2027-04-28/
LOCATION:Farmington Community Library – Farmington Hills Location\, 32737 W. 12 Mile Rd.\, Farmington Hills\, Michigan\, 48334
CATEGORIES:Community,Educational,Kids & Families
END:VEVENT
BEGIN:VEVENT
DTSTART;TZID=UTC:20270507T170000
DTEND;TZID=UTC:20270507T200000
DTSTAMP:20260420T110036
CREATED:20260418T211330Z
LAST-MODIFIED:20260418T211330Z
UID:10020526-1809709200-1809720000@funinfarmington.com
SUMMARY:First Friday at SkepSpace
DESCRIPTION:Join us every first Friday of the month from 5pm -8pm. Tour Artists’ studios\, contribute to a community art project\, meet our artists and learn about ongoing meetups and upcoming workshops. Enjoy music and light refreshments.
URL:https://funinfarmington.com/event/first-friday-at-skepspace/2027-05-07/
LOCATION:Skep Space\, 33018 Grand River Ave\, Farmington Hills\, Michigan\, 48336
CATEGORIES:Art,Community
END:VEVENT
BEGIN:VEVENT
DTSTART;TZID=UTC:20270528T103000
DTEND;TZID=UTC:20270528T120000
DTSTAMP:20260420T110036
CREATED:20260419T184602Z
LAST-MODIFIED:20260419T184602Z
UID:10020861-1811500200-1811505600@funinfarmington.com
SUMMARY:Senior Social Hour! (Ages 60+) at Library (FH)
DESCRIPTION:Registration is preferred. \nAre you an adult 60+ looking for fun and an opportunity to socialize? Check out the library’s new program specifically for you! There will be crafts\, music\, games\, puzzles\, coffee\, and light refreshments. Make some friends while having fun! FCL’s Senior Outreach Librarian will also be available to answer questions about the Library. Drop-in anytime between 10:30-noon every fourth Friday of the month. Caregivers are also welcome to attend.
URL:https://funinfarmington.com/event/senior-social-hour-ages-60-at-library-fh/2027-05-28/
LOCATION:Farmington Community Library – Farmington Hills Location\, 32737 W. 12 Mile Rd.\, Farmington Hills\, Michigan\, 48334
CATEGORIES:Community,Seniors
END:VEVENT
BEGIN:VEVENT
DTSTART;TZID=UTC:20270604T170000
DTEND;TZID=UTC:20270604T200000
DTSTAMP:20260420T110036
CREATED:20260418T211330Z
LAST-MODIFIED:20260418T211330Z
UID:10020527-1812128400-1812139200@funinfarmington.com
SUMMARY:First Friday at SkepSpace
DESCRIPTION:Join us every first Friday of the month from 5pm -8pm. Tour Artists’ studios\, contribute to a community art project\, meet our artists and learn about ongoing meetups and upcoming workshops. Enjoy music and light refreshments.
URL:https://funinfarmington.com/event/first-friday-at-skepspace/2027-06-04/
LOCATION:Skep Space\, 33018 Grand River Ave\, Farmington Hills\, Michigan\, 48336
CATEGORIES:Art,Community
END:VEVENT
BEGIN:VEVENT
DTSTART;TZID=UTC:20270625T103000
DTEND;TZID=UTC:20270625T120000
DTSTAMP:20260420T110036
CREATED:20260419T184602Z
LAST-MODIFIED:20260419T184602Z
UID:10020862-1813919400-1813924800@funinfarmington.com
SUMMARY:Senior Social Hour! (Ages 60+) at Library (FH)
DESCRIPTION:Registration is preferred. \nAre you an adult 60+ looking for fun and an opportunity to socialize? Check out the library’s new program specifically for you! There will be crafts\, music\, games\, puzzles\, coffee\, and light refreshments. Make some friends while having fun! FCL’s Senior Outreach Librarian will also be available to answer questions about the Library. Drop-in anytime between 10:30-noon every fourth Friday of the month. Caregivers are also welcome to attend.
URL:https://funinfarmington.com/event/senior-social-hour-ages-60-at-library-fh/2027-06-25/
LOCATION:Farmington Community Library – Farmington Hills Location\, 32737 W. 12 Mile Rd.\, Farmington Hills\, Michigan\, 48334
CATEGORIES:Community,Seniors
END:VEVENT
BEGIN:VEVENT
DTSTART;TZID=UTC:20270702T170000
DTEND;TZID=UTC:20270702T200000
DTSTAMP:20260420T110036
CREATED:20260418T211330Z
LAST-MODIFIED:20260418T211330Z
UID:10020528-1814547600-1814558400@funinfarmington.com
SUMMARY:First Friday at SkepSpace
DESCRIPTION:Join us every first Friday of the month from 5pm -8pm. Tour Artists’ studios\, contribute to a community art project\, meet our artists and learn about ongoing meetups and upcoming workshops. Enjoy music and light refreshments.
URL:https://funinfarmington.com/event/first-friday-at-skepspace/2027-07-02/
LOCATION:Skep Space\, 33018 Grand River Ave\, Farmington Hills\, Michigan\, 48336
CATEGORIES:Art,Community
END:VEVENT
BEGIN:VEVENT
DTSTART;TZID=UTC:20270723T103000
DTEND;TZID=UTC:20270723T120000
DTSTAMP:20260420T110036
CREATED:20260419T184602Z
LAST-MODIFIED:20260419T184602Z
UID:10020863-1816338600-1816344000@funinfarmington.com
SUMMARY:Senior Social Hour! (Ages 60+) at Library (FH)
DESCRIPTION:Registration is preferred. \nAre you an adult 60+ looking for fun and an opportunity to socialize? Check out the library’s new program specifically for you! There will be crafts\, music\, games\, puzzles\, coffee\, and light refreshments. Make some friends while having fun! FCL’s Senior Outreach Librarian will also be available to answer questions about the Library. Drop-in anytime between 10:30-noon every fourth Friday of the month. Caregivers are also welcome to attend.
URL:https://funinfarmington.com/event/senior-social-hour-ages-60-at-library-fh/2027-07-23/
LOCATION:Farmington Community Library – Farmington Hills Location\, 32737 W. 12 Mile Rd.\, Farmington Hills\, Michigan\, 48334
CATEGORIES:Community,Seniors
END:VEVENT
BEGIN:VEVENT
DTSTART;TZID=UTC:20270806T170000
DTEND;TZID=UTC:20270806T200000
DTSTAMP:20260420T110036
CREATED:20260418T211330Z
LAST-MODIFIED:20260418T211330Z
UID:10020529-1817571600-1817582400@funinfarmington.com
SUMMARY:First Friday at SkepSpace
DESCRIPTION:Join us every first Friday of the month from 5pm -8pm. Tour Artists’ studios\, contribute to a community art project\, meet our artists and learn about ongoing meetups and upcoming workshops. Enjoy music and light refreshments.
URL:https://funinfarmington.com/event/first-friday-at-skepspace/2027-08-06/
LOCATION:Skep Space\, 33018 Grand River Ave\, Farmington Hills\, Michigan\, 48336
CATEGORIES:Art,Community
END:VEVENT
BEGIN:VEVENT
DTSTART;TZID=UTC:20270827T103000
DTEND;TZID=UTC:20270827T120000
DTSTAMP:20260420T110036
CREATED:20260419T184602Z
LAST-MODIFIED:20260419T184602Z
UID:10020864-1819362600-1819368000@funinfarmington.com
SUMMARY:Senior Social Hour! (Ages 60+) at Library (FH)
DESCRIPTION:Registration is preferred. \nAre you an adult 60+ looking for fun and an opportunity to socialize? Check out the library’s new program specifically for you! There will be crafts\, music\, games\, puzzles\, coffee\, and light refreshments. Make some friends while having fun! FCL’s Senior Outreach Librarian will also be available to answer questions about the Library. Drop-in anytime between 10:30-noon every fourth Friday of the month. Caregivers are also welcome to attend.
URL:https://funinfarmington.com/event/senior-social-hour-ages-60-at-library-fh/2027-08-27/
LOCATION:Farmington Community Library – Farmington Hills Location\, 32737 W. 12 Mile Rd.\, Farmington Hills\, Michigan\, 48334
CATEGORIES:Community,Seniors
END:VEVENT
BEGIN:VEVENT
DTSTART;TZID=UTC:20270903T170000
DTEND;TZID=UTC:20270903T200000
DTSTAMP:20260420T110036
CREATED:20260418T211330Z
LAST-MODIFIED:20260418T211330Z
UID:10020530-1819990800-1820001600@funinfarmington.com
SUMMARY:First Friday at SkepSpace
DESCRIPTION:Join us every first Friday of the month from 5pm -8pm. Tour Artists’ studios\, contribute to a community art project\, meet our artists and learn about ongoing meetups and upcoming workshops. Enjoy music and light refreshments.
URL:https://funinfarmington.com/event/first-friday-at-skepspace/2027-09-03/
LOCATION:Skep Space\, 33018 Grand River Ave\, Farmington Hills\, Michigan\, 48336
CATEGORIES:Art,Community
END:VEVENT
BEGIN:VEVENT
DTSTART;TZID=UTC:20270924T103000
DTEND;TZID=UTC:20270924T120000
DTSTAMP:20260420T110036
CREATED:20260419T184602Z
LAST-MODIFIED:20260419T184602Z
UID:10020865-1821781800-1821787200@funinfarmington.com
SUMMARY:Senior Social Hour! (Ages 60+) at Library (FH)
DESCRIPTION:Registration is preferred. \nAre you an adult 60+ looking for fun and an opportunity to socialize? Check out the library’s new program specifically for you! There will be crafts\, music\, games\, puzzles\, coffee\, and light refreshments. Make some friends while having fun! FCL’s Senior Outreach Librarian will also be available to answer questions about the Library. Drop-in anytime between 10:30-noon every fourth Friday of the month. Caregivers are also welcome to attend.
URL:https://funinfarmington.com/event/senior-social-hour-ages-60-at-library-fh/2027-09-24/
LOCATION:Farmington Community Library – Farmington Hills Location\, 32737 W. 12 Mile Rd.\, Farmington Hills\, Michigan\, 48334
CATEGORIES:Community,Seniors
END:VEVENT
BEGIN:VEVENT
DTSTART;TZID=UTC:20271001T170000
DTEND;TZID=UTC:20271001T200000
DTSTAMP:20260420T110036
CREATED:20260418T211330Z
LAST-MODIFIED:20260418T211330Z
UID:10020531-1822410000-1822420800@funinfarmington.com
SUMMARY:First Friday at SkepSpace
DESCRIPTION:Join us every first Friday of the month from 5pm -8pm. Tour Artists’ studios\, contribute to a community art project\, meet our artists and learn about ongoing meetups and upcoming workshops. Enjoy music and light refreshments.
URL:https://funinfarmington.com/event/first-friday-at-skepspace/2027-10-01/
LOCATION:Skep Space\, 33018 Grand River Ave\, Farmington Hills\, Michigan\, 48336
CATEGORIES:Art,Community
END:VEVENT
BEGIN:VEVENT
DTSTART;TZID=UTC:20271022T103000
DTEND;TZID=UTC:20271022T120000
DTSTAMP:20260420T110036
CREATED:20260419T184602Z
LAST-MODIFIED:20260419T184602Z
UID:10020866-1824201000-1824206400@funinfarmington.com
SUMMARY:Senior Social Hour! (Ages 60+) at Library (FH)
DESCRIPTION:Registration is preferred. \nAre you an adult 60+ looking for fun and an opportunity to socialize? Check out the library’s new program specifically for you! There will be crafts\, music\, games\, puzzles\, coffee\, and light refreshments. Make some friends while having fun! FCL’s Senior Outreach Librarian will also be available to answer questions about the Library. Drop-in anytime between 10:30-noon every fourth Friday of the month. Caregivers are also welcome to attend.
URL:https://funinfarmington.com/event/senior-social-hour-ages-60-at-library-fh/2027-10-22/
LOCATION:Farmington Community Library – Farmington Hills Location\, 32737 W. 12 Mile Rd.\, Farmington Hills\, Michigan\, 48334
CATEGORIES:Community,Seniors
END:VEVENT
BEGIN:VEVENT
DTSTART;TZID=UTC:20271105T170000
DTEND;TZID=UTC:20271105T200000
DTSTAMP:20260420T110036
CREATED:20260418T211330Z
LAST-MODIFIED:20260418T211330Z
UID:10020532-1825434000-1825444800@funinfarmington.com
SUMMARY:First Friday at SkepSpace
DESCRIPTION:Join us every first Friday of the month from 5pm -8pm. Tour Artists’ studios\, contribute to a community art project\, meet our artists and learn about ongoing meetups and upcoming workshops. Enjoy music and light refreshments.
URL:https://funinfarmington.com/event/first-friday-at-skepspace/2027-11-05/
LOCATION:Skep Space\, 33018 Grand River Ave\, Farmington Hills\, Michigan\, 48336
CATEGORIES:Art,Community
END:VEVENT
BEGIN:VEVENT
DTSTART;TZID=UTC:20271126T103000
DTEND;TZID=UTC:20271126T120000
DTSTAMP:20260420T110036
CREATED:20260419T184602Z
LAST-MODIFIED:20260419T184602Z
UID:10020867-1827225000-1827230400@funinfarmington.com
SUMMARY:Senior Social Hour! (Ages 60+) at Library (FH)
DESCRIPTION:Registration is preferred. \nAre you an adult 60+ looking for fun and an opportunity to socialize? Check out the library’s new program specifically for you! There will be crafts\, music\, games\, puzzles\, coffee\, and light refreshments. Make some friends while having fun! FCL’s Senior Outreach Librarian will also be available to answer questions about the Library. Drop-in anytime between 10:30-noon every fourth Friday of the month. Caregivers are also welcome to attend.
URL:https://funinfarmington.com/event/senior-social-hour-ages-60-at-library-fh/2027-11-26/
LOCATION:Farmington Community Library – Farmington Hills Location\, 32737 W. 12 Mile Rd.\, Farmington Hills\, Michigan\, 48334
CATEGORIES:Community,Seniors
END:VEVENT
BEGIN:VEVENT
DTSTART;TZID=UTC:20271203T170000
DTEND;TZID=UTC:20271203T200000
DTSTAMP:20260420T110036
CREATED:20260418T211330Z
LAST-MODIFIED:20260418T211330Z
UID:10020533-1827853200-1827864000@funinfarmington.com
SUMMARY:First Friday at SkepSpace
DESCRIPTION:Join us every first Friday of the month from 5pm -8pm. Tour Artists’ studios\, contribute to a community art project\, meet our artists and learn about ongoing meetups and upcoming workshops. Enjoy music and light refreshments.
URL:https://funinfarmington.com/event/first-friday-at-skepspace/2027-12-03/
LOCATION:Skep Space\, 33018 Grand River Ave\, Farmington Hills\, Michigan\, 48336
CATEGORIES:Art,Community
END:VEVENT
BEGIN:VEVENT
DTSTART;TZID=UTC:20271224T103000
DTEND;TZID=UTC:20271224T120000
DTSTAMP:20260420T110036
CREATED:20260419T184602Z
LAST-MODIFIED:20260419T184602Z
UID:10020868-1829644200-1829649600@funinfarmington.com
SUMMARY:Senior Social Hour! (Ages 60+) at Library (FH)
DESCRIPTION:Registration is preferred. \nAre you an adult 60+ looking for fun and an opportunity to socialize? Check out the library’s new program specifically for you! There will be crafts\, music\, games\, puzzles\, coffee\, and light refreshments. Make some friends while having fun! FCL’s Senior Outreach Librarian will also be available to answer questions about the Library. Drop-in anytime between 10:30-noon every fourth Friday of the month. Caregivers are also welcome to attend.
URL:https://funinfarmington.com/event/senior-social-hour-ages-60-at-library-fh/2027-12-24/
LOCATION:Farmington Community Library – Farmington Hills Location\, 32737 W. 12 Mile Rd.\, Farmington Hills\, Michigan\, 48334
CATEGORIES:Community,Seniors
END:VEVENT
BEGIN:VEVENT
DTSTART;TZID=UTC:20280107T170000
DTEND;TZID=UTC:20280107T200000
DTSTAMP:20260420T110036
CREATED:20260418T211330Z
LAST-MODIFIED:20260418T211330Z
UID:10020534-1830877200-1830888000@funinfarmington.com
SUMMARY:First Friday at SkepSpace
DESCRIPTION:Join us every first Friday of the month from 5pm -8pm. Tour Artists’ studios\, contribute to a community art project\, meet our artists and learn about ongoing meetups and upcoming workshops. Enjoy music and light refreshments.
URL:https://funinfarmington.com/event/first-friday-at-skepspace/2028-01-07/
LOCATION:Skep Space\, 33018 Grand River Ave\, Farmington Hills\, Michigan\, 48336
CATEGORIES:Art,Community
END:VEVENT
BEGIN:VEVENT
DTSTART;TZID=UTC:20280128T103000
DTEND;TZID=UTC:20280128T120000
DTSTAMP:20260420T110036
CREATED:20260419T184602Z
LAST-MODIFIED:20260419T184602Z
UID:10020869-1832668200-1832673600@funinfarmington.com
SUMMARY:Senior Social Hour! (Ages 60+) at Library (FH)
DESCRIPTION:Registration is preferred. \nAre you an adult 60+ looking for fun and an opportunity to socialize? Check out the library’s new program specifically for you! There will be crafts\, music\, games\, puzzles\, coffee\, and light refreshments. Make some friends while having fun! FCL’s Senior Outreach Librarian will also be available to answer questions about the Library. Drop-in anytime between 10:30-noon every fourth Friday of the month. Caregivers are also welcome to attend.
URL:https://funinfarmington.com/event/senior-social-hour-ages-60-at-library-fh/2028-01-28/
LOCATION:Farmington Community Library – Farmington Hills Location\, 32737 W. 12 Mile Rd.\, Farmington Hills\, Michigan\, 48334
CATEGORIES:Community,Seniors
END:VEVENT
BEGIN:VEVENT
DTSTART;TZID=UTC:20280204T170000
DTEND;TZID=UTC:20280204T200000
DTSTAMP:20260420T110036
CREATED:20260418T211330Z
LAST-MODIFIED:20260418T211330Z
UID:10020535-1833296400-1833307200@funinfarmington.com
SUMMARY:First Friday at SkepSpace
DESCRIPTION:Join us every first Friday of the month from 5pm -8pm. Tour Artists’ studios\, contribute to a community art project\, meet our artists and learn about ongoing meetups and upcoming workshops. Enjoy music and light refreshments.
URL:https://funinfarmington.com/event/first-friday-at-skepspace/2028-02-04/
LOCATION:Skep Space\, 33018 Grand River Ave\, Farmington Hills\, Michigan\, 48336
CATEGORIES:Art,Community
END:VEVENT
BEGIN:VEVENT
DTSTART;TZID=UTC:20280225T103000
DTEND;TZID=UTC:20280225T120000
DTSTAMP:20260420T110036
CREATED:20260419T184602Z
LAST-MODIFIED:20260419T184602Z
UID:10020870-1835087400-1835092800@funinfarmington.com
SUMMARY:Senior Social Hour! (Ages 60+) at Library (FH)
DESCRIPTION:Registration is preferred. \nAre you an adult 60+ looking for fun and an opportunity to socialize? Check out the library’s new program specifically for you! There will be crafts\, music\, games\, puzzles\, coffee\, and light refreshments. Make some friends while having fun! FCL’s Senior Outreach Librarian will also be available to answer questions about the Library. Drop-in anytime between 10:30-noon every fourth Friday of the month. Caregivers are also welcome to attend.
URL:https://funinfarmington.com/event/senior-social-hour-ages-60-at-library-fh/2028-02-25/
LOCATION:Farmington Community Library – Farmington Hills Location\, 32737 W. 12 Mile Rd.\, Farmington Hills\, Michigan\, 48334
CATEGORIES:Community,Seniors
END:VEVENT
BEGIN:VEVENT
DTSTART;TZID=UTC:20280303T170000
DTEND;TZID=UTC:20280303T200000
DTSTAMP:20260420T110036
CREATED:20260418T211330Z
LAST-MODIFIED:20260418T211330Z
UID:10020536-1835715600-1835726400@funinfarmington.com
SUMMARY:First Friday at SkepSpace
DESCRIPTION:Join us every first Friday of the month from 5pm -8pm. Tour Artists’ studios\, contribute to a community art project\, meet our artists and learn about ongoing meetups and upcoming workshops. Enjoy music and light refreshments.
URL:https://funinfarmington.com/event/first-friday-at-skepspace/2028-03-03/
LOCATION:Skep Space\, 33018 Grand River Ave\, Farmington Hills\, Michigan\, 48336
CATEGORIES:Art,Community
END:VEVENT
END:VCALENDAR