BEGIN:VCALENDAR
VERSION:2.0
PRODID:-//Fun in Farmington - ECPv6.15.20//NONSGML v1.0//EN
CALSCALE:GREGORIAN
METHOD:PUBLISH
X-ORIGINAL-URL:https://funinfarmington.com
X-WR-CALDESC:Events for Fun in Farmington
REFRESH-INTERVAL;VALUE=DURATION:PT1H
X-Robots-Tag:noindex
X-PUBLISHED-TTL:PT1H
BEGIN:VTIMEZONE
TZID:UTC
BEGIN:STANDARD
TZOFFSETFROM:+0000
TZOFFSETTO:+0000
TZNAME:UTC
DTSTART:20270101T000000
END:STANDARD
END:VTIMEZONE
BEGIN:VEVENT
DTSTART;TZID=UTC:20280707T170000
DTEND;TZID=UTC:20280707T200000
DTSTAMP:20260424T113911
CREATED:20260418T211330Z
LAST-MODIFIED:20260418T211330Z
UID:10020540-1846602000-1846612800@funinfarmington.com
SUMMARY:First Friday at SkepSpace
DESCRIPTION:Join us every first Friday of the month from 5pm -8pm. Tour Artists’ studios\, contribute to a community art project\, meet our artists and learn about ongoing meetups and upcoming workshops. Enjoy music and light refreshments.
URL:https://funinfarmington.com/event/first-friday-at-skepspace/2028-07-07/
LOCATION:Skep Space\, 33018 Grand River Ave\, Farmington Hills\, Michigan\, 48336
CATEGORIES:Art,Community
END:VEVENT
BEGIN:VEVENT
DTSTART;TZID=UTC:20280728T103000
DTEND;TZID=UTC:20280728T120000
DTSTAMP:20260424T113911
CREATED:20260419T184602Z
LAST-MODIFIED:20260419T184602Z
UID:10020875-1848393000-1848398400@funinfarmington.com
SUMMARY:Senior Social Hour! (Ages 60+) at Library (FH)
DESCRIPTION:Registration is preferred. \nAre you an adult 60+ looking for fun and an opportunity to socialize? Check out the library’s new program specifically for you! There will be crafts\, music\, games\, puzzles\, coffee\, and light refreshments. Make some friends while having fun! FCL’s Senior Outreach Librarian will also be available to answer questions about the Library. Drop-in anytime between 10:30-noon every fourth Friday of the month. Caregivers are also welcome to attend.
URL:https://funinfarmington.com/event/senior-social-hour-ages-60-at-library-fh/2028-07-28/
LOCATION:Farmington Community Library – Farmington Hills Location\, 32737 W. 12 Mile Rd.\, Farmington Hills\, Michigan\, 48334
CATEGORIES:Community,Seniors
END:VEVENT
BEGIN:VEVENT
DTSTART;TZID=UTC:20280804T170000
DTEND;TZID=UTC:20280804T200000
DTSTAMP:20260424T113911
CREATED:20260418T211330Z
LAST-MODIFIED:20260418T211330Z
UID:10020541-1849021200-1849032000@funinfarmington.com
SUMMARY:First Friday at SkepSpace
DESCRIPTION:Join us every first Friday of the month from 5pm -8pm. Tour Artists’ studios\, contribute to a community art project\, meet our artists and learn about ongoing meetups and upcoming workshops. Enjoy music and light refreshments.
URL:https://funinfarmington.com/event/first-friday-at-skepspace/2028-08-04/
LOCATION:Skep Space\, 33018 Grand River Ave\, Farmington Hills\, Michigan\, 48336
CATEGORIES:Art,Community
END:VEVENT
BEGIN:VEVENT
DTSTART;TZID=UTC:20280825T103000
DTEND;TZID=UTC:20280825T120000
DTSTAMP:20260424T113911
CREATED:20260419T184602Z
LAST-MODIFIED:20260419T184602Z
UID:10020876-1850812200-1850817600@funinfarmington.com
SUMMARY:Senior Social Hour! (Ages 60+) at Library (FH)
DESCRIPTION:Registration is preferred. \nAre you an adult 60+ looking for fun and an opportunity to socialize? Check out the library’s new program specifically for you! There will be crafts\, music\, games\, puzzles\, coffee\, and light refreshments. Make some friends while having fun! FCL’s Senior Outreach Librarian will also be available to answer questions about the Library. Drop-in anytime between 10:30-noon every fourth Friday of the month. Caregivers are also welcome to attend.
URL:https://funinfarmington.com/event/senior-social-hour-ages-60-at-library-fh/2028-08-25/
LOCATION:Farmington Community Library – Farmington Hills Location\, 32737 W. 12 Mile Rd.\, Farmington Hills\, Michigan\, 48334
CATEGORIES:Community,Seniors
END:VEVENT
BEGIN:VEVENT
DTSTART;TZID=UTC:20280901T170000
DTEND;TZID=UTC:20280901T200000
DTSTAMP:20260424T113911
CREATED:20260418T211330Z
LAST-MODIFIED:20260418T211330Z
UID:10020542-1851440400-1851451200@funinfarmington.com
SUMMARY:First Friday at SkepSpace
DESCRIPTION:Join us every first Friday of the month from 5pm -8pm. Tour Artists’ studios\, contribute to a community art project\, meet our artists and learn about ongoing meetups and upcoming workshops. Enjoy music and light refreshments.
URL:https://funinfarmington.com/event/first-friday-at-skepspace/2028-09-01/
LOCATION:Skep Space\, 33018 Grand River Ave\, Farmington Hills\, Michigan\, 48336
CATEGORIES:Art,Community
END:VEVENT
BEGIN:VEVENT
DTSTART;TZID=UTC:20280922T103000
DTEND;TZID=UTC:20280922T120000
DTSTAMP:20260424T113911
CREATED:20260419T184602Z
LAST-MODIFIED:20260419T184602Z
UID:10020877-1853231400-1853236800@funinfarmington.com
SUMMARY:Senior Social Hour! (Ages 60+) at Library (FH)
DESCRIPTION:Registration is preferred. \nAre you an adult 60+ looking for fun and an opportunity to socialize? Check out the library’s new program specifically for you! There will be crafts\, music\, games\, puzzles\, coffee\, and light refreshments. Make some friends while having fun! FCL’s Senior Outreach Librarian will also be available to answer questions about the Library. Drop-in anytime between 10:30-noon every fourth Friday of the month. Caregivers are also welcome to attend.
URL:https://funinfarmington.com/event/senior-social-hour-ages-60-at-library-fh/2028-09-22/
LOCATION:Farmington Community Library – Farmington Hills Location\, 32737 W. 12 Mile Rd.\, Farmington Hills\, Michigan\, 48334
CATEGORIES:Community,Seniors
END:VEVENT
BEGIN:VEVENT
DTSTART;TZID=UTC:20281006T170000
DTEND;TZID=UTC:20281006T200000
DTSTAMP:20260424T113911
CREATED:20260418T211330Z
LAST-MODIFIED:20260418T211330Z
UID:10020543-1854464400-1854475200@funinfarmington.com
SUMMARY:First Friday at SkepSpace
DESCRIPTION:Join us every first Friday of the month from 5pm -8pm. Tour Artists’ studios\, contribute to a community art project\, meet our artists and learn about ongoing meetups and upcoming workshops. Enjoy music and light refreshments.
URL:https://funinfarmington.com/event/first-friday-at-skepspace/2028-10-06/
LOCATION:Skep Space\, 33018 Grand River Ave\, Farmington Hills\, Michigan\, 48336
CATEGORIES:Art,Community
END:VEVENT
BEGIN:VEVENT
DTSTART;TZID=UTC:20281027T103000
DTEND;TZID=UTC:20281027T120000
DTSTAMP:20260424T113911
CREATED:20260419T184602Z
LAST-MODIFIED:20260419T184602Z
UID:10020878-1856255400-1856260800@funinfarmington.com
SUMMARY:Senior Social Hour! (Ages 60+) at Library (FH)
DESCRIPTION:Registration is preferred. \nAre you an adult 60+ looking for fun and an opportunity to socialize? Check out the library’s new program specifically for you! There will be crafts\, music\, games\, puzzles\, coffee\, and light refreshments. Make some friends while having fun! FCL’s Senior Outreach Librarian will also be available to answer questions about the Library. Drop-in anytime between 10:30-noon every fourth Friday of the month. Caregivers are also welcome to attend.
URL:https://funinfarmington.com/event/senior-social-hour-ages-60-at-library-fh/2028-10-27/
LOCATION:Farmington Community Library – Farmington Hills Location\, 32737 W. 12 Mile Rd.\, Farmington Hills\, Michigan\, 48334
CATEGORIES:Community,Seniors
END:VEVENT
BEGIN:VEVENT
DTSTART;TZID=UTC:20281103T170000
DTEND;TZID=UTC:20281103T200000
DTSTAMP:20260424T113911
CREATED:20260418T211330Z
LAST-MODIFIED:20260418T211330Z
UID:10020544-1856883600-1856894400@funinfarmington.com
SUMMARY:First Friday at SkepSpace
DESCRIPTION:Join us every first Friday of the month from 5pm -8pm. Tour Artists’ studios\, contribute to a community art project\, meet our artists and learn about ongoing meetups and upcoming workshops. Enjoy music and light refreshments.
URL:https://funinfarmington.com/event/first-friday-at-skepspace/2028-11-03/
LOCATION:Skep Space\, 33018 Grand River Ave\, Farmington Hills\, Michigan\, 48336
CATEGORIES:Art,Community
END:VEVENT
BEGIN:VEVENT
DTSTART;TZID=UTC:20281124T103000
DTEND;TZID=UTC:20281124T120000
DTSTAMP:20260424T113911
CREATED:20260419T184602Z
LAST-MODIFIED:20260419T184602Z
UID:10020879-1858674600-1858680000@funinfarmington.com
SUMMARY:Senior Social Hour! (Ages 60+) at Library (FH)
DESCRIPTION:Registration is preferred. \nAre you an adult 60+ looking for fun and an opportunity to socialize? Check out the library’s new program specifically for you! There will be crafts\, music\, games\, puzzles\, coffee\, and light refreshments. Make some friends while having fun! FCL’s Senior Outreach Librarian will also be available to answer questions about the Library. Drop-in anytime between 10:30-noon every fourth Friday of the month. Caregivers are also welcome to attend.
URL:https://funinfarmington.com/event/senior-social-hour-ages-60-at-library-fh/2028-11-24/
LOCATION:Farmington Community Library – Farmington Hills Location\, 32737 W. 12 Mile Rd.\, Farmington Hills\, Michigan\, 48334
CATEGORIES:Community,Seniors
END:VEVENT
BEGIN:VEVENT
DTSTART;TZID=UTC:20281201T170000
DTEND;TZID=UTC:20281201T200000
DTSTAMP:20260424T113911
CREATED:20260418T211330Z
LAST-MODIFIED:20260418T211330Z
UID:10020545-1859302800-1859313600@funinfarmington.com
SUMMARY:First Friday at SkepSpace
DESCRIPTION:Join us every first Friday of the month from 5pm -8pm. Tour Artists’ studios\, contribute to a community art project\, meet our artists and learn about ongoing meetups and upcoming workshops. Enjoy music and light refreshments.
URL:https://funinfarmington.com/event/first-friday-at-skepspace/2028-12-01/
LOCATION:Skep Space\, 33018 Grand River Ave\, Farmington Hills\, Michigan\, 48336
CATEGORIES:Art,Community
END:VEVENT
BEGIN:VEVENT
DTSTART;TZID=UTC:20281222T103000
DTEND;TZID=UTC:20281222T120000
DTSTAMP:20260424T113911
CREATED:20260419T184602Z
LAST-MODIFIED:20260419T184602Z
UID:10020880-1861093800-1861099200@funinfarmington.com
SUMMARY:Senior Social Hour! (Ages 60+) at Library (FH)
DESCRIPTION:Registration is preferred. \nAre you an adult 60+ looking for fun and an opportunity to socialize? Check out the library’s new program specifically for you! There will be crafts\, music\, games\, puzzles\, coffee\, and light refreshments. Make some friends while having fun! FCL’s Senior Outreach Librarian will also be available to answer questions about the Library. Drop-in anytime between 10:30-noon every fourth Friday of the month. Caregivers are also welcome to attend.
URL:https://funinfarmington.com/event/senior-social-hour-ages-60-at-library-fh/2028-12-22/
LOCATION:Farmington Community Library – Farmington Hills Location\, 32737 W. 12 Mile Rd.\, Farmington Hills\, Michigan\, 48334
CATEGORIES:Community,Seniors
END:VEVENT
BEGIN:VEVENT
DTSTART;TZID=UTC:20290105T170000
DTEND;TZID=UTC:20290105T200000
DTSTAMP:20260424T113911
CREATED:20260418T211330Z
LAST-MODIFIED:20260418T211330Z
UID:10020546-1862326800-1862337600@funinfarmington.com
SUMMARY:First Friday at SkepSpace
DESCRIPTION:Join us every first Friday of the month from 5pm -8pm. Tour Artists’ studios\, contribute to a community art project\, meet our artists and learn about ongoing meetups and upcoming workshops. Enjoy music and light refreshments.
URL:https://funinfarmington.com/event/first-friday-at-skepspace/2029-01-05/
LOCATION:Skep Space\, 33018 Grand River Ave\, Farmington Hills\, Michigan\, 48336
CATEGORIES:Art,Community
END:VEVENT
BEGIN:VEVENT
DTSTART;TZID=UTC:20290126T103000
DTEND;TZID=UTC:20290126T120000
DTSTAMP:20260424T113911
CREATED:20260419T184602Z
LAST-MODIFIED:20260419T184602Z
UID:10020881-1864117800-1864123200@funinfarmington.com
SUMMARY:Senior Social Hour! (Ages 60+) at Library (FH)
DESCRIPTION:Registration is preferred. \nAre you an adult 60+ looking for fun and an opportunity to socialize? Check out the library’s new program specifically for you! There will be crafts\, music\, games\, puzzles\, coffee\, and light refreshments. Make some friends while having fun! FCL’s Senior Outreach Librarian will also be available to answer questions about the Library. Drop-in anytime between 10:30-noon every fourth Friday of the month. Caregivers are also welcome to attend.
URL:https://funinfarmington.com/event/senior-social-hour-ages-60-at-library-fh/2029-01-26/
LOCATION:Farmington Community Library – Farmington Hills Location\, 32737 W. 12 Mile Rd.\, Farmington Hills\, Michigan\, 48334
CATEGORIES:Community,Seniors
END:VEVENT
BEGIN:VEVENT
DTSTART;TZID=UTC:20290202T170000
DTEND;TZID=UTC:20290202T200000
DTSTAMP:20260424T113911
CREATED:20260418T211330Z
LAST-MODIFIED:20260418T211330Z
UID:10020547-1864746000-1864756800@funinfarmington.com
SUMMARY:First Friday at SkepSpace
DESCRIPTION:Join us every first Friday of the month from 5pm -8pm. Tour Artists’ studios\, contribute to a community art project\, meet our artists and learn about ongoing meetups and upcoming workshops. Enjoy music and light refreshments.
URL:https://funinfarmington.com/event/first-friday-at-skepspace/2029-02-02/
LOCATION:Skep Space\, 33018 Grand River Ave\, Farmington Hills\, Michigan\, 48336
CATEGORIES:Art,Community
END:VEVENT
BEGIN:VEVENT
DTSTART;TZID=UTC:20290223T103000
DTEND;TZID=UTC:20290223T120000
DTSTAMP:20260424T113911
CREATED:20260419T184602Z
LAST-MODIFIED:20260419T184602Z
UID:10020882-1866537000-1866542400@funinfarmington.com
SUMMARY:Senior Social Hour! (Ages 60+) at Library (FH)
DESCRIPTION:Registration is preferred. \nAre you an adult 60+ looking for fun and an opportunity to socialize? Check out the library’s new program specifically for you! There will be crafts\, music\, games\, puzzles\, coffee\, and light refreshments. Make some friends while having fun! FCL’s Senior Outreach Librarian will also be available to answer questions about the Library. Drop-in anytime between 10:30-noon every fourth Friday of the month. Caregivers are also welcome to attend.
URL:https://funinfarmington.com/event/senior-social-hour-ages-60-at-library-fh/2029-02-23/
LOCATION:Farmington Community Library – Farmington Hills Location\, 32737 W. 12 Mile Rd.\, Farmington Hills\, Michigan\, 48334
CATEGORIES:Community,Seniors
END:VEVENT
BEGIN:VEVENT
DTSTART;TZID=UTC:20290302T170000
DTEND;TZID=UTC:20290302T200000
DTSTAMP:20260424T113911
CREATED:20260418T211330Z
LAST-MODIFIED:20260418T211330Z
UID:10020548-1867165200-1867176000@funinfarmington.com
SUMMARY:First Friday at SkepSpace
DESCRIPTION:Join us every first Friday of the month from 5pm -8pm. Tour Artists’ studios\, contribute to a community art project\, meet our artists and learn about ongoing meetups and upcoming workshops. Enjoy music and light refreshments.
URL:https://funinfarmington.com/event/first-friday-at-skepspace/2029-03-02/
LOCATION:Skep Space\, 33018 Grand River Ave\, Farmington Hills\, Michigan\, 48336
CATEGORIES:Art,Community
END:VEVENT
BEGIN:VEVENT
DTSTART;TZID=UTC:20290323T103000
DTEND;TZID=UTC:20290323T120000
DTSTAMP:20260424T113911
CREATED:20260419T184602Z
LAST-MODIFIED:20260419T184602Z
UID:10020883-1868956200-1868961600@funinfarmington.com
SUMMARY:Senior Social Hour! (Ages 60+) at Library (FH)
DESCRIPTION:Registration is preferred. \nAre you an adult 60+ looking for fun and an opportunity to socialize? Check out the library’s new program specifically for you! There will be crafts\, music\, games\, puzzles\, coffee\, and light refreshments. Make some friends while having fun! FCL’s Senior Outreach Librarian will also be available to answer questions about the Library. Drop-in anytime between 10:30-noon every fourth Friday of the month. Caregivers are also welcome to attend.
URL:https://funinfarmington.com/event/senior-social-hour-ages-60-at-library-fh/2029-03-23/
LOCATION:Farmington Community Library – Farmington Hills Location\, 32737 W. 12 Mile Rd.\, Farmington Hills\, Michigan\, 48334
CATEGORIES:Community,Seniors
END:VEVENT
BEGIN:VEVENT
DTSTART;TZID=UTC:20290406T170000
DTEND;TZID=UTC:20290406T200000
DTSTAMP:20260424T113911
CREATED:20260418T211330Z
LAST-MODIFIED:20260418T211330Z
UID:10020549-1870189200-1870200000@funinfarmington.com
SUMMARY:First Friday at SkepSpace
DESCRIPTION:Join us every first Friday of the month from 5pm -8pm. Tour Artists’ studios\, contribute to a community art project\, meet our artists and learn about ongoing meetups and upcoming workshops. Enjoy music and light refreshments.
URL:https://funinfarmington.com/event/first-friday-at-skepspace/2029-04-06/
LOCATION:Skep Space\, 33018 Grand River Ave\, Farmington Hills\, Michigan\, 48336
CATEGORIES:Art,Community
END:VEVENT
BEGIN:VEVENT
DTSTART;TZID=UTC:20290427T103000
DTEND;TZID=UTC:20290427T120000
DTSTAMP:20260424T113911
CREATED:20260419T184602Z
LAST-MODIFIED:20260419T184602Z
UID:10020884-1871980200-1871985600@funinfarmington.com
SUMMARY:Senior Social Hour! (Ages 60+) at Library (FH)
DESCRIPTION:Registration is preferred. \nAre you an adult 60+ looking for fun and an opportunity to socialize? Check out the library’s new program specifically for you! There will be crafts\, music\, games\, puzzles\, coffee\, and light refreshments. Make some friends while having fun! FCL’s Senior Outreach Librarian will also be available to answer questions about the Library. Drop-in anytime between 10:30-noon every fourth Friday of the month. Caregivers are also welcome to attend.
URL:https://funinfarmington.com/event/senior-social-hour-ages-60-at-library-fh/2029-04-27/
LOCATION:Farmington Community Library – Farmington Hills Location\, 32737 W. 12 Mile Rd.\, Farmington Hills\, Michigan\, 48334
CATEGORIES:Community,Seniors
END:VEVENT
BEGIN:VEVENT
DTSTART;TZID=UTC:20290504T170000
DTEND;TZID=UTC:20290504T200000
DTSTAMP:20260424T113911
CREATED:20260418T211330Z
LAST-MODIFIED:20260418T211330Z
UID:10020550-1872608400-1872619200@funinfarmington.com
SUMMARY:First Friday at SkepSpace
DESCRIPTION:Join us every first Friday of the month from 5pm -8pm. Tour Artists’ studios\, contribute to a community art project\, meet our artists and learn about ongoing meetups and upcoming workshops. Enjoy music and light refreshments.
URL:https://funinfarmington.com/event/first-friday-at-skepspace/2029-05-04/
LOCATION:Skep Space\, 33018 Grand River Ave\, Farmington Hills\, Michigan\, 48336
CATEGORIES:Art,Community
END:VEVENT
BEGIN:VEVENT
DTSTART;TZID=UTC:20290525T103000
DTEND;TZID=UTC:20290525T120000
DTSTAMP:20260424T113911
CREATED:20260419T184602Z
LAST-MODIFIED:20260419T184602Z
UID:10020885-1874399400-1874404800@funinfarmington.com
SUMMARY:Senior Social Hour! (Ages 60+) at Library (FH)
DESCRIPTION:Registration is preferred. \nAre you an adult 60+ looking for fun and an opportunity to socialize? Check out the library’s new program specifically for you! There will be crafts\, music\, games\, puzzles\, coffee\, and light refreshments. Make some friends while having fun! FCL’s Senior Outreach Librarian will also be available to answer questions about the Library. Drop-in anytime between 10:30-noon every fourth Friday of the month. Caregivers are also welcome to attend.
URL:https://funinfarmington.com/event/senior-social-hour-ages-60-at-library-fh/2029-05-25/
LOCATION:Farmington Community Library – Farmington Hills Location\, 32737 W. 12 Mile Rd.\, Farmington Hills\, Michigan\, 48334
CATEGORIES:Community,Seniors
END:VEVENT
BEGIN:VEVENT
DTSTART;TZID=UTC:20290601T170000
DTEND;TZID=UTC:20290601T200000
DTSTAMP:20260424T113911
CREATED:20260418T211330Z
LAST-MODIFIED:20260418T211330Z
UID:10020551-1875027600-1875038400@funinfarmington.com
SUMMARY:First Friday at SkepSpace
DESCRIPTION:Join us every first Friday of the month from 5pm -8pm. Tour Artists’ studios\, contribute to a community art project\, meet our artists and learn about ongoing meetups and upcoming workshops. Enjoy music and light refreshments.
URL:https://funinfarmington.com/event/first-friday-at-skepspace/2029-06-01/
LOCATION:Skep Space\, 33018 Grand River Ave\, Farmington Hills\, Michigan\, 48336
CATEGORIES:Art,Community
END:VEVENT
BEGIN:VEVENT
DTSTART;TZID=UTC:20290622T103000
DTEND;TZID=UTC:20290622T120000
DTSTAMP:20260424T113911
CREATED:20260419T184602Z
LAST-MODIFIED:20260419T184602Z
UID:10020886-1876818600-1876824000@funinfarmington.com
SUMMARY:Senior Social Hour! (Ages 60+) at Library (FH)
DESCRIPTION:Registration is preferred. \nAre you an adult 60+ looking for fun and an opportunity to socialize? Check out the library’s new program specifically for you! There will be crafts\, music\, games\, puzzles\, coffee\, and light refreshments. Make some friends while having fun! FCL’s Senior Outreach Librarian will also be available to answer questions about the Library. Drop-in anytime between 10:30-noon every fourth Friday of the month. Caregivers are also welcome to attend.
URL:https://funinfarmington.com/event/senior-social-hour-ages-60-at-library-fh/2029-06-22/
LOCATION:Farmington Community Library – Farmington Hills Location\, 32737 W. 12 Mile Rd.\, Farmington Hills\, Michigan\, 48334
CATEGORIES:Community,Seniors
END:VEVENT
BEGIN:VEVENT
DTSTART;TZID=UTC:20290706T170000
DTEND;TZID=UTC:20290706T200000
DTSTAMP:20260424T113911
CREATED:20260418T211330Z
LAST-MODIFIED:20260418T211330Z
UID:10020552-1878051600-1878062400@funinfarmington.com
SUMMARY:First Friday at SkepSpace
DESCRIPTION:Join us every first Friday of the month from 5pm -8pm. Tour Artists’ studios\, contribute to a community art project\, meet our artists and learn about ongoing meetups and upcoming workshops. Enjoy music and light refreshments.
URL:https://funinfarmington.com/event/first-friday-at-skepspace/2029-07-06/
LOCATION:Skep Space\, 33018 Grand River Ave\, Farmington Hills\, Michigan\, 48336
CATEGORIES:Art,Community
END:VEVENT
BEGIN:VEVENT
DTSTART;TZID=UTC:20290727T103000
DTEND;TZID=UTC:20290727T120000
DTSTAMP:20260424T113911
CREATED:20260419T184602Z
LAST-MODIFIED:20260419T184602Z
UID:10020887-1879842600-1879848000@funinfarmington.com
SUMMARY:Senior Social Hour! (Ages 60+) at Library (FH)
DESCRIPTION:Registration is preferred. \nAre you an adult 60+ looking for fun and an opportunity to socialize? Check out the library’s new program specifically for you! There will be crafts\, music\, games\, puzzles\, coffee\, and light refreshments. Make some friends while having fun! FCL’s Senior Outreach Librarian will also be available to answer questions about the Library. Drop-in anytime between 10:30-noon every fourth Friday of the month. Caregivers are also welcome to attend.
URL:https://funinfarmington.com/event/senior-social-hour-ages-60-at-library-fh/2029-07-27/
LOCATION:Farmington Community Library – Farmington Hills Location\, 32737 W. 12 Mile Rd.\, Farmington Hills\, Michigan\, 48334
CATEGORIES:Community,Seniors
END:VEVENT
BEGIN:VEVENT
DTSTART;TZID=UTC:20290803T170000
DTEND;TZID=UTC:20290803T200000
DTSTAMP:20260424T113911
CREATED:20260418T211330Z
LAST-MODIFIED:20260418T211330Z
UID:10020553-1880470800-1880481600@funinfarmington.com
SUMMARY:First Friday at SkepSpace
DESCRIPTION:Join us every first Friday of the month from 5pm -8pm. Tour Artists’ studios\, contribute to a community art project\, meet our artists and learn about ongoing meetups and upcoming workshops. Enjoy music and light refreshments.
URL:https://funinfarmington.com/event/first-friday-at-skepspace/2029-08-03/
LOCATION:Skep Space\, 33018 Grand River Ave\, Farmington Hills\, Michigan\, 48336
CATEGORIES:Art,Community
END:VEVENT
BEGIN:VEVENT
DTSTART;TZID=UTC:20290824T103000
DTEND;TZID=UTC:20290824T120000
DTSTAMP:20260424T113911
CREATED:20260419T184602Z
LAST-MODIFIED:20260419T184602Z
UID:10020888-1882261800-1882267200@funinfarmington.com
SUMMARY:Senior Social Hour! (Ages 60+) at Library (FH)
DESCRIPTION:Registration is preferred. \nAre you an adult 60+ looking for fun and an opportunity to socialize? Check out the library’s new program specifically for you! There will be crafts\, music\, games\, puzzles\, coffee\, and light refreshments. Make some friends while having fun! FCL’s Senior Outreach Librarian will also be available to answer questions about the Library. Drop-in anytime between 10:30-noon every fourth Friday of the month. Caregivers are also welcome to attend.
URL:https://funinfarmington.com/event/senior-social-hour-ages-60-at-library-fh/2029-08-24/
LOCATION:Farmington Community Library – Farmington Hills Location\, 32737 W. 12 Mile Rd.\, Farmington Hills\, Michigan\, 48334
CATEGORIES:Community,Seniors
END:VEVENT
BEGIN:VEVENT
DTSTART;TZID=UTC:20290907T170000
DTEND;TZID=UTC:20290907T200000
DTSTAMP:20260424T113911
CREATED:20260418T211330Z
LAST-MODIFIED:20260418T211330Z
UID:10020554-1883494800-1883505600@funinfarmington.com
SUMMARY:First Friday at SkepSpace
DESCRIPTION:Join us every first Friday of the month from 5pm -8pm. Tour Artists’ studios\, contribute to a community art project\, meet our artists and learn about ongoing meetups and upcoming workshops. Enjoy music and light refreshments.
URL:https://funinfarmington.com/event/first-friday-at-skepspace/2029-09-07/
LOCATION:Skep Space\, 33018 Grand River Ave\, Farmington Hills\, Michigan\, 48336
CATEGORIES:Art,Community
END:VEVENT
BEGIN:VEVENT
DTSTART;TZID=UTC:20290928T103000
DTEND;TZID=UTC:20290928T120000
DTSTAMP:20260424T113911
CREATED:20260419T184602Z
LAST-MODIFIED:20260419T184602Z
UID:10020889-1885285800-1885291200@funinfarmington.com
SUMMARY:Senior Social Hour! (Ages 60+) at Library (FH)
DESCRIPTION:Registration is preferred. \nAre you an adult 60+ looking for fun and an opportunity to socialize? Check out the library’s new program specifically for you! There will be crafts\, music\, games\, puzzles\, coffee\, and light refreshments. Make some friends while having fun! FCL’s Senior Outreach Librarian will also be available to answer questions about the Library. Drop-in anytime between 10:30-noon every fourth Friday of the month. Caregivers are also welcome to attend.
URL:https://funinfarmington.com/event/senior-social-hour-ages-60-at-library-fh/2029-09-28/
LOCATION:Farmington Community Library – Farmington Hills Location\, 32737 W. 12 Mile Rd.\, Farmington Hills\, Michigan\, 48334
CATEGORIES:Community,Seniors
END:VEVENT
END:VCALENDAR