BEGIN:VCALENDAR
VERSION:2.0
PRODID:-//Fun in Farmington - ECPv6.15.20//NONSGML v1.0//EN
CALSCALE:GREGORIAN
METHOD:PUBLISH
X-WR-CALNAME:Fun in Farmington
X-ORIGINAL-URL:https://funinfarmington.com
X-WR-CALDESC:Events for Fun in Farmington
REFRESH-INTERVAL;VALUE=DURATION:PT1H
X-Robots-Tag:noindex
X-PUBLISHED-TTL:PT1H
BEGIN:VTIMEZONE
TZID:UTC
BEGIN:STANDARD
TZOFFSETFROM:+0000
TZOFFSETTO:+0000
TZNAME:UTC
DTSTART:20250101T000000
END:STANDARD
END:VTIMEZONE
BEGIN:VEVENT
DTSTART;TZID=UTC:20260412T140000
DTEND;TZID=UTC:20260412T140000
DTSTAMP:20260419T180059
CREATED:20260409T110643Z
LAST-MODIFIED:20260409T110643Z
UID:10020426-1776002400-1776002400@funinfarmington.com
SUMMARY:Chamber Soloists of Detroit at The Hawk
DESCRIPTION:Strings & Piano & Winds… Oh\, My! \nThere’s no place like home for Detroit’s finest. \nChamber Soloists of Detroit artistic director\, pianist Pauline Martin\, takes the stage with DSO fan favorites – flutist Sharon Sparrow\, cellist Jeremy Crosmer\, oboist Alexander Kinmonth and violist Will Haapaniemi – for a delightful program showcasing the lyricism and beauty of each of their instrument \nProgram: \nReinecke Sonata “Undine” for Flute and Piano \nMartinu Trio for Flute\, Cello & Piano \nLoeffler 2 Rhapsodies for Oboe\, Viola & Piano \nJohn Corigliano: The Food of Love for Oboe & Cello \nRebecca Clarke : Two Pieces for Viola and Cello \nThis concert is presented in collaboration with Chamber Soloists of Detroit and the City of Farmington Hills. To learn more about CSD\, visit chambersoloistsdetroit.org. 
URL:https://funinfarmington.com/event/chamber-soloists-of-detroit-at-the-hawk-2/
CATEGORIES:Community,Concert,Concerts,Music
END:VEVENT
END:VCALENDAR