BEGIN:VCALENDAR
VERSION:2.0
PRODID:-//Fun in Farmington - ECPv6.15.20//NONSGML v1.0//EN
CALSCALE:GREGORIAN
METHOD:PUBLISH
X-WR-CALNAME:Fun in Farmington
X-ORIGINAL-URL:https://funinfarmington.com
X-WR-CALDESC:Events for Fun in Farmington
REFRESH-INTERVAL;VALUE=DURATION:PT1H
X-Robots-Tag:noindex
X-PUBLISHED-TTL:PT1H
BEGIN:VTIMEZONE
TZID:UTC
BEGIN:STANDARD
TZOFFSETFROM:+0000
TZOFFSETTO:+0000
TZNAME:UTC
DTSTART:20250101T000000
END:STANDARD
END:VTIMEZONE
BEGIN:VEVENT
DTSTART;TZID=UTC:20260318T070000
DTEND;TZID=UTC:20260318T170000
DTSTAMP:20260420T204329
CREATED:20260120T135349Z
LAST-MODIFIED:20260120T135349Z
UID:10019367-1773817200-1773853200@funinfarmington.com
SUMMARY:Earl Friedman Oratorical Contest at First Presbyterian Church of Farmington
DESCRIPTION:Earl Friedman Oratorical Contest\nSponsored by the Farmington/Farmington Hills Optimist Club\nContest Date: \nWednesday\, March 18\, 2026\, arrive by 7:15 A.M. to register \nLocation: First Presbyterian Church of Farmington \n(NW Corner of Farmington Road and 11 Mile Road:  26165 Farmington Road\, Farmington Hills\, MI 48334). \nApplication Deadline: February 28\, 2026; MAIL application to Anne Sebesta\, Oratorical Chairperson\, P.O. Box 2203\, Farmington Hills\, MI 48334\, OR EMAIL application to Anne at jalsebesta@att.net. \nTitle/Topic: The Moment I Realized I Belonged – My Definition of Community \nLength of Speech: At least 4 minutes\, but no longer than 5 minutes. \nQualifications: The contest is open to students who: (i) live in (or attend school in) Farmington or Farmington Hills; (ii) are under the age of 19 by October 1\, 2026; (iii) are not currently enrolled in college-level courses; (iv) have not yet completed high school; and (v) have been educated in the U.S.\, Canada or Caribbean.  There is no minimum age.  A copy of the contestant’s birth certificate must be submitted along with their application. \nPrizes: Medallions\, as well as monetary prizes of $500\, $350\, and $200 will be awarded to the 1st\, 2nd\, and 3rd place winners\, respectively.  A Certificate of Participation will be given to all contestants. \nNext-Level Competition: The 1st and 2nd place winners will advance to the next-level Zone contest (via Zoom) for a chance to win a plaque\, and possibly advance further to the District\, Regional and World levels of competition.  The overall potential college tuition scholarship could be $22\,500.00. \nContestants and family members or guests are welcome to attend the contest.  A light breakfast will be provided. \nFor additional information\, please contact Anne Sebesta\, Oratorical Chairperson at jalsebesta@att.net\, or text her at 248-302-6366.
URL:https://funinfarmington.com/event/earl-friedman-oratorical-contest-at-first-presbyterian-church-of-farmington/
LOCATION:First Presbyterian Church of Farmington\, 26165 Farmington Rd\, Farmington Hills\, Michigan\, 48334
CATEGORIES:Community,Contest,Educational,Kids & Families,Teens,Writing
END:VEVENT
BEGIN:VEVENT
DTSTART;TZID=UTC:20260218T190000
DTEND;TZID=UTC:20260218T210000
DTSTAMP:20260420T204329
CREATED:20260215T193014Z
LAST-MODIFIED:20260215T193014Z
UID:10019544-1771441200-1771448400@funinfarmington.com
SUMMARY:Jeopardy! Bar League at Sidecar Slider Bar
DESCRIPTION:
URL:https://funinfarmington.com/event/jeopardy-bar-league-at-sidecar-slider-bar/
LOCATION:Sidecar Slider Bar\, 32720 Grand River Ave\, Farmington\, Michigan\, 48336
CATEGORIES:Community,Contest,Games
END:VEVENT
END:VCALENDAR