BEGIN:VCALENDAR
VERSION:2.0
PRODID:-//Fun in Farmington - ECPv6.15.20//NONSGML v1.0//EN
CALSCALE:GREGORIAN
METHOD:PUBLISH
X-WR-CALNAME:Fun in Farmington
X-ORIGINAL-URL:https://funinfarmington.com
X-WR-CALDESC:Events for Fun in Farmington
REFRESH-INTERVAL;VALUE=DURATION:PT1H
X-Robots-Tag:noindex
X-PUBLISHED-TTL:PT1H
BEGIN:VTIMEZONE
TZID:UTC
BEGIN:STANDARD
TZOFFSETFROM:+0000
TZOFFSETTO:+0000
TZNAME:UTC
DTSTART:20250101T000000
END:STANDARD
END:VTIMEZONE
BEGIN:VEVENT
DTSTART;TZID=UTC:20260225T191500
DTEND;TZID=UTC:20260225T201500
DTSTAMP:20260421T194227
CREATED:20260222T233140Z
LAST-MODIFIED:20260222T233140Z
UID:10019737-1772046900-1772050500@funinfarmington.com
SUMMARY:Yoga 101 at Bodhi Yoga
DESCRIPTION:The most common thing we hear at the studio is that new students feel uncomfortable not knowing the basics and going into class feeling “blind.” \nWe get that! These workshop/sessions will go over in detail breathing techniques\, common postures that show up in (almost) every class. \n2/4th – Breathing Techniques & Seated Postures: Side Bends\, Forward bends\, Twist \n2/11th – Standing Postures / Sun Salutation A & Balancing \n2/18th – Vinyasa fundamentals (Chaturanga Dandasana)  \n2/25th – Go with the Flow  \nClasses meet once per week on Wednesdays\, Febuary 4th\, 11th\, 18th & 25th 7:15pm-8:15pm \n\nAttend All 4 Sessions $100 ( Save $20) \nIndividual Sessions $30 (click on week links above)
URL:https://funinfarmington.com/event/yoga-101-at-bodhi-yoga/
LOCATION:Bodhi Yoga\, 33047 Grand River Ave\, Farmington\, Michigan\, 48336
CATEGORIES:Fitness,Health,Wellness,Yoga
END:VEVENT
END:VCALENDAR