BEGIN:VCALENDAR
VERSION:2.0
PRODID:-//Fun in Farmington - ECPv6.15.20//NONSGML v1.0//EN
CALSCALE:GREGORIAN
METHOD:PUBLISH
X-ORIGINAL-URL:https://funinfarmington.com
X-WR-CALDESC:Events for Fun in Farmington
REFRESH-INTERVAL;VALUE=DURATION:PT1H
X-Robots-Tag:noindex
X-PUBLISHED-TTL:PT1H
BEGIN:VTIMEZONE
TZID:UTC
BEGIN:STANDARD
TZOFFSETFROM:+0000
TZOFFSETTO:+0000
TZNAME:UTC
DTSTART:20250101T000000
END:STANDARD
END:VTIMEZONE
BEGIN:VEVENT
DTSTART;TZID=UTC:20260219T120000
DTEND;TZID=UTC:20260219T180000
DTSTAMP:20260424T070318
CREATED:20260215T191813Z
LAST-MODIFIED:20260215T191813Z
UID:10019540-1771502400-1771524000@funinfarmington.com
SUMMARY:Fill Your Own Donut at Kitchen Creations
DESCRIPTION:Thursday\, 2/19\, 12 pm to 6 pm \, Friday\, 2/20\, 12 pm to 6 pm\, Saturday\, 10 am to 2 pm \nFill your own donut station! Come during the Kitchen Creation Station event time and fill two donuts with your choice of strawberry filling\, Bavarian filling or buttercream from Sorella’s. Top with powdered sugar or buttercream and your choice of mini chocolate chips\, sprinkles or oreo crumbs. $10 per participant.
URL:https://funinfarmington.com/event/fill-your-own-donut-at-kitchen-creations/2026-02-19/
LOCATION:Kitchen Creations\, 33305 Grand River Ave #3\, Farmington\, Michigan\, 48336
CATEGORIES:Food,Kids & Families,Older Adults,Seniors
END:VEVENT
BEGIN:VEVENT
DTSTART;TZID=UTC:20260219T183000
DTEND;TZID=UTC:20260219T203000
DTSTAMP:20260424T070318
CREATED:20260130T145927Z
LAST-MODIFIED:20260130T145927Z
UID:10019477-1771525800-1771533000@funinfarmington.com
SUMMARY:Books & Bites (Grades 6-12) at Library (Farmington)
DESCRIPTION:Registration is required. \nDo you love books? Do you love snacks? Do you love books AND snacks? Join Miss Rebecca and bring your favorite snack along while we talk about a different book every month! \nBooks will be distributed at the Books and Bites session previous to this one.  Weren’t at the last meeting? Check to see if the book is available in our catalog! Check out the book\, read it on your own\, and then join other readers during the book discussion to share what you thought. \n\n\n\n\nTitle: A Magic Steeped in Poison by Judy Lin
URL:https://funinfarmington.com/event/books-bites-grades-6-12-at-library-farmington/
LOCATION:Farmington Community Library – Farmington Location\, 23500 Liberty St.\, Farmington\, Michigan\, 48335
CATEGORIES:Community,Food,Reading,Teens
END:VEVENT
END:VCALENDAR