BEGIN:VCALENDAR
VERSION:2.0
PRODID:-//Fun in Farmington - ECPv6.15.20//NONSGML v1.0//EN
CALSCALE:GREGORIAN
METHOD:PUBLISH
X-ORIGINAL-URL:https://funinfarmington.com
X-WR-CALDESC:Events for Fun in Farmington
REFRESH-INTERVAL;VALUE=DURATION:PT1H
X-Robots-Tag:noindex
X-PUBLISHED-TTL:PT1H
BEGIN:VTIMEZONE
TZID:UTC
BEGIN:STANDARD
TZOFFSETFROM:+0000
TZOFFSETTO:+0000
TZNAME:UTC
DTSTART:20250101T000000
END:STANDARD
END:VTIMEZONE
BEGIN:VEVENT
DTSTART;TZID=UTC:20260425T100000
DTEND;TZID=UTC:20260425T160000
DTSTAMP:20260419T164034
CREATED:20260419T162855Z
LAST-MODIFIED:20260419T162855Z
UID:10020845-1777111200-1777132800@funinfarmington.com
SUMMARY:Spring Craft Fair at First Presbyterian Church of Farmington
DESCRIPTION:Get your pals together and come to the craft fair when the doors open for first pick of the wonderful items created by artists\, crafters and bakers.
URL:https://funinfarmington.com/event/spring-craft-fair-at-first-presbyterian-church-of-farmington/2026-04-25/
LOCATION:First Presbyterian Church of Farmington\, 26165 Farmington Rd\, Farmington Hills\, Michigan\, 48334
CATEGORIES:Crafting,Food,Shopping,Special Event
END:VEVENT
BEGIN:VEVENT
DTSTART;TZID=UTC:20260426T110000
DTEND;TZID=UTC:20260426T140000
DTSTAMP:20260419T164034
CREATED:20260419T162855Z
LAST-MODIFIED:20260419T162855Z
UID:10020846-1777201200-1777212000@funinfarmington.com
SUMMARY:Spring Craft Fair at First Presbyterian Church of Farmington
DESCRIPTION:Get your pals together and come to the craft fair when the doors open for first pick of the wonderful items created by artists\, crafters and bakers.
URL:https://funinfarmington.com/event/spring-craft-fair-at-first-presbyterian-church-of-farmington/2026-04-26/
LOCATION:First Presbyterian Church of Farmington\, 26165 Farmington Rd\, Farmington Hills\, Michigan\, 48334
CATEGORIES:Crafting,Food,Shopping,Special Event
END:VEVENT
BEGIN:VEVENT
DTSTART;TZID=UTC:20260427T170000
DTEND;TZID=UTC:20260427T200000
DTSTAMP:20260419T164034
CREATED:20260222T214637Z
LAST-MODIFIED:20260222T214637Z
UID:10019682-1777309200-1777320000@funinfarmington.com
SUMMARY:Ladies Night at SIPS Sports Bar
DESCRIPTION:Girls Night at SIPS – drinks\, music and your TVs\, your way!
URL:https://funinfarmington.com/event/ladies-night-at-sips-sports-bar/2026-04-27/
LOCATION:SIPS Sports Bar\, 35223 Grand River Ave\, Farmington\, MI\, United States
CATEGORIES:Food,Women
END:VEVENT
BEGIN:VEVENT
DTSTART;TZID=UTC:20260503T140000
DTEND;TZID=UTC:20260503T160000
DTSTAMP:20260419T164034
CREATED:20260418T174130Z
LAST-MODIFIED:20260418T174130Z
UID:10020511-1777816800-1777824000@funinfarmington.com
SUMMARY:Spring Market Swap at The Grazery
DESCRIPTION:Swap your spring goodies and find fresh treasures at this fun in-person Market Swap! \n\n\n\n\nJoin us for The Grazery Market Swap – Spring Edition\, a curated\, feel-good experience where creativity meets community. \nEach guest will bring 12 identical homemade or handmade items to exchange—ranging from baked goods and sweet treats to candles\, crafts\, and more. During this guided swap\, you’ll trade items with others and leave with a unique collection of goods you didn’t come with. \nThis is the perfect opportunity to share your favorite recipes\, showcase your creativity\, or even promote your business in a relaxed and welcoming environment. \n✨ Complimentary dirty soda included for all participants\n🧀 Charcuterie cups available for purchase \nWe’re keeping this event intimate with limited spots to ensure a quality experience for everyone. \n📍 The Grazery\n🗓 Sunday\, May 3rd\n⏰ 2:00 PM – 4:00 PM \nGuests must bring 12 identical items\, individually packaged\, along with a basket or bag to collect their swaps. \nRSVP is required to participate. Spots are limited. \n\n\n\n\nPlease also RVSP here — https://form.jotform.com/260887101098057
URL:https://funinfarmington.com/event/spring-market-swap-at-the-grazery/
LOCATION:No Graze Off (The Grazery)\, 22836 Orchard Lake Rd\, Farmington Hills\, MI\, 48336\, United States
CATEGORIES:Art,Community,Food
END:VEVENT
BEGIN:VEVENT
DTSTART;TZID=UTC:20260504T170000
DTEND;TZID=UTC:20260504T200000
DTSTAMP:20260419T164034
CREATED:20260222T214637Z
LAST-MODIFIED:20260222T214637Z
UID:10019683-1777914000-1777924800@funinfarmington.com
SUMMARY:Ladies Night at SIPS Sports Bar
DESCRIPTION:Girls Night at SIPS – drinks\, music and your TVs\, your way!
URL:https://funinfarmington.com/event/ladies-night-at-sips-sports-bar/2026-05-04/
LOCATION:SIPS Sports Bar\, 35223 Grand River Ave\, Farmington\, MI\, United States
CATEGORIES:Food,Women
END:VEVENT
BEGIN:VEVENT
DTSTART;TZID=UTC:20260509T140000
DTEND;TZID=UTC:20260509T160000
DTSTAMP:20260419T164034
CREATED:20260418T205944Z
LAST-MODIFIED:20260418T210010Z
UID:10020512-1778335200-1778342400@funinfarmington.com
SUMMARY:Graze & Bloom Charcuterie & Floral Class at No Graze Off
DESCRIPTION:Celebrate Mother’s Day with a beautifully curated\, hands-on experience at our Graze & Bloom Workshop. \nJoin us for an intimate and creative event where guests will craft their own personal charcuterie board and craft a fresh floral arrangement. Whether you’re celebrating yourself\, your mom\, or simply enjoying a girls’ day out\, this experience is designed to be both relaxing and memorable. \nAll materials and ingredients are provided\, along with light bites to enjoy during the workshop. No experience is needed — just come ready to create\, sip\, and enjoy. \nEvent is BYOB. Mocktails provided. \nEvent Details: May 9 | 2:00 PM – 4:00 PM The Grazery by No Graze Off – 22836 Orchard Lake Rd. Farmington\, MI \nTickets: $55 per person (2 for $100 available for a limited time) \nSpots are limited to keep the experience intimate. Secure your seat today and celebrate Mother’s Day in a creative\, elevated way.
URL:https://funinfarmington.com/event/graze-bloom-charcuterie-floral-class-at-no-graze-off/
LOCATION:No Graze Off (The Grazery)\, 22836 Orchard Lake Rd\, Farmington Hills\, MI\, 48336\, United States
CATEGORIES:Food,Moms,Special Event
END:VEVENT
BEGIN:VEVENT
DTSTART;TZID=UTC:20260511T170000
DTEND;TZID=UTC:20260511T200000
DTSTAMP:20260419T164034
CREATED:20260222T214637Z
LAST-MODIFIED:20260222T214637Z
UID:10019684-1778518800-1778529600@funinfarmington.com
SUMMARY:Ladies Night at SIPS Sports Bar
DESCRIPTION:Girls Night at SIPS – drinks\, music and your TVs\, your way!
URL:https://funinfarmington.com/event/ladies-night-at-sips-sports-bar/2026-05-11/
LOCATION:SIPS Sports Bar\, 35223 Grand River Ave\, Farmington\, MI\, United States
CATEGORIES:Food,Women
END:VEVENT
BEGIN:VEVENT
DTSTART;TZID=UTC:20260516T190000
DTEND;TZID=UTC:20260516T190000
DTSTAMP:20260419T164034
CREATED:20260219T010037Z
LAST-MODIFIED:20260219T010607Z
UID:10019578-1778958000-1778958000@funinfarmington.com
SUMMARY:Multi-Course Chef's Tasting Pop-up Dinner with Gnomerie Kitchen
DESCRIPTION:Gnomerie Kitchen serves up a unique dining experience for adventurous foodies in metro Detroit. \n\n\n\n\nJoin us for an unforgettable evening on Saturday\, February 21\, 2026 at Gnomerie Kitchen. Indulge in a culinary experience like no other as our talented chef takes you on a journey through a multi-course tasting menu. Immerse yourself in the cozy ambiance of our intimate venue as you savor each carefully crafted dish. \nOur chef will present a diverse array of flavors\, textures\, and presentations that will tantalize your taste buds. This pop-up dinner promises to be a feast for all your senses. \nOur intention is for guests to fully interact with our chef. You can watch as each course is plated and our professionally trained chef explains his inspiration and creations. We will have water\, coffee\, tea\, and soft drinks available for you – feel free to bring anything else that you would prefer to drink. \n\n\nSecure your spot now for this exclusive event. Limited seats are available\, so book early to avoid disappointment. Get ready to embark on a gastronomic adventure that will leave you craving for more. Mark your calendars and join us for a night of culinary bliss! \n\n\n\n\nIf you want to make alternative payments via Venmo\, Paypal or Cash App – please contact us to to make arrangements.
URL:https://funinfarmington.com/event/multi-course-chefs-tasting-pop-up-dinner-with-gnomerie-kitchen/2026-05-16/
LOCATION:Gnomerie Kitchen\, 23121 Potomac Circle\, Farmington Hills\, MI\, 48335\, United States
CATEGORIES:Adults,Food
ATTACH;FMTTYPE=image/png:https://funinfarmington.com/wp-content/uploads/2026/02/gnomerie.png
END:VEVENT
BEGIN:VEVENT
DTSTART;TZID=UTC:20260518T170000
DTEND;TZID=UTC:20260518T200000
DTSTAMP:20260419T164034
CREATED:20260222T214637Z
LAST-MODIFIED:20260222T214637Z
UID:10019685-1779123600-1779134400@funinfarmington.com
SUMMARY:Ladies Night at SIPS Sports Bar
DESCRIPTION:Girls Night at SIPS – drinks\, music and your TVs\, your way!
URL:https://funinfarmington.com/event/ladies-night-at-sips-sports-bar/2026-05-18/
LOCATION:SIPS Sports Bar\, 35223 Grand River Ave\, Farmington\, MI\, United States
CATEGORIES:Food,Women
END:VEVENT
BEGIN:VEVENT
DTSTART;TZID=UTC:20260525T170000
DTEND;TZID=UTC:20260525T200000
DTSTAMP:20260419T164034
CREATED:20260222T214637Z
LAST-MODIFIED:20260222T214637Z
UID:10019686-1779728400-1779739200@funinfarmington.com
SUMMARY:Ladies Night at SIPS Sports Bar
DESCRIPTION:Girls Night at SIPS – drinks\, music and your TVs\, your way!
URL:https://funinfarmington.com/event/ladies-night-at-sips-sports-bar/2026-05-25/
LOCATION:SIPS Sports Bar\, 35223 Grand River Ave\, Farmington\, MI\, United States
CATEGORIES:Food,Women
END:VEVENT
BEGIN:VEVENT
DTSTART;TZID=UTC:20260601T170000
DTEND;TZID=UTC:20260601T200000
DTSTAMP:20260419T164034
CREATED:20260222T214637Z
LAST-MODIFIED:20260222T214637Z
UID:10019687-1780333200-1780344000@funinfarmington.com
SUMMARY:Ladies Night at SIPS Sports Bar
DESCRIPTION:Girls Night at SIPS – drinks\, music and your TVs\, your way!
URL:https://funinfarmington.com/event/ladies-night-at-sips-sports-bar/2026-06-01/
LOCATION:SIPS Sports Bar\, 35223 Grand River Ave\, Farmington\, MI\, United States
CATEGORIES:Food,Women
END:VEVENT
BEGIN:VEVENT
DTSTART;TZID=UTC:20260608T170000
DTEND;TZID=UTC:20260608T200000
DTSTAMP:20260419T164034
CREATED:20260222T214637Z
LAST-MODIFIED:20260222T214637Z
UID:10019688-1780938000-1780948800@funinfarmington.com
SUMMARY:Ladies Night at SIPS Sports Bar
DESCRIPTION:Girls Night at SIPS – drinks\, music and your TVs\, your way!
URL:https://funinfarmington.com/event/ladies-night-at-sips-sports-bar/2026-06-08/
LOCATION:SIPS Sports Bar\, 35223 Grand River Ave\, Farmington\, MI\, United States
CATEGORIES:Food,Women
END:VEVENT
BEGIN:VEVENT
DTSTART;TZID=UTC:20260615T170000
DTEND;TZID=UTC:20260615T200000
DTSTAMP:20260419T164034
CREATED:20260222T214637Z
LAST-MODIFIED:20260222T214637Z
UID:10019689-1781542800-1781553600@funinfarmington.com
SUMMARY:Ladies Night at SIPS Sports Bar
DESCRIPTION:Girls Night at SIPS – drinks\, music and your TVs\, your way!
URL:https://funinfarmington.com/event/ladies-night-at-sips-sports-bar/2026-06-15/
LOCATION:SIPS Sports Bar\, 35223 Grand River Ave\, Farmington\, MI\, United States
CATEGORIES:Food,Women
END:VEVENT
BEGIN:VEVENT
DTSTART;TZID=UTC:20260622T170000
DTEND;TZID=UTC:20260622T200000
DTSTAMP:20260419T164034
CREATED:20260222T214637Z
LAST-MODIFIED:20260222T214637Z
UID:10019690-1782147600-1782158400@funinfarmington.com
SUMMARY:Ladies Night at SIPS Sports Bar
DESCRIPTION:Girls Night at SIPS – drinks\, music and your TVs\, your way!
URL:https://funinfarmington.com/event/ladies-night-at-sips-sports-bar/2026-06-22/
LOCATION:SIPS Sports Bar\, 35223 Grand River Ave\, Farmington\, MI\, United States
CATEGORIES:Food,Women
END:VEVENT
BEGIN:VEVENT
DTSTART;TZID=UTC:20260629T170000
DTEND;TZID=UTC:20260629T200000
DTSTAMP:20260419T164034
CREATED:20260222T214637Z
LAST-MODIFIED:20260222T214637Z
UID:10019691-1782752400-1782763200@funinfarmington.com
SUMMARY:Ladies Night at SIPS Sports Bar
DESCRIPTION:Girls Night at SIPS – drinks\, music and your TVs\, your way!
URL:https://funinfarmington.com/event/ladies-night-at-sips-sports-bar/2026-06-29/
LOCATION:SIPS Sports Bar\, 35223 Grand River Ave\, Farmington\, MI\, United States
CATEGORIES:Food,Women
END:VEVENT
BEGIN:VEVENT
DTSTART;TZID=UTC:20260706T170000
DTEND;TZID=UTC:20260706T200000
DTSTAMP:20260419T164034
CREATED:20260222T214637Z
LAST-MODIFIED:20260222T214637Z
UID:10019692-1783357200-1783368000@funinfarmington.com
SUMMARY:Ladies Night at SIPS Sports Bar
DESCRIPTION:Girls Night at SIPS – drinks\, music and your TVs\, your way!
URL:https://funinfarmington.com/event/ladies-night-at-sips-sports-bar/2026-07-06/
LOCATION:SIPS Sports Bar\, 35223 Grand River Ave\, Farmington\, MI\, United States
CATEGORIES:Food,Women
END:VEVENT
BEGIN:VEVENT
DTSTART;TZID=UTC:20260713T170000
DTEND;TZID=UTC:20260713T200000
DTSTAMP:20260419T164034
CREATED:20260222T214637Z
LAST-MODIFIED:20260222T214637Z
UID:10019693-1783962000-1783972800@funinfarmington.com
SUMMARY:Ladies Night at SIPS Sports Bar
DESCRIPTION:Girls Night at SIPS – drinks\, music and your TVs\, your way!
URL:https://funinfarmington.com/event/ladies-night-at-sips-sports-bar/2026-07-13/
LOCATION:SIPS Sports Bar\, 35223 Grand River Ave\, Farmington\, MI\, United States
CATEGORIES:Food,Women
END:VEVENT
BEGIN:VEVENT
DTSTART;TZID=UTC:20260720T170000
DTEND;TZID=UTC:20260720T200000
DTSTAMP:20260419T164034
CREATED:20260222T214637Z
LAST-MODIFIED:20260222T214637Z
UID:10019694-1784566800-1784577600@funinfarmington.com
SUMMARY:Ladies Night at SIPS Sports Bar
DESCRIPTION:Girls Night at SIPS – drinks\, music and your TVs\, your way!
URL:https://funinfarmington.com/event/ladies-night-at-sips-sports-bar/2026-07-20/
LOCATION:SIPS Sports Bar\, 35223 Grand River Ave\, Farmington\, MI\, United States
CATEGORIES:Food,Women
END:VEVENT
BEGIN:VEVENT
DTSTART;TZID=UTC:20260727T170000
DTEND;TZID=UTC:20260727T200000
DTSTAMP:20260419T164034
CREATED:20260222T214637Z
LAST-MODIFIED:20260222T214637Z
UID:10019695-1785171600-1785182400@funinfarmington.com
SUMMARY:Ladies Night at SIPS Sports Bar
DESCRIPTION:Girls Night at SIPS – drinks\, music and your TVs\, your way!
URL:https://funinfarmington.com/event/ladies-night-at-sips-sports-bar/2026-07-27/
LOCATION:SIPS Sports Bar\, 35223 Grand River Ave\, Farmington\, MI\, United States
CATEGORIES:Food,Women
END:VEVENT
BEGIN:VEVENT
DTSTART;TZID=UTC:20260803T170000
DTEND;TZID=UTC:20260803T200000
DTSTAMP:20260419T164034
CREATED:20260222T214637Z
LAST-MODIFIED:20260222T214637Z
UID:10019696-1785776400-1785787200@funinfarmington.com
SUMMARY:Ladies Night at SIPS Sports Bar
DESCRIPTION:Girls Night at SIPS – drinks\, music and your TVs\, your way!
URL:https://funinfarmington.com/event/ladies-night-at-sips-sports-bar/2026-08-03/
LOCATION:SIPS Sports Bar\, 35223 Grand River Ave\, Farmington\, MI\, United States
CATEGORIES:Food,Women
END:VEVENT
BEGIN:VEVENT
DTSTART;TZID=UTC:20260810T170000
DTEND;TZID=UTC:20260810T200000
DTSTAMP:20260419T164034
CREATED:20260222T214637Z
LAST-MODIFIED:20260222T214637Z
UID:10019697-1786381200-1786392000@funinfarmington.com
SUMMARY:Ladies Night at SIPS Sports Bar
DESCRIPTION:Girls Night at SIPS – drinks\, music and your TVs\, your way!
URL:https://funinfarmington.com/event/ladies-night-at-sips-sports-bar/2026-08-10/
LOCATION:SIPS Sports Bar\, 35223 Grand River Ave\, Farmington\, MI\, United States
CATEGORIES:Food,Women
END:VEVENT
BEGIN:VEVENT
DTSTART;TZID=UTC:20260817T170000
DTEND;TZID=UTC:20260817T200000
DTSTAMP:20260419T164034
CREATED:20260222T214637Z
LAST-MODIFIED:20260222T214637Z
UID:10019698-1786986000-1786996800@funinfarmington.com
SUMMARY:Ladies Night at SIPS Sports Bar
DESCRIPTION:Girls Night at SIPS – drinks\, music and your TVs\, your way!
URL:https://funinfarmington.com/event/ladies-night-at-sips-sports-bar/2026-08-17/
LOCATION:SIPS Sports Bar\, 35223 Grand River Ave\, Farmington\, MI\, United States
CATEGORIES:Food,Women
END:VEVENT
BEGIN:VEVENT
DTSTART;TZID=UTC:20260824T170000
DTEND;TZID=UTC:20260824T200000
DTSTAMP:20260419T164034
CREATED:20260222T214637Z
LAST-MODIFIED:20260222T214637Z
UID:10019699-1787590800-1787601600@funinfarmington.com
SUMMARY:Ladies Night at SIPS Sports Bar
DESCRIPTION:Girls Night at SIPS – drinks\, music and your TVs\, your way!
URL:https://funinfarmington.com/event/ladies-night-at-sips-sports-bar/2026-08-24/
LOCATION:SIPS Sports Bar\, 35223 Grand River Ave\, Farmington\, MI\, United States
CATEGORIES:Food,Women
END:VEVENT
BEGIN:VEVENT
DTSTART;TZID=UTC:20260831T170000
DTEND;TZID=UTC:20260831T200000
DTSTAMP:20260419T164034
CREATED:20260222T214637Z
LAST-MODIFIED:20260222T214637Z
UID:10019700-1788195600-1788206400@funinfarmington.com
SUMMARY:Ladies Night at SIPS Sports Bar
DESCRIPTION:Girls Night at SIPS – drinks\, music and your TVs\, your way!
URL:https://funinfarmington.com/event/ladies-night-at-sips-sports-bar/2026-08-31/
LOCATION:SIPS Sports Bar\, 35223 Grand River Ave\, Farmington\, MI\, United States
CATEGORIES:Food,Women
END:VEVENT
BEGIN:VEVENT
DTSTART;TZID=UTC:20260907T170000
DTEND;TZID=UTC:20260907T200000
DTSTAMP:20260419T164034
CREATED:20260222T214637Z
LAST-MODIFIED:20260222T214637Z
UID:10019701-1788800400-1788811200@funinfarmington.com
SUMMARY:Ladies Night at SIPS Sports Bar
DESCRIPTION:Girls Night at SIPS – drinks\, music and your TVs\, your way!
URL:https://funinfarmington.com/event/ladies-night-at-sips-sports-bar/2026-09-07/
LOCATION:SIPS Sports Bar\, 35223 Grand River Ave\, Farmington\, MI\, United States
CATEGORIES:Food,Women
END:VEVENT
BEGIN:VEVENT
DTSTART;TZID=UTC:20260914T170000
DTEND;TZID=UTC:20260914T200000
DTSTAMP:20260419T164034
CREATED:20260222T214637Z
LAST-MODIFIED:20260222T214637Z
UID:10019702-1789405200-1789416000@funinfarmington.com
SUMMARY:Ladies Night at SIPS Sports Bar
DESCRIPTION:Girls Night at SIPS – drinks\, music and your TVs\, your way!
URL:https://funinfarmington.com/event/ladies-night-at-sips-sports-bar/2026-09-14/
LOCATION:SIPS Sports Bar\, 35223 Grand River Ave\, Farmington\, MI\, United States
CATEGORIES:Food,Women
END:VEVENT
BEGIN:VEVENT
DTSTART;TZID=UTC:20260921T170000
DTEND;TZID=UTC:20260921T200000
DTSTAMP:20260419T164034
CREATED:20260222T214637Z
LAST-MODIFIED:20260222T214637Z
UID:10019703-1790010000-1790020800@funinfarmington.com
SUMMARY:Ladies Night at SIPS Sports Bar
DESCRIPTION:Girls Night at SIPS – drinks\, music and your TVs\, your way!
URL:https://funinfarmington.com/event/ladies-night-at-sips-sports-bar/2026-09-21/
LOCATION:SIPS Sports Bar\, 35223 Grand River Ave\, Farmington\, MI\, United States
CATEGORIES:Food,Women
END:VEVENT
BEGIN:VEVENT
DTSTART;TZID=UTC:20260928T170000
DTEND;TZID=UTC:20260928T200000
DTSTAMP:20260419T164034
CREATED:20260222T214637Z
LAST-MODIFIED:20260222T214637Z
UID:10019704-1790614800-1790625600@funinfarmington.com
SUMMARY:Ladies Night at SIPS Sports Bar
DESCRIPTION:Girls Night at SIPS – drinks\, music and your TVs\, your way!
URL:https://funinfarmington.com/event/ladies-night-at-sips-sports-bar/2026-09-28/
LOCATION:SIPS Sports Bar\, 35223 Grand River Ave\, Farmington\, MI\, United States
CATEGORIES:Food,Women
END:VEVENT
BEGIN:VEVENT
DTSTART;TZID=UTC:20261005T170000
DTEND;TZID=UTC:20261005T200000
DTSTAMP:20260419T164034
CREATED:20260222T214637Z
LAST-MODIFIED:20260222T214637Z
UID:10019705-1791219600-1791230400@funinfarmington.com
SUMMARY:Ladies Night at SIPS Sports Bar
DESCRIPTION:Girls Night at SIPS – drinks\, music and your TVs\, your way!
URL:https://funinfarmington.com/event/ladies-night-at-sips-sports-bar/2026-10-05/
LOCATION:SIPS Sports Bar\, 35223 Grand River Ave\, Farmington\, MI\, United States
CATEGORIES:Food,Women
END:VEVENT
BEGIN:VEVENT
DTSTART;TZID=UTC:20261012T170000
DTEND;TZID=UTC:20261012T200000
DTSTAMP:20260419T164034
CREATED:20260222T214637Z
LAST-MODIFIED:20260222T214637Z
UID:10019706-1791824400-1791835200@funinfarmington.com
SUMMARY:Ladies Night at SIPS Sports Bar
DESCRIPTION:Girls Night at SIPS – drinks\, music and your TVs\, your way!
URL:https://funinfarmington.com/event/ladies-night-at-sips-sports-bar/2026-10-12/
LOCATION:SIPS Sports Bar\, 35223 Grand River Ave\, Farmington\, MI\, United States
CATEGORIES:Food,Women
END:VEVENT
END:VCALENDAR