BEGIN:VCALENDAR
VERSION:2.0
PRODID:-//Fun in Farmington - ECPv6.15.20//NONSGML v1.0//EN
CALSCALE:GREGORIAN
METHOD:PUBLISH
X-WR-CALNAME:Fun in Farmington
X-ORIGINAL-URL:https://funinfarmington.com
X-WR-CALDESC:Events for Fun in Farmington
REFRESH-INTERVAL;VALUE=DURATION:PT1H
X-Robots-Tag:noindex
X-PUBLISHED-TTL:PT1H
BEGIN:VTIMEZONE
TZID:UTC
BEGIN:STANDARD
TZOFFSETFROM:+0000
TZOFFSETTO:+0000
TZNAME:UTC
DTSTART:20250101T000000
END:STANDARD
END:VTIMEZONE
BEGIN:VEVENT
DTSTART;TZID=UTC:20260728T183000
DTEND;TZID=UTC:20260728T193000
DTSTAMP:20260425T202134
CREATED:20260110T191855Z
LAST-MODIFIED:20260110T191855Z
UID:10019084-1785263400-1785267000@funinfarmington.com
SUMMARY:Drop-in Chess
DESCRIPTION:No registration is required. \nDrop in and play chess with friends or meet new players. Chess sets will be provided; instruction will not be provided.
URL:https://funinfarmington.com/event/drop-in-chess/2026-07-28/
LOCATION:Farmington Community Library – Farmington Hills Location\, 32737 W. 12 Mile Rd.\, Farmington Hills\, Michigan\, 48334
CATEGORIES:Community,Games,Kids & Families
END:VEVENT
END:VCALENDAR