BEGIN:VCALENDAR
VERSION:2.0
PRODID:-//Fun in Farmington - ECPv6.15.20//NONSGML v1.0//EN
CALSCALE:GREGORIAN
METHOD:PUBLISH
X-ORIGINAL-URL:https://funinfarmington.com
X-WR-CALDESC:Events for Fun in Farmington
REFRESH-INTERVAL;VALUE=DURATION:PT1H
X-Robots-Tag:noindex
X-PUBLISHED-TTL:PT1H
BEGIN:VTIMEZONE
TZID:UTC
BEGIN:STANDARD
TZOFFSETFROM:+0000
TZOFFSETTO:+0000
TZNAME:UTC
DTSTART:20240101T000000
END:STANDARD
END:VTIMEZONE
BEGIN:VEVENT
DTSTART;TZID=UTC:20250926T163000
DTEND;TZID=UTC:20250926T173000
DTSTAMP:20260421T042208
CREATED:20250904T182024Z
LAST-MODIFIED:20250904T182259Z
UID:10017085-1758904200-1758907800@funinfarmington.com
SUMMARY:Adaptive Storytime at Library (FH) - REGISTRATION REQUIRED
DESCRIPTION:Event Details\n\nLibrary events are always free to the public and you do not need a library card to attend! \nThe Farmington Community Library has two locations. This event will be held in-person in the Children’s Program Room at the FCL Farmington Hills location at 32737 W. 12 Mile Rd.\, Farmington Hills\, MI 48334. \nCall (248) 848-4315 to register or visit the Children’s Information Desk. \nThis storytime is for families with children who have disabilities or receive therapies or extra support. We will use visual supports\, sensory-friendly stories\, and simple movement activities made for children with disabilities. Siblings are welcome. After storytime\, there will be time for play and for parents to meet and talk with each other. \nYou can find a social story about what to expect at storytime here: https://farmlib.org/media/gqsffdvd/adaptive-storytime-social–story.pdf \n\nDisclaimer(s)\n\n\n\nAccompanying Adults\n\nThis program is designed for children and accompanying adults. Please plan to attend and be engaged with your child for this program. Drop offs will not be permitted. \n\n\n\n\n\nADA Requests\n\nTo request a reasonable accommodation under the ADA\, please complete this form at least 10 days before the event.
URL:https://funinfarmington.com/event/adaptive-storytime-at-library-fh/2025-09-26/
LOCATION:Farmington Community Library – Farmington Hills Location\, 32737 W. 12 Mile Rd.\, Farmington Hills\, Michigan\, 48334
CATEGORIES:Kids & Families
END:VEVENT
BEGIN:VEVENT
DTSTART;TZID=UTC:20250926T173000
DTEND;TZID=UTC:20250926T193000
DTSTAMP:20260421T042208
CREATED:20250925T192656Z
LAST-MODIFIED:20250925T192656Z
UID:10017665-1758907800-1758915000@funinfarmington.com
SUMMARY:Hayride Central
DESCRIPTION:Enjoy family hayrides through the trails of Heritage Park! Rides leave every 1/2 hour from 5:30-7:30pm: LAST RIDE LEAVES AT 7pm. After the ride\, purchase a cup of cider and s’more kit to roast around a cozy campfire for $1 (not included in hayride fee). You can add-on your s’more and cider kit online at check-out\, includes a roasting stick. Don’t forget to explore the Nature Center\, open until 7pm on Hayride nights.\nHayrides leave from the Nature Center parking lot. Check-in with Nature Center Staff near the campfire upon arrival.\nHayride are held RAIN OR SHINE. Dress accordingly. If SEVERE weather occurs\, the ride will be cancelled and participants will be notified the day-of with an option to transfer\, if available. Please register in advance\, hayrides fill quickly\, and space is limited. No charge for kids under age 2.\nGroups can reserve weekday or weekend private rides in advance by calling (248)473-1870.\nRegister here: https://tinyurl.com/hayridecentral24\nActivity Code: PN1215Age: AllCost: $5 per person
URL:https://funinfarmington.com/event/hayride-central/2025-09-26/
LOCATION:Heritage Park\, 24915 Farmington Rd\, Farmington Hills\, MI\, 48336\, United States
CATEGORIES:Kids & Families
END:VEVENT
END:VCALENDAR