BEGIN:VCALENDAR
VERSION:2.0
PRODID:-//Fun in Farmington - ECPv6.15.20//NONSGML v1.0//EN
CALSCALE:GREGORIAN
METHOD:PUBLISH
X-WR-CALNAME:Fun in Farmington
X-ORIGINAL-URL:https://funinfarmington.com
X-WR-CALDESC:Events for Fun in Farmington
REFRESH-INTERVAL;VALUE=DURATION:PT1H
X-Robots-Tag:noindex
X-PUBLISHED-TTL:PT1H
BEGIN:VTIMEZONE
TZID:UTC
BEGIN:STANDARD
TZOFFSETFROM:+0000
TZOFFSETTO:+0000
TZNAME:UTC
DTSTART:20240101T000000
END:STANDARD
END:VTIMEZONE
BEGIN:VEVENT
DTSTART;TZID=UTC:20251018T103000
DTEND;TZID=UTC:20251018T120000
DTSTAMP:20260420T180927
CREATED:20250904T182942Z
LAST-MODIFIED:20250904T182942Z
UID:10017088-1760783400-1760788800@funinfarmington.com
SUMMARY:Bears & Bees: 1\,000 Books Before Kindergarten Celebration (Ages 0-5) at Library (Farmington)
DESCRIPTION:Event Details\n\nLibrary events are always free to the public and you do not need a library card to attend!  \nThe Farmington Community Library has two locations. This event will be held in the children’s department at the FCL Farmington location at 23500 Liberty St.\, Farmington\, MI 48335.  \nJoin us for our fall 1\,000 Books before Kindergarten Celebration!  Come celebrate how many books you have read or get started with the 1\,000 Books before Kindergarten program.  We’ll begin with a storytime at 10:30 and afterwards there will be a small bounce house and a variety of bear & bee themed activities. Be sure to wear or bring socks if you plan to explore the bounce house. Hope to see you there! \n\nDisclaimer(s)\n\n\n\nAccompanying Adults\n\nThis program is designed for children and accompanying adults. Please plan to attend and be engaged with your child for this program. Drop offs will not be permitted.
URL:https://funinfarmington.com/event/bears-bees-1000-books-before-kindergarten-celebration-ages-0-5-at-library-farmington/
LOCATION:Farmington Community Library – Farmington Location\, 23500 Liberty St.\, Farmington\, Michigan\, 48335
CATEGORIES:Kids & Families
END:VEVENT
BEGIN:VEVENT
DTSTART;TZID=UTC:20251018T140000
DTEND;TZID=UTC:20251018T160000
DTSTAMP:20260420T180927
CREATED:20251012T183753Z
LAST-MODIFIED:20251012T183753Z
UID:10017845-1760796000-1760803200@funinfarmington.com
SUMMARY:Trunk or Treat at Unity of FH
DESCRIPTION:
URL:https://funinfarmington.com/event/trunk-or-treat-at-unity-of-fh/
LOCATION:Unity of Farmington Hills\, 32500 W 13 Mile Rd.\, Farmington Hills\, Michigan\, 48334
CATEGORIES:Holiday,Kids & Families
END:VEVENT
END:VCALENDAR