BEGIN:VCALENDAR
VERSION:2.0
PRODID:-//Fun in Farmington - ECPv6.15.20//NONSGML v1.0//EN
CALSCALE:GREGORIAN
METHOD:PUBLISH
X-WR-CALNAME:Fun in Farmington
X-ORIGINAL-URL:https://funinfarmington.com
X-WR-CALDESC:Events for Fun in Farmington
REFRESH-INTERVAL;VALUE=DURATION:PT1H
X-Robots-Tag:noindex
X-PUBLISHED-TTL:PT1H
BEGIN:VTIMEZONE
TZID:UTC
BEGIN:STANDARD
TZOFFSETFROM:+0000
TZOFFSETTO:+0000
TZNAME:UTC
DTSTART:20240101T000000
END:STANDARD
END:VTIMEZONE
BEGIN:VEVENT
DTSTART;TZID=UTC:20251210T170000
DTEND;TZID=UTC:20251210T193000
DTSTAMP:20260420T082818
CREATED:20251208T154106Z
LAST-MODIFIED:20251208T154106Z
UID:10018409-1765386000-1765395000@funinfarmington.com
SUMMARY:Oh Deer\, Santa's Here!
DESCRIPTION:Santa is making a special stop at Heritage Park! Families will get a chance to visit and get photos with Santa at our holiday display in the historic Red Barn in Heritage Park. Be sure to bring your smart phone or camera so we can capture the moment for you. Families can participate in activity stations\, crafts\, and games that celebrate white-tailed deer and the winter season. Warm up at the cozy campfire with hot coca. \n\nS’mores kits can be purchased for $1 each. Dress for winter weather. The event will be held rain\, snow\, or shine. Each family will have limited time with Santa.\nRegister yourself and bring up to 5 people of your choice (adults & children). If you have more than 6 in your group\, please register for more than 1 spot. Pre-registration required. \n\nRegister here: https://tinyurl.com/fhncsantashere\nActivity Code: PN4000Age: ALLCost: $15 resident/ $20 non-resident
URL:https://funinfarmington.com/event/oh-deer-santas-here/2025-12-10/
LOCATION:Farmington Hills Nature Center\, 24915 Farmington Rd\, Farmington Hills\, MI\, 48336
CATEGORIES:Holiday,Kids & Families
END:VEVENT
END:VCALENDAR