BEGIN:VCALENDAR
VERSION:2.0
PRODID:-//Fun in Farmington - ECPv6.15.20//NONSGML v1.0//EN
CALSCALE:GREGORIAN
METHOD:PUBLISH
X-WR-CALNAME:Fun in Farmington
X-ORIGINAL-URL:https://funinfarmington.com
X-WR-CALDESC:Events for Fun in Farmington
REFRESH-INTERVAL;VALUE=DURATION:PT1H
X-Robots-Tag:noindex
X-PUBLISHED-TTL:PT1H
BEGIN:VTIMEZONE
TZID:UTC
BEGIN:STANDARD
TZOFFSETFROM:+0000
TZOFFSETTO:+0000
TZNAME:UTC
DTSTART:20250101T000000
END:STANDARD
END:VTIMEZONE
BEGIN:VEVENT
DTSTART;TZID=UTC:20260103T120000
DTEND;TZID=UTC:20260103T130000
DTSTAMP:20260420T200357
CREATED:20250930T212102Z
LAST-MODIFIED:20250930T212102Z
UID:10017804-1767441600-1767445200@funinfarmington.com
SUMMARY:Little Yogis at Bodhi
DESCRIPTION:Little Yogis is designed for children ages 3-10 years old. Yoga is an ancient healing practice known to calm the body\, mind\, and emotions. In this playful yoga class\, children will learn yoga poses\, breathing\, and relaxation exercises which cultivate a calm mind\, increase strength and flexibility\, improve gross and fine motor skills\, improve concentration\, and give children the tools to manage stress in their daily lives. Games\, stories\, and music will be incorporated into this fun\, non-competitive class. Each class ends with a period of relaxation.\nParents are Welcome!
URL:https://funinfarmington.com/event/little-yogis-at-bodhi/2026-01-03/
LOCATION:Bodhi Yoga\, 33047 Grand River Ave\, Farmington\, Michigan\, 48336
CATEGORIES:Kids & Families
END:VEVENT
END:VCALENDAR