BEGIN:VCALENDAR
VERSION:2.0
PRODID:-//Fun in Farmington - ECPv6.15.20//NONSGML v1.0//EN
CALSCALE:GREGORIAN
METHOD:PUBLISH
X-ORIGINAL-URL:https://funinfarmington.com
X-WR-CALDESC:Events for Fun in Farmington
REFRESH-INTERVAL;VALUE=DURATION:PT1H
X-Robots-Tag:noindex
X-PUBLISHED-TTL:PT1H
BEGIN:VTIMEZONE
TZID:UTC
BEGIN:STANDARD
TZOFFSETFROM:+0000
TZOFFSETTO:+0000
TZNAME:UTC
DTSTART:20250101T000000
END:STANDARD
END:VTIMEZONE
BEGIN:VEVENT
DTSTART;TZID=UTC:20260314T100000
DTEND;TZID=UTC:20260314T143000
DTSTAMP:20260423T141237
CREATED:20260228T192437Z
LAST-MODIFIED:20260228T192437Z
UID:10019891-1773482400-1773498600@funinfarmington.com
SUMMARY:Princess Tea Party at Longacre House (RSVP)
DESCRIPTION:You and your child can dress up like your favorite princess and join us for a fancy tea party at the Longacre House! Activities will include a princess craft to take home\, as well as a dance party and photo opportunities with a REAL PRINCESSES! The event will conclude with tea and cookies. All family members welcome! REGISTRATION REQUIRED FOR BOTH ADULTS AND CHILDREN.
URL:https://funinfarmington.com/event/princess-tea-party-at-longacre-house-rsvp/2026-03-14/
LOCATION:Longacre House\, 24705 Farmington Rd\, Farmington Hills\, Michigan\, 48336
CATEGORIES:Crafting,Dance,Kids & Families,Special Event
END:VEVENT
BEGIN:VEVENT
DTSTART;TZID=UTC:20260314T103000
DTEND;TZID=UTC:20260314T113000
DTSTAMP:20260423T141237
CREATED:20260105T044724Z
LAST-MODIFIED:20260105T044724Z
UID:10018663-1773484200-1773487800@funinfarmington.com
SUMMARY:Saturday Storytime (Ages 1-6) at Library (Farmington)
DESCRIPTION:Library Events are always free to the public and you do not need a library card to attend! \nThe Farmington Community Library has two locations.  This event will be held in the meeting room at the FCL Farmington location 23500 Liberty St.\, Farmington\, MI 48335. \nNo registration is required. \nAt storytime\, we show you how to help your child’s brain grow by talking\, singing\, reading\, writing\, and playing\, and we help you connect with other parents. Children and their caregivers will enjoy stories\, music\, and movement together\, followed by playtime. The Saturday storytime and playtime activities are designed for kids who are ages 1-6 with an adult. Siblings welcome. \n\nDisclaimer(s)\n\n\n\n\nThis program is designed for children and accompanying adults. Please plan to attend and be engaged with your child for this program. Drop offs will not be permitted. \n\n\n\n\n\n\nTo request ADA accommodations\, such as wheelchair access or sign language interpretation\, please complete the Accommodation Request Form at least 10 days before the event.
URL:https://funinfarmington.com/event/saturday-storytime-ages-1-6-at-library-farmington-2/2026-03-14/
LOCATION:Farmington Community Library – Farmington Location\, 23500 Liberty St.\, Farmington\, Michigan\, 48335
CATEGORIES:Kids & Families
END:VEVENT
BEGIN:VEVENT
DTSTART;TZID=UTC:20260314T110000
DTEND;TZID=UTC:20260314T130000
DTSTAMP:20260423T141237
CREATED:20260309T005458Z
LAST-MODIFIED:20260309T005458Z
UID:10019984-1773486000-1773493200@funinfarmington.com
SUMMARY:Family Friendly Painting at Painting With a Twist
DESCRIPTION:*FAMILY CLASS: While we welcome painters of any age\, this is recommended for ages 7 and up. \n*PRE-REGISTRATION RECOMMENDED: it is recommended that guests register for class prior to arrival to guarantee your reservation and any special seating requests. You will receive an email/text confirmation if properly registered. Payment is due at the time of the reservation to guarantee your seat. You may reserve & make payment online. \n*WHAT TO BRING: You are welcome to bring in light snacks and drinks. NO Alcohol permitted. You must provide your OWN cups\, plates and utensils for food. \n*CLASS TIME: Painting begins PROMPTLY at class time! Please arrive 30 minutes prior to class time to park\, check-in\, unwind & get smocked! If you are late to the class you may not be allowed to paint and your payment will be forfeited. \n*SEATING REQUESTS:\nIf you’re coming with others\, but making reservations separately\, give us your group’s name in the Special Request box. We’ll seat you together. If you make a late reservation we may not be able to seat you with your requested group. No seat changes are guaranteed at class time! \n*PWAT reserves the right to cancel classes for unforeseen circumstances. Registrants will be refunded.
URL:https://funinfarmington.com/event/family-friendly-painting-at-painting-with-a-twist/
LOCATION:Painting With a Twist\, 33033 Grand River Ave\, Farmington\, 48335\, United States
CATEGORIES:Art,Kids & Families
ATTACH;FMTTYPE=image/png:https://funinfarmington.com/wp-content/uploads/2026/03/pwat-0314.png
END:VEVENT
END:VCALENDAR