BEGIN:VCALENDAR
VERSION:2.0
PRODID:-//Fun in Farmington - ECPv6.15.20//NONSGML v1.0//EN
CALSCALE:GREGORIAN
METHOD:PUBLISH
X-WR-CALNAME:Fun in Farmington
X-ORIGINAL-URL:https://funinfarmington.com
X-WR-CALDESC:Events for Fun in Farmington
REFRESH-INTERVAL;VALUE=DURATION:PT1H
X-Robots-Tag:noindex
X-PUBLISHED-TTL:PT1H
BEGIN:VTIMEZONE
TZID:UTC
BEGIN:STANDARD
TZOFFSETFROM:+0000
TZOFFSETTO:+0000
TZNAME:UTC
DTSTART:20250101T000000
END:STANDARD
END:VTIMEZONE
BEGIN:VEVENT
DTSTART;TZID=UTC:20260321T130000
DTEND;TZID=UTC:20260321T143000
DTSTAMP:20260420T081302
CREATED:20260225T034204Z
LAST-MODIFIED:20260225T034204Z
UID:10019580-1774098000-1774103400@funinfarmington.com
SUMMARY:Little Seeds. Big Growth. at Bodhi Yoga
DESCRIPTION:Welcome spring with a yoga class led by miss Laura. Then\, each kiddo will plant a seed they can take home and watch grow into a beautiful plant. Growth for both mind and body!
URL:https://funinfarmington.com/event/little-seeds-big-growth-at-bodhi-yoga/
LOCATION:Bodhi Yoga\, 33047 Grand River Ave\, Farmington\, Michigan\, 48336
CATEGORIES:Kids & Families,Yoga
ATTACH;FMTTYPE=image/jpeg:https://funinfarmington.com/wp-content/uploads/2026/02/inbound5667426513121293147.jpg
ORGANIZER;CN="Laura Correa":MAILTO:corr3617@gmail.com
END:VEVENT
END:VCALENDAR