BEGIN:VCALENDAR
VERSION:2.0
PRODID:-//Fun in Farmington - ECPv6.15.20//NONSGML v1.0//EN
CALSCALE:GREGORIAN
METHOD:PUBLISH
X-WR-CALNAME:Fun in Farmington
X-ORIGINAL-URL:https://funinfarmington.com
X-WR-CALDESC:Events for Fun in Farmington
REFRESH-INTERVAL;VALUE=DURATION:PT1H
X-Robots-Tag:noindex
X-PUBLISHED-TTL:PT1H
BEGIN:VTIMEZONE
TZID:UTC
BEGIN:STANDARD
TZOFFSETFROM:+0000
TZOFFSETTO:+0000
TZNAME:UTC
DTSTART:20250101T000000
END:STANDARD
END:VTIMEZONE
BEGIN:VEVENT
DTSTART;TZID=UTC:20260702T190000
DTEND;TZID=UTC:20260702T190000
DTSTAMP:20260424T031338
CREATED:20260305T165535Z
LAST-MODIFIED:20260322T224735Z
UID:10020058-1783018800-1783018800@funinfarmington.com
SUMMARY:Ladies and 80's at Sidecar Slider Bar
DESCRIPTION:
URL:https://funinfarmington.com/event/ladies-and-80s-at-sidecar-slider-bar-3/2026-07-02/
LOCATION:Sidecar Slider Bar\, 32720 Grand River Ave\, Farmington\, Michigan\, 48336
CATEGORIES:Music,Women
ATTACH;FMTTYPE=image/png:https://funinfarmington.com/wp-content/uploads/2026/03/ladies-80s.png
END:VEVENT
BEGIN:VEVENT
DTSTART;TZID=UTC:20260702T200000
DTEND;TZID=UTC:20260702T230000
DTSTAMP:20260424T031338
CREATED:20260223T000707Z
LAST-MODIFIED:20260223T000707Z
UID:10019784-1783022400-1783033200@funinfarmington.com
SUMMARY:Karaoke Night at 1Up Arcade Bar
DESCRIPTION:Join us for Karaoke night every Thursday from 8-11pm at 1Up Arcade Bar in Farmington. Bring your friends and compete for the title of karaoke champ while enjoying a vibe you won’t forget!
URL:https://funinfarmington.com/event/karaoke-night-at-1up-arcade-bar/2026-07-02/
LOCATION:1Up Arcade Bar\, 33316 Grand River Ave\, Farmington\, Michigan\, 48336
CATEGORIES:Adults,Dance,Karaoke,Music
ATTACH;FMTTYPE=image/png:https://funinfarmington.com/wp-content/uploads/2026/02/1up-arcade-karaoke.png
END:VEVENT
BEGIN:VEVENT
DTSTART;TZID=UTC:20260703T173000
DTEND;TZID=UTC:20260703T193000
DTSTAMP:20260424T031338
CREATED:20260223T001047Z
LAST-MODIFIED:20260223T001304Z
UID:10019836-1783099800-1783107000@funinfarmington.com
SUMMARY:Live Music Friday at Apothecary
DESCRIPTION:Catch local Michigan artists from 5:30-7:30pm in the shop every first Friday evening of the month. This is another free event we are proud to offer! Are you or someone you know interested in booking a gig with us? Please email: apothecary.events@gmail.com
URL:https://funinfarmington.com/event/live-music-friday-at-apothecary/2026-07-03/
LOCATION:Apothecary Espresso and Coffee\, 23366 Farmington Rd\, Farmington\, 48336
CATEGORIES:Community,Music
END:VEVENT
BEGIN:VEVENT
DTSTART;TZID=UTC:20260709T190000
DTEND;TZID=UTC:20260709T190000
DTSTAMP:20260424T031338
CREATED:20260305T165535Z
LAST-MODIFIED:20260322T224735Z
UID:10020059-1783623600-1783623600@funinfarmington.com
SUMMARY:Ladies and 80's at Sidecar Slider Bar
DESCRIPTION:
URL:https://funinfarmington.com/event/ladies-and-80s-at-sidecar-slider-bar-3/2026-07-09/
LOCATION:Sidecar Slider Bar\, 32720 Grand River Ave\, Farmington\, Michigan\, 48336
CATEGORIES:Music,Women
ATTACH;FMTTYPE=image/png:https://funinfarmington.com/wp-content/uploads/2026/03/ladies-80s.png
END:VEVENT
BEGIN:VEVENT
DTSTART;TZID=UTC:20260709T200000
DTEND;TZID=UTC:20260709T230000
DTSTAMP:20260424T031338
CREATED:20260223T000707Z
LAST-MODIFIED:20260223T000707Z
UID:10019785-1783627200-1783638000@funinfarmington.com
SUMMARY:Karaoke Night at 1Up Arcade Bar
DESCRIPTION:Join us for Karaoke night every Thursday from 8-11pm at 1Up Arcade Bar in Farmington. Bring your friends and compete for the title of karaoke champ while enjoying a vibe you won’t forget!
URL:https://funinfarmington.com/event/karaoke-night-at-1up-arcade-bar/2026-07-09/
LOCATION:1Up Arcade Bar\, 33316 Grand River Ave\, Farmington\, Michigan\, 48336
CATEGORIES:Adults,Dance,Karaoke,Music
ATTACH;FMTTYPE=image/png:https://funinfarmington.com/wp-content/uploads/2026/02/1up-arcade-karaoke.png
END:VEVENT
BEGIN:VEVENT
DTSTART;TZID=UTC:20260716T190000
DTEND;TZID=UTC:20260716T190000
DTSTAMP:20260424T031338
CREATED:20260305T165535Z
LAST-MODIFIED:20260322T224735Z
UID:10020060-1784228400-1784228400@funinfarmington.com
SUMMARY:Ladies and 80's at Sidecar Slider Bar
DESCRIPTION:
URL:https://funinfarmington.com/event/ladies-and-80s-at-sidecar-slider-bar-3/2026-07-16/
LOCATION:Sidecar Slider Bar\, 32720 Grand River Ave\, Farmington\, Michigan\, 48336
CATEGORIES:Music,Women
ATTACH;FMTTYPE=image/png:https://funinfarmington.com/wp-content/uploads/2026/03/ladies-80s.png
END:VEVENT
BEGIN:VEVENT
DTSTART;TZID=UTC:20260716T200000
DTEND;TZID=UTC:20260716T230000
DTSTAMP:20260424T031338
CREATED:20260223T000707Z
LAST-MODIFIED:20260223T000707Z
UID:10019786-1784232000-1784242800@funinfarmington.com
SUMMARY:Karaoke Night at 1Up Arcade Bar
DESCRIPTION:Join us for Karaoke night every Thursday from 8-11pm at 1Up Arcade Bar in Farmington. Bring your friends and compete for the title of karaoke champ while enjoying a vibe you won’t forget!
URL:https://funinfarmington.com/event/karaoke-night-at-1up-arcade-bar/2026-07-16/
LOCATION:1Up Arcade Bar\, 33316 Grand River Ave\, Farmington\, Michigan\, 48336
CATEGORIES:Adults,Dance,Karaoke,Music
ATTACH;FMTTYPE=image/png:https://funinfarmington.com/wp-content/uploads/2026/02/1up-arcade-karaoke.png
END:VEVENT
BEGIN:VEVENT
DTSTART;TZID=UTC:20260723T190000
DTEND;TZID=UTC:20260723T190000
DTSTAMP:20260424T031338
CREATED:20260305T165535Z
LAST-MODIFIED:20260322T224735Z
UID:10020061-1784833200-1784833200@funinfarmington.com
SUMMARY:Ladies and 80's at Sidecar Slider Bar
DESCRIPTION:
URL:https://funinfarmington.com/event/ladies-and-80s-at-sidecar-slider-bar-3/2026-07-23/
LOCATION:Sidecar Slider Bar\, 32720 Grand River Ave\, Farmington\, Michigan\, 48336
CATEGORIES:Music,Women
ATTACH;FMTTYPE=image/png:https://funinfarmington.com/wp-content/uploads/2026/03/ladies-80s.png
END:VEVENT
BEGIN:VEVENT
DTSTART;TZID=UTC:20260723T200000
DTEND;TZID=UTC:20260723T230000
DTSTAMP:20260424T031338
CREATED:20260223T000707Z
LAST-MODIFIED:20260223T000707Z
UID:10019787-1784836800-1784847600@funinfarmington.com
SUMMARY:Karaoke Night at 1Up Arcade Bar
DESCRIPTION:Join us for Karaoke night every Thursday from 8-11pm at 1Up Arcade Bar in Farmington. Bring your friends and compete for the title of karaoke champ while enjoying a vibe you won’t forget!
URL:https://funinfarmington.com/event/karaoke-night-at-1up-arcade-bar/2026-07-23/
LOCATION:1Up Arcade Bar\, 33316 Grand River Ave\, Farmington\, Michigan\, 48336
CATEGORIES:Adults,Dance,Karaoke,Music
ATTACH;FMTTYPE=image/png:https://funinfarmington.com/wp-content/uploads/2026/02/1up-arcade-karaoke.png
END:VEVENT
BEGIN:VEVENT
DTSTART;TZID=UTC:20260730T190000
DTEND;TZID=UTC:20260730T190000
DTSTAMP:20260424T031338
CREATED:20260305T165535Z
LAST-MODIFIED:20260322T224735Z
UID:10020062-1785438000-1785438000@funinfarmington.com
SUMMARY:Ladies and 80's at Sidecar Slider Bar
DESCRIPTION:
URL:https://funinfarmington.com/event/ladies-and-80s-at-sidecar-slider-bar-3/2026-07-30/
LOCATION:Sidecar Slider Bar\, 32720 Grand River Ave\, Farmington\, Michigan\, 48336
CATEGORIES:Music,Women
ATTACH;FMTTYPE=image/png:https://funinfarmington.com/wp-content/uploads/2026/03/ladies-80s.png
END:VEVENT
BEGIN:VEVENT
DTSTART;TZID=UTC:20260730T200000
DTEND;TZID=UTC:20260730T230000
DTSTAMP:20260424T031338
CREATED:20260223T000707Z
LAST-MODIFIED:20260223T000707Z
UID:10019788-1785441600-1785452400@funinfarmington.com
SUMMARY:Karaoke Night at 1Up Arcade Bar
DESCRIPTION:Join us for Karaoke night every Thursday from 8-11pm at 1Up Arcade Bar in Farmington. Bring your friends and compete for the title of karaoke champ while enjoying a vibe you won’t forget!
URL:https://funinfarmington.com/event/karaoke-night-at-1up-arcade-bar/2026-07-30/
LOCATION:1Up Arcade Bar\, 33316 Grand River Ave\, Farmington\, Michigan\, 48336
CATEGORIES:Adults,Dance,Karaoke,Music
ATTACH;FMTTYPE=image/png:https://funinfarmington.com/wp-content/uploads/2026/02/1up-arcade-karaoke.png
END:VEVENT
END:VCALENDAR