BEGIN:VCALENDAR
VERSION:2.0
PRODID:-//Fun in Farmington - ECPv6.15.20//NONSGML v1.0//EN
CALSCALE:GREGORIAN
METHOD:PUBLISH
X-ORIGINAL-URL:https://funinfarmington.com
X-WR-CALDESC:Events for Fun in Farmington
REFRESH-INTERVAL;VALUE=DURATION:PT1H
X-Robots-Tag:noindex
X-PUBLISHED-TTL:PT1H
BEGIN:VTIMEZONE
TZID:UTC
BEGIN:STANDARD
TZOFFSETFROM:+0000
TZOFFSETTO:+0000
TZNAME:UTC
DTSTART:20280101T000000
END:STANDARD
END:VTIMEZONE
BEGIN:VEVENT
DTSTART;TZID=UTC:20291227T190000
DTEND;TZID=UTC:20291227T190000
DTSTAMP:20260420T154301
CREATED:20260305T165535Z
LAST-MODIFIED:20260322T224735Z
UID:10020240-1893092400-1893092400@funinfarmington.com
SUMMARY:Ladies and 80's at Sidecar Slider Bar
DESCRIPTION:
URL:https://funinfarmington.com/event/ladies-and-80s-at-sidecar-slider-bar-3/2029-12-27/
LOCATION:Sidecar Slider Bar\, 32720 Grand River Ave\, Farmington\, Michigan\, 48336
CATEGORIES:Music,Women
ATTACH;FMTTYPE=image/png:https://funinfarmington.com/wp-content/uploads/2026/03/ladies-80s.png
END:VEVENT
BEGIN:VEVENT
DTSTART;TZID=UTC:20300103T190000
DTEND;TZID=UTC:20300103T190000
DTSTAMP:20260420T154301
CREATED:20260305T165535Z
LAST-MODIFIED:20260322T224735Z
UID:10020241-1893697200-1893697200@funinfarmington.com
SUMMARY:Ladies and 80's at Sidecar Slider Bar
DESCRIPTION:
URL:https://funinfarmington.com/event/ladies-and-80s-at-sidecar-slider-bar-3/2030-01-03/
LOCATION:Sidecar Slider Bar\, 32720 Grand River Ave\, Farmington\, Michigan\, 48336
CATEGORIES:Music,Women
ATTACH;FMTTYPE=image/png:https://funinfarmington.com/wp-content/uploads/2026/03/ladies-80s.png
END:VEVENT
BEGIN:VEVENT
DTSTART;TZID=UTC:20300110T190000
DTEND;TZID=UTC:20300110T190000
DTSTAMP:20260420T154301
CREATED:20260305T165535Z
LAST-MODIFIED:20260322T224735Z
UID:10020242-1894302000-1894302000@funinfarmington.com
SUMMARY:Ladies and 80's at Sidecar Slider Bar
DESCRIPTION:
URL:https://funinfarmington.com/event/ladies-and-80s-at-sidecar-slider-bar-3/2030-01-10/
LOCATION:Sidecar Slider Bar\, 32720 Grand River Ave\, Farmington\, Michigan\, 48336
CATEGORIES:Music,Women
ATTACH;FMTTYPE=image/png:https://funinfarmington.com/wp-content/uploads/2026/03/ladies-80s.png
END:VEVENT
BEGIN:VEVENT
DTSTART;TZID=UTC:20300117T190000
DTEND;TZID=UTC:20300117T190000
DTSTAMP:20260420T154301
CREATED:20260305T165535Z
LAST-MODIFIED:20260322T224735Z
UID:10020243-1894906800-1894906800@funinfarmington.com
SUMMARY:Ladies and 80's at Sidecar Slider Bar
DESCRIPTION:
URL:https://funinfarmington.com/event/ladies-and-80s-at-sidecar-slider-bar-3/2030-01-17/
LOCATION:Sidecar Slider Bar\, 32720 Grand River Ave\, Farmington\, Michigan\, 48336
CATEGORIES:Music,Women
ATTACH;FMTTYPE=image/png:https://funinfarmington.com/wp-content/uploads/2026/03/ladies-80s.png
END:VEVENT
BEGIN:VEVENT
DTSTART;TZID=UTC:20300124T190000
DTEND;TZID=UTC:20300124T190000
DTSTAMP:20260420T154301
CREATED:20260305T165535Z
LAST-MODIFIED:20260322T224735Z
UID:10020244-1895511600-1895511600@funinfarmington.com
SUMMARY:Ladies and 80's at Sidecar Slider Bar
DESCRIPTION:
URL:https://funinfarmington.com/event/ladies-and-80s-at-sidecar-slider-bar-3/2030-01-24/
LOCATION:Sidecar Slider Bar\, 32720 Grand River Ave\, Farmington\, Michigan\, 48336
CATEGORIES:Music,Women
ATTACH;FMTTYPE=image/png:https://funinfarmington.com/wp-content/uploads/2026/03/ladies-80s.png
END:VEVENT
BEGIN:VEVENT
DTSTART;TZID=UTC:20300131T190000
DTEND;TZID=UTC:20300131T190000
DTSTAMP:20260420T154301
CREATED:20260305T165535Z
LAST-MODIFIED:20260322T224735Z
UID:10020245-1896116400-1896116400@funinfarmington.com
SUMMARY:Ladies and 80's at Sidecar Slider Bar
DESCRIPTION:
URL:https://funinfarmington.com/event/ladies-and-80s-at-sidecar-slider-bar-3/2030-01-31/
LOCATION:Sidecar Slider Bar\, 32720 Grand River Ave\, Farmington\, Michigan\, 48336
CATEGORIES:Music,Women
ATTACH;FMTTYPE=image/png:https://funinfarmington.com/wp-content/uploads/2026/03/ladies-80s.png
END:VEVENT
BEGIN:VEVENT
DTSTART;TZID=UTC:20300207T190000
DTEND;TZID=UTC:20300207T190000
DTSTAMP:20260420T154301
CREATED:20260305T165535Z
LAST-MODIFIED:20260322T224735Z
UID:10020246-1896721200-1896721200@funinfarmington.com
SUMMARY:Ladies and 80's at Sidecar Slider Bar
DESCRIPTION:
URL:https://funinfarmington.com/event/ladies-and-80s-at-sidecar-slider-bar-3/2030-02-07/
LOCATION:Sidecar Slider Bar\, 32720 Grand River Ave\, Farmington\, Michigan\, 48336
CATEGORIES:Music,Women
ATTACH;FMTTYPE=image/png:https://funinfarmington.com/wp-content/uploads/2026/03/ladies-80s.png
END:VEVENT
BEGIN:VEVENT
DTSTART;TZID=UTC:20300214T190000
DTEND;TZID=UTC:20300214T190000
DTSTAMP:20260420T154301
CREATED:20260305T165535Z
LAST-MODIFIED:20260322T224735Z
UID:10020247-1897326000-1897326000@funinfarmington.com
SUMMARY:Ladies and 80's at Sidecar Slider Bar
DESCRIPTION:
URL:https://funinfarmington.com/event/ladies-and-80s-at-sidecar-slider-bar-3/2030-02-14/
LOCATION:Sidecar Slider Bar\, 32720 Grand River Ave\, Farmington\, Michigan\, 48336
CATEGORIES:Music,Women
ATTACH;FMTTYPE=image/png:https://funinfarmington.com/wp-content/uploads/2026/03/ladies-80s.png
END:VEVENT
BEGIN:VEVENT
DTSTART;TZID=UTC:20300221T190000
DTEND;TZID=UTC:20300221T190000
DTSTAMP:20260420T154301
CREATED:20260305T165535Z
LAST-MODIFIED:20260322T224735Z
UID:10020248-1897930800-1897930800@funinfarmington.com
SUMMARY:Ladies and 80's at Sidecar Slider Bar
DESCRIPTION:
URL:https://funinfarmington.com/event/ladies-and-80s-at-sidecar-slider-bar-3/2030-02-21/
LOCATION:Sidecar Slider Bar\, 32720 Grand River Ave\, Farmington\, Michigan\, 48336
CATEGORIES:Music,Women
ATTACH;FMTTYPE=image/png:https://funinfarmington.com/wp-content/uploads/2026/03/ladies-80s.png
END:VEVENT
BEGIN:VEVENT
DTSTART;TZID=UTC:20300228T190000
DTEND;TZID=UTC:20300228T190000
DTSTAMP:20260420T154301
CREATED:20260305T165535Z
LAST-MODIFIED:20260322T224735Z
UID:10020249-1898535600-1898535600@funinfarmington.com
SUMMARY:Ladies and 80's at Sidecar Slider Bar
DESCRIPTION:
URL:https://funinfarmington.com/event/ladies-and-80s-at-sidecar-slider-bar-3/2030-02-28/
LOCATION:Sidecar Slider Bar\, 32720 Grand River Ave\, Farmington\, Michigan\, 48336
CATEGORIES:Music,Women
ATTACH;FMTTYPE=image/png:https://funinfarmington.com/wp-content/uploads/2026/03/ladies-80s.png
END:VEVENT
BEGIN:VEVENT
DTSTART;TZID=UTC:20300307T190000
DTEND;TZID=UTC:20300307T190000
DTSTAMP:20260420T154301
CREATED:20260305T165535Z
LAST-MODIFIED:20260322T224735Z
UID:10020250-1899140400-1899140400@funinfarmington.com
SUMMARY:Ladies and 80's at Sidecar Slider Bar
DESCRIPTION:
URL:https://funinfarmington.com/event/ladies-and-80s-at-sidecar-slider-bar-3/2030-03-07/
LOCATION:Sidecar Slider Bar\, 32720 Grand River Ave\, Farmington\, Michigan\, 48336
CATEGORIES:Music,Women
ATTACH;FMTTYPE=image/png:https://funinfarmington.com/wp-content/uploads/2026/03/ladies-80s.png
END:VEVENT
BEGIN:VEVENT
DTSTART;TZID=UTC:20300314T190000
DTEND;TZID=UTC:20300314T190000
DTSTAMP:20260420T154301
CREATED:20260305T165535Z
LAST-MODIFIED:20260322T224735Z
UID:10020251-1899745200-1899745200@funinfarmington.com
SUMMARY:Ladies and 80's at Sidecar Slider Bar
DESCRIPTION:
URL:https://funinfarmington.com/event/ladies-and-80s-at-sidecar-slider-bar-3/2030-03-14/
LOCATION:Sidecar Slider Bar\, 32720 Grand River Ave\, Farmington\, Michigan\, 48336
CATEGORIES:Music,Women
ATTACH;FMTTYPE=image/png:https://funinfarmington.com/wp-content/uploads/2026/03/ladies-80s.png
END:VEVENT
BEGIN:VEVENT
DTSTART;TZID=UTC:20300321T190000
DTEND;TZID=UTC:20300321T190000
DTSTAMP:20260420T154301
CREATED:20260305T165535Z
LAST-MODIFIED:20260322T224735Z
UID:10020252-1900350000-1900350000@funinfarmington.com
SUMMARY:Ladies and 80's at Sidecar Slider Bar
DESCRIPTION:
URL:https://funinfarmington.com/event/ladies-and-80s-at-sidecar-slider-bar-3/2030-03-21/
LOCATION:Sidecar Slider Bar\, 32720 Grand River Ave\, Farmington\, Michigan\, 48336
CATEGORIES:Music,Women
ATTACH;FMTTYPE=image/png:https://funinfarmington.com/wp-content/uploads/2026/03/ladies-80s.png
END:VEVENT
BEGIN:VEVENT
DTSTART;TZID=UTC:20300328T190000
DTEND;TZID=UTC:20300328T190000
DTSTAMP:20260420T154301
CREATED:20260305T165535Z
LAST-MODIFIED:20260322T224735Z
UID:10020253-1900954800-1900954800@funinfarmington.com
SUMMARY:Ladies and 80's at Sidecar Slider Bar
DESCRIPTION:
URL:https://funinfarmington.com/event/ladies-and-80s-at-sidecar-slider-bar-3/2030-03-28/
LOCATION:Sidecar Slider Bar\, 32720 Grand River Ave\, Farmington\, Michigan\, 48336
CATEGORIES:Music,Women
ATTACH;FMTTYPE=image/png:https://funinfarmington.com/wp-content/uploads/2026/03/ladies-80s.png
END:VEVENT
BEGIN:VEVENT
DTSTART;TZID=UTC:20300404T190000
DTEND;TZID=UTC:20300404T190000
DTSTAMP:20260420T154301
CREATED:20260305T165535Z
LAST-MODIFIED:20260322T224735Z
UID:10020254-1901559600-1901559600@funinfarmington.com
SUMMARY:Ladies and 80's at Sidecar Slider Bar
DESCRIPTION:
URL:https://funinfarmington.com/event/ladies-and-80s-at-sidecar-slider-bar-3/2030-04-04/
LOCATION:Sidecar Slider Bar\, 32720 Grand River Ave\, Farmington\, Michigan\, 48336
CATEGORIES:Music,Women
ATTACH;FMTTYPE=image/png:https://funinfarmington.com/wp-content/uploads/2026/03/ladies-80s.png
END:VEVENT
BEGIN:VEVENT
DTSTART;TZID=UTC:20300411T190000
DTEND;TZID=UTC:20300411T190000
DTSTAMP:20260420T154301
CREATED:20260305T165535Z
LAST-MODIFIED:20260322T224735Z
UID:10020255-1902164400-1902164400@funinfarmington.com
SUMMARY:Ladies and 80's at Sidecar Slider Bar
DESCRIPTION:
URL:https://funinfarmington.com/event/ladies-and-80s-at-sidecar-slider-bar-3/2030-04-11/
LOCATION:Sidecar Slider Bar\, 32720 Grand River Ave\, Farmington\, Michigan\, 48336
CATEGORIES:Music,Women
ATTACH;FMTTYPE=image/png:https://funinfarmington.com/wp-content/uploads/2026/03/ladies-80s.png
END:VEVENT
BEGIN:VEVENT
DTSTART;TZID=UTC:20300418T190000
DTEND;TZID=UTC:20300418T190000
DTSTAMP:20260420T154301
CREATED:20260305T165535Z
LAST-MODIFIED:20260322T224735Z
UID:10020256-1902769200-1902769200@funinfarmington.com
SUMMARY:Ladies and 80's at Sidecar Slider Bar
DESCRIPTION:
URL:https://funinfarmington.com/event/ladies-and-80s-at-sidecar-slider-bar-3/2030-04-18/
LOCATION:Sidecar Slider Bar\, 32720 Grand River Ave\, Farmington\, Michigan\, 48336
CATEGORIES:Music,Women
ATTACH;FMTTYPE=image/png:https://funinfarmington.com/wp-content/uploads/2026/03/ladies-80s.png
END:VEVENT
BEGIN:VEVENT
DTSTART;TZID=UTC:20300425T190000
DTEND;TZID=UTC:20300425T190000
DTSTAMP:20260420T154301
CREATED:20260305T165535Z
LAST-MODIFIED:20260322T224735Z
UID:10020257-1903374000-1903374000@funinfarmington.com
SUMMARY:Ladies and 80's at Sidecar Slider Bar
DESCRIPTION:
URL:https://funinfarmington.com/event/ladies-and-80s-at-sidecar-slider-bar-3/2030-04-25/
LOCATION:Sidecar Slider Bar\, 32720 Grand River Ave\, Farmington\, Michigan\, 48336
CATEGORIES:Music,Women
ATTACH;FMTTYPE=image/png:https://funinfarmington.com/wp-content/uploads/2026/03/ladies-80s.png
END:VEVENT
BEGIN:VEVENT
DTSTART;TZID=UTC:20300502T190000
DTEND;TZID=UTC:20300502T190000
DTSTAMP:20260420T154301
CREATED:20260305T165535Z
LAST-MODIFIED:20260322T224735Z
UID:10020258-1903978800-1903978800@funinfarmington.com
SUMMARY:Ladies and 80's at Sidecar Slider Bar
DESCRIPTION:
URL:https://funinfarmington.com/event/ladies-and-80s-at-sidecar-slider-bar-3/2030-05-02/
LOCATION:Sidecar Slider Bar\, 32720 Grand River Ave\, Farmington\, Michigan\, 48336
CATEGORIES:Music,Women
ATTACH;FMTTYPE=image/png:https://funinfarmington.com/wp-content/uploads/2026/03/ladies-80s.png
END:VEVENT
BEGIN:VEVENT
DTSTART;TZID=UTC:20300509T190000
DTEND;TZID=UTC:20300509T190000
DTSTAMP:20260420T154301
CREATED:20260305T165535Z
LAST-MODIFIED:20260322T224735Z
UID:10020259-1904583600-1904583600@funinfarmington.com
SUMMARY:Ladies and 80's at Sidecar Slider Bar
DESCRIPTION:
URL:https://funinfarmington.com/event/ladies-and-80s-at-sidecar-slider-bar-3/2030-05-09/
LOCATION:Sidecar Slider Bar\, 32720 Grand River Ave\, Farmington\, Michigan\, 48336
CATEGORIES:Music,Women
ATTACH;FMTTYPE=image/png:https://funinfarmington.com/wp-content/uploads/2026/03/ladies-80s.png
END:VEVENT
BEGIN:VEVENT
DTSTART;TZID=UTC:20300516T190000
DTEND;TZID=UTC:20300516T190000
DTSTAMP:20260420T154301
CREATED:20260305T165535Z
LAST-MODIFIED:20260322T224735Z
UID:10020260-1905188400-1905188400@funinfarmington.com
SUMMARY:Ladies and 80's at Sidecar Slider Bar
DESCRIPTION:
URL:https://funinfarmington.com/event/ladies-and-80s-at-sidecar-slider-bar-3/2030-05-16/
LOCATION:Sidecar Slider Bar\, 32720 Grand River Ave\, Farmington\, Michigan\, 48336
CATEGORIES:Music,Women
ATTACH;FMTTYPE=image/png:https://funinfarmington.com/wp-content/uploads/2026/03/ladies-80s.png
END:VEVENT
BEGIN:VEVENT
DTSTART;TZID=UTC:20300523T190000
DTEND;TZID=UTC:20300523T190000
DTSTAMP:20260420T154301
CREATED:20260305T165535Z
LAST-MODIFIED:20260322T224735Z
UID:10020261-1905793200-1905793200@funinfarmington.com
SUMMARY:Ladies and 80's at Sidecar Slider Bar
DESCRIPTION:
URL:https://funinfarmington.com/event/ladies-and-80s-at-sidecar-slider-bar-3/2030-05-23/
LOCATION:Sidecar Slider Bar\, 32720 Grand River Ave\, Farmington\, Michigan\, 48336
CATEGORIES:Music,Women
ATTACH;FMTTYPE=image/png:https://funinfarmington.com/wp-content/uploads/2026/03/ladies-80s.png
END:VEVENT
BEGIN:VEVENT
DTSTART;TZID=UTC:20300530T190000
DTEND;TZID=UTC:20300530T190000
DTSTAMP:20260420T154301
CREATED:20260305T165535Z
LAST-MODIFIED:20260322T224735Z
UID:10020262-1906398000-1906398000@funinfarmington.com
SUMMARY:Ladies and 80's at Sidecar Slider Bar
DESCRIPTION:
URL:https://funinfarmington.com/event/ladies-and-80s-at-sidecar-slider-bar-3/2030-05-30/
LOCATION:Sidecar Slider Bar\, 32720 Grand River Ave\, Farmington\, Michigan\, 48336
CATEGORIES:Music,Women
ATTACH;FMTTYPE=image/png:https://funinfarmington.com/wp-content/uploads/2026/03/ladies-80s.png
END:VEVENT
BEGIN:VEVENT
DTSTART;TZID=UTC:20300606T190000
DTEND;TZID=UTC:20300606T190000
DTSTAMP:20260420T154301
CREATED:20260305T165535Z
LAST-MODIFIED:20260322T224735Z
UID:10020263-1907002800-1907002800@funinfarmington.com
SUMMARY:Ladies and 80's at Sidecar Slider Bar
DESCRIPTION:
URL:https://funinfarmington.com/event/ladies-and-80s-at-sidecar-slider-bar-3/2030-06-06/
LOCATION:Sidecar Slider Bar\, 32720 Grand River Ave\, Farmington\, Michigan\, 48336
CATEGORIES:Music,Women
ATTACH;FMTTYPE=image/png:https://funinfarmington.com/wp-content/uploads/2026/03/ladies-80s.png
END:VEVENT
BEGIN:VEVENT
DTSTART;TZID=UTC:20300613T190000
DTEND;TZID=UTC:20300613T190000
DTSTAMP:20260420T154301
CREATED:20260305T165535Z
LAST-MODIFIED:20260322T224735Z
UID:10020264-1907607600-1907607600@funinfarmington.com
SUMMARY:Ladies and 80's at Sidecar Slider Bar
DESCRIPTION:
URL:https://funinfarmington.com/event/ladies-and-80s-at-sidecar-slider-bar-3/2030-06-13/
LOCATION:Sidecar Slider Bar\, 32720 Grand River Ave\, Farmington\, Michigan\, 48336
CATEGORIES:Music,Women
ATTACH;FMTTYPE=image/png:https://funinfarmington.com/wp-content/uploads/2026/03/ladies-80s.png
END:VEVENT
BEGIN:VEVENT
DTSTART;TZID=UTC:20300620T190000
DTEND;TZID=UTC:20300620T190000
DTSTAMP:20260420T154301
CREATED:20260305T165535Z
LAST-MODIFIED:20260322T224735Z
UID:10020265-1908212400-1908212400@funinfarmington.com
SUMMARY:Ladies and 80's at Sidecar Slider Bar
DESCRIPTION:
URL:https://funinfarmington.com/event/ladies-and-80s-at-sidecar-slider-bar-3/2030-06-20/
LOCATION:Sidecar Slider Bar\, 32720 Grand River Ave\, Farmington\, Michigan\, 48336
CATEGORIES:Music,Women
ATTACH;FMTTYPE=image/png:https://funinfarmington.com/wp-content/uploads/2026/03/ladies-80s.png
END:VEVENT
BEGIN:VEVENT
DTSTART;TZID=UTC:20300627T190000
DTEND;TZID=UTC:20300627T190000
DTSTAMP:20260420T154301
CREATED:20260305T165535Z
LAST-MODIFIED:20260322T224735Z
UID:10020266-1908817200-1908817200@funinfarmington.com
SUMMARY:Ladies and 80's at Sidecar Slider Bar
DESCRIPTION:
URL:https://funinfarmington.com/event/ladies-and-80s-at-sidecar-slider-bar-3/2030-06-27/
LOCATION:Sidecar Slider Bar\, 32720 Grand River Ave\, Farmington\, Michigan\, 48336
CATEGORIES:Music,Women
ATTACH;FMTTYPE=image/png:https://funinfarmington.com/wp-content/uploads/2026/03/ladies-80s.png
END:VEVENT
BEGIN:VEVENT
DTSTART;TZID=UTC:20300704T190000
DTEND;TZID=UTC:20300704T190000
DTSTAMP:20260420T154301
CREATED:20260305T165535Z
LAST-MODIFIED:20260322T224735Z
UID:10020267-1909422000-1909422000@funinfarmington.com
SUMMARY:Ladies and 80's at Sidecar Slider Bar
DESCRIPTION:
URL:https://funinfarmington.com/event/ladies-and-80s-at-sidecar-slider-bar-3/2030-07-04/
LOCATION:Sidecar Slider Bar\, 32720 Grand River Ave\, Farmington\, Michigan\, 48336
CATEGORIES:Music,Women
ATTACH;FMTTYPE=image/png:https://funinfarmington.com/wp-content/uploads/2026/03/ladies-80s.png
END:VEVENT
BEGIN:VEVENT
DTSTART;TZID=UTC:20300711T190000
DTEND;TZID=UTC:20300711T190000
DTSTAMP:20260420T154301
CREATED:20260305T165535Z
LAST-MODIFIED:20260322T224735Z
UID:10020268-1910026800-1910026800@funinfarmington.com
SUMMARY:Ladies and 80's at Sidecar Slider Bar
DESCRIPTION:
URL:https://funinfarmington.com/event/ladies-and-80s-at-sidecar-slider-bar-3/2030-07-11/
LOCATION:Sidecar Slider Bar\, 32720 Grand River Ave\, Farmington\, Michigan\, 48336
CATEGORIES:Music,Women
ATTACH;FMTTYPE=image/png:https://funinfarmington.com/wp-content/uploads/2026/03/ladies-80s.png
END:VEVENT
BEGIN:VEVENT
DTSTART;TZID=UTC:20300718T190000
DTEND;TZID=UTC:20300718T190000
DTSTAMP:20260420T154301
CREATED:20260305T165535Z
LAST-MODIFIED:20260322T224735Z
UID:10020269-1910631600-1910631600@funinfarmington.com
SUMMARY:Ladies and 80's at Sidecar Slider Bar
DESCRIPTION:
URL:https://funinfarmington.com/event/ladies-and-80s-at-sidecar-slider-bar-3/2030-07-18/
LOCATION:Sidecar Slider Bar\, 32720 Grand River Ave\, Farmington\, Michigan\, 48336
CATEGORIES:Music,Women
ATTACH;FMTTYPE=image/png:https://funinfarmington.com/wp-content/uploads/2026/03/ladies-80s.png
END:VEVENT
END:VCALENDAR