BEGIN:VCALENDAR
VERSION:2.0
PRODID:-//Fun in Farmington - ECPv6.15.20//NONSGML v1.0//EN
CALSCALE:GREGORIAN
METHOD:PUBLISH
X-WR-CALNAME:Fun in Farmington
X-ORIGINAL-URL:https://funinfarmington.com
X-WR-CALDESC:Events for Fun in Farmington
REFRESH-INTERVAL;VALUE=DURATION:PT1H
X-Robots-Tag:noindex
X-PUBLISHED-TTL:PT1H
BEGIN:VTIMEZONE
TZID:UTC
BEGIN:STANDARD
TZOFFSETFROM:+0000
TZOFFSETTO:+0000
TZNAME:UTC
DTSTART:20250101T000000
END:STANDARD
END:VTIMEZONE
BEGIN:VEVENT
DTSTART;TZID=UTC:20260407T190000
DTEND;TZID=UTC:20260407T194500
DTSTAMP:20260421T125539
CREATED:20260323T145415Z
LAST-MODIFIED:20260323T145415Z
UID:10020314-1775588400-1775591100@funinfarmington.com
SUMMARY:Rouge River (VIRTUAL Webinar)
DESCRIPTION:Broaden your horizons and enhance your nature knowledge! Explore a new topic each month. We will cover the basics during the FREE\, VIRTUAL Zoom presentation. Pre-registration is required. Zoom link will be sent out in the days prior to meeting.
URL:https://funinfarmington.com/event/rouge-river-virtual-webinar/
LOCATION:Zoom – Virtual
CATEGORIES:Educational,NAture
END:VEVENT
END:VCALENDAR