BEGIN:VCALENDAR
VERSION:2.0
PRODID:-//Fun in Farmington - ECPv6.15.20//NONSGML v1.0//EN
CALSCALE:GREGORIAN
METHOD:PUBLISH
X-WR-CALNAME:Fun in Farmington
X-ORIGINAL-URL:https://funinfarmington.com
X-WR-CALDESC:Events for Fun in Farmington
REFRESH-INTERVAL;VALUE=DURATION:PT1H
X-Robots-Tag:noindex
X-PUBLISHED-TTL:PT1H
BEGIN:VTIMEZONE
TZID:UTC
BEGIN:STANDARD
TZOFFSETFROM:+0000
TZOFFSETTO:+0000
TZNAME:UTC
DTSTART:20250101T000000
END:STANDARD
END:VTIMEZONE
BEGIN:VEVENT
DTSTART;TZID=UTC:20260421T110000
DTEND;TZID=UTC:20260421T160000
DTSTAMP:20260421T180802
CREATED:20260419T234059Z
LAST-MODIFIED:20260419T234059Z
UID:10020920-1776769200-1776787200@funinfarmington.com
SUMMARY:Earth Day Pet Photo Shoot at Tolonen Family Pet Shop
DESCRIPTION:Celebrate Earth Day with us and your\nfurry friends! \nWe’re hosting a special Earth Day Pet Photo Shoot + Eco-Friendly Sale to\nhighlight the importance of caring for our pets and our planet. \nWhy It Matters \nFrom natural ingredients to sustainable packaging\, the products you choose for\nyour pet can make a difference. This event is all about helping you discover\nbetter choices for your pet and the planet.
URL:https://funinfarmington.com/event/earth-day-pet-photo-shoot-at-tolonen-family-pet-shop/
LOCATION:Tolonen Family Pet\, 23320 Farmington Rd\, Farmington\, Michigan\, 48336
CATEGORIES:NAture,Pets,Photography,Shopping
END:VEVENT
END:VCALENDAR