BEGIN:VCALENDAR
VERSION:2.0
PRODID:-//Fun in Farmington - ECPv6.15.20//NONSGML v1.0//EN
CALSCALE:GREGORIAN
METHOD:PUBLISH
X-ORIGINAL-URL:https://funinfarmington.com
X-WR-CALDESC:Events for Fun in Farmington
REFRESH-INTERVAL;VALUE=DURATION:PT1H
X-Robots-Tag:noindex
X-PUBLISHED-TTL:PT1H
BEGIN:VTIMEZONE
TZID:UTC
BEGIN:STANDARD
TZOFFSETFROM:+0000
TZOFFSETTO:+0000
TZNAME:UTC
DTSTART:20240101T000000
END:STANDARD
END:VTIMEZONE
BEGIN:VEVENT
DTSTART;TZID=UTC:20251115T130000
DTEND;TZID=UTC:20251115T150000
DTSTAMP:20260424T154344
CREATED:20251002T151108Z
LAST-MODIFIED:20251002T151108Z
UID:10017809-1763211600-1763218800@funinfarmington.com
SUMMARY:Volunteer Days at Heritage
DESCRIPTION:Volunteer to make Heritage Park an even better place! Participate in activities like removing invasive plants\, planting native wildflowers\, collecting seeds\, trail and nature center maintenance\, and more! Call the Nature Center to learn more about this month’s volunteer activities.\nAll ages and skill levels welcome\, just show up! Children must be accompanied by an adult. For groups of 5 or more\, please call the Nature Center to let us know you’re coming in advance.\nBring your own gardening/work gloves if you have them. All equipment provided.
URL:https://funinfarmington.com/event/volunteer-days-at-heritage-2/2025-11-15/
LOCATION:Heritage Park\, 24915 Farmington Rd\, Farmington Hills\, MI\, 48336\, United States
CATEGORIES:NAture,Volunteer
END:VEVENT
BEGIN:VEVENT
DTSTART;TZID=UTC:20251115T130000
DTEND;TZID=UTC:20251115T150000
DTSTAMP:20260424T154344
CREATED:20250918T171015Z
LAST-MODIFIED:20250918T171015Z
UID:10017658-1763211600-1763218800@funinfarmington.com
SUMMARY:Volunteer Days at Heritage
DESCRIPTION:Volunteer to make Heritage Park an even better place! Participate in activities like removing invasive plants\, planting native wildflowers\, collecting seeds\, trail and nature center maintenance\, and more! Call the Nature Center to learn more about this month’s volunteer activities.\nAll ages and skill levels welcome\, just show up! Children must be accompanied by an adult. For groups of 5 or more\, please call the Nature Center to let us know you’re coming in advance.\nBring your own gardening/work gloves if you have them. All equipment provided.
URL:https://funinfarmington.com/event/volunteer-days-at-heritage/2025-11-15/
LOCATION:Farmington Hills Nature Center\, 24915 Farmington Rd\, Farmington Hills\, MI\, 48336
CATEGORIES:NAture,Volunteer
END:VEVENT
BEGIN:VEVENT
DTSTART;TZID=UTC:20251107T200000
DTEND;TZID=UTC:20251107T210000
DTSTAMP:20260424T154344
CREATED:20251106T162322Z
LAST-MODIFIED:20251106T162322Z
UID:10018065-1762545600-1762549200@funinfarmington.com
SUMMARY:Full Moon Night Hike at Heritage
DESCRIPTION:Experience an entirely new world: Heritage Park after dark! Enjoy a guided sensory hike through the trails in search of nocturnal animals\, features of the night sky and the mysterious sounds of the woods. Don’t miss the nighttime fun!\nDress for the weather. Arrive early on Sept 19 & Oct 24 for a fall hayride and campfire for only $5 more (5:30-7pm). S’mores and Cider also available for purchase during Hayride.\nRegister here: https://tinyurl.com/fhncfallnighthikes25\nActivity code: PN1219Age: 5+Cost: $3 per person
URL:https://funinfarmington.com/event/full-moon-night-hike-at-heritage/
LOCATION:Heritage Park\, 24915 Farmington Rd\, Farmington Hills\, MI\, 48336\, United States
CATEGORIES:NAture
END:VEVENT
BEGIN:VEVENT
DTSTART;TZID=UTC:20251024T200000
DTEND;TZID=UTC:20251024T210000
DTSTAMP:20260424T154344
CREATED:20251002T151113Z
LAST-MODIFIED:20251002T151113Z
UID:10017806-1761336000-1761339600@funinfarmington.com
SUMMARY:Full Moon Night Hike
DESCRIPTION:Experience an entirely new world: Heritage Park after dark! Enjoy a guided sensory hike through the trails in search of nocturnal animals\, features of the night sky and the mysterious sounds of the woods. Don’t miss the nighttime fun!\nDress for the weather. Arrive early on Sept 19 & Oct 24 for a fall hayride and campfire for only $5 more (5:30-7pm). S’mores and Cider also available for purchase during Hayride.\nRegister here: https://tinyurl.com/fhncfallnighthikes25\nActivity code: PN1219\nAge: 5+\nCost: $3 per person
URL:https://funinfarmington.com/event/full-moon-night-hike/
LOCATION:MI
CATEGORIES:NAture
END:VEVENT
BEGIN:VEVENT
DTSTART;TZID=UTC:20251018T130000
DTEND;TZID=UTC:20251018T150000
DTSTAMP:20260424T154344
CREATED:20251002T151108Z
LAST-MODIFIED:20251002T151108Z
UID:10017808-1760792400-1760799600@funinfarmington.com
SUMMARY:Volunteer Days at Heritage
DESCRIPTION:Volunteer to make Heritage Park an even better place! Participate in activities like removing invasive plants\, planting native wildflowers\, collecting seeds\, trail and nature center maintenance\, and more! Call the Nature Center to learn more about this month’s volunteer activities.\nAll ages and skill levels welcome\, just show up! Children must be accompanied by an adult. For groups of 5 or more\, please call the Nature Center to let us know you’re coming in advance.\nBring your own gardening/work gloves if you have them. All equipment provided.
URL:https://funinfarmington.com/event/volunteer-days-at-heritage-2/2025-10-18/
LOCATION:Heritage Park\, 24915 Farmington Rd\, Farmington Hills\, MI\, 48336\, United States
CATEGORIES:NAture,Volunteer
END:VEVENT
BEGIN:VEVENT
DTSTART;TZID=UTC:20251018T130000
DTEND;TZID=UTC:20251018T150000
DTSTAMP:20260424T154344
CREATED:20250918T171015Z
LAST-MODIFIED:20250918T171015Z
UID:10017657-1760792400-1760799600@funinfarmington.com
SUMMARY:Volunteer Days at Heritage
DESCRIPTION:Volunteer to make Heritage Park an even better place! Participate in activities like removing invasive plants\, planting native wildflowers\, collecting seeds\, trail and nature center maintenance\, and more! Call the Nature Center to learn more about this month’s volunteer activities.\nAll ages and skill levels welcome\, just show up! Children must be accompanied by an adult. For groups of 5 or more\, please call the Nature Center to let us know you’re coming in advance.\nBring your own gardening/work gloves if you have them. All equipment provided.
URL:https://funinfarmington.com/event/volunteer-days-at-heritage/2025-10-18/
LOCATION:Farmington Hills Nature Center\, 24915 Farmington Rd\, Farmington Hills\, MI\, 48336
CATEGORIES:NAture,Volunteer
END:VEVENT
BEGIN:VEVENT
DTSTART;TZID=UTC:20251012T130000
DTEND;TZID=UTC:20251012T140000
DTSTAMP:20260424T154344
CREATED:20251002T151118Z
LAST-MODIFIED:20251002T151118Z
UID:10017805-1760274000-1760277600@funinfarmington.com
SUMMARY:Fall Color Walk at Heritage
DESCRIPTION:Experience the magic of the season! Take a guided hike under a canopy of color through Heritage Park. Discover why and how leaves change color in the fall\, and search for animals preparing for winter.\nPlease dress for the weather. Pre-registration is required. Children must be accompanied by an adult. Fee applies to adults and children.\nRegister here: https://tinyurl.com/heritagecolorwalk\nActivity Code: PN1236-02\nAge: 5+\nCost: $3 per person
URL:https://funinfarmington.com/event/fall-color-walk-at-heritage/
LOCATION:Heritage Park\, 24915 Farmington Rd\, Farmington Hills\, MI\, 48336\, United States
CATEGORIES:NAture
END:VEVENT
BEGIN:VEVENT
DTSTART;TZID=UTC:20250920T130000
DTEND;TZID=UTC:20250920T150000
DTSTAMP:20260424T154344
CREATED:20250918T171015Z
LAST-MODIFIED:20250918T171015Z
UID:10017656-1758373200-1758380400@funinfarmington.com
SUMMARY:Volunteer Days at Heritage
DESCRIPTION:Volunteer to make Heritage Park an even better place! Participate in activities like removing invasive plants\, planting native wildflowers\, collecting seeds\, trail and nature center maintenance\, and more! Call the Nature Center to learn more about this month’s volunteer activities.\nAll ages and skill levels welcome\, just show up! Children must be accompanied by an adult. For groups of 5 or more\, please call the Nature Center to let us know you’re coming in advance.\nBring your own gardening/work gloves if you have them. All equipment provided.
URL:https://funinfarmington.com/event/volunteer-days-at-heritage/2025-09-20/
LOCATION:Farmington Hills Nature Center\, 24915 Farmington Rd\, Farmington Hills\, MI\, 48336
CATEGORIES:NAture,Volunteer
END:VEVENT
BEGIN:VEVENT
DTSTART;TZID=UTC:20250830T080000
DTEND;TZID=UTC:20250830T110000
DTSTAMP:20260424T154344
CREATED:20250828T232727Z
LAST-MODIFIED:20250828T232727Z
UID:10016893-1756540800-1756551600@funinfarmington.com
SUMMARY:Heritage Park Fall Migration with Oakland Bird Alliance
DESCRIPTION:Preregistration is required\, contact the trip leader to registerLeader: George Harris gbharrisiv@gmail.com\nLet’s find those early migrating warblers. vireos\, and flycatchers\, and ???. Heritage Park is reliably a wonderful spot for fall migration\, so let’s see what is out there in late August. Trails are well groomed at this multi-use facility. Plan on a leisurely 2-mile hike. Insect repellent is suggested.\nModern restroom facilities. Space is somewhat limited and these trips usually fill up early.\nThis Farmington Hills park is located on Farmington Road\, south of 11 Mile.
URL:https://funinfarmington.com/event/heritage-park-fall-migration-with-oakland-bird-alliance/
LOCATION:Heritage Park\, 24915 Farmington Rd\, Farmington Hills\, MI\, 48336\, United States
CATEGORIES:NAture
END:VEVENT
BEGIN:VEVENT
DTSTART;TZID=UTC:20250812T103000
DTEND;TZID=UTC:20250812T113000
DTSTAMP:20260424T154344
CREATED:20250603T154222Z
LAST-MODIFIED:20250603T154222Z
UID:10016513-1754994600-1754998200@funinfarmington.com
SUMMARY:Nature Time at Nature Center
DESCRIPTION:Join a special guest instructor from Heavner Canoe and Kayak for nature-themed activities and a short\, guided walk. All ages are welcome. Children must be accompanied by an adult. No pre-registration\, just show up and meet at the Nature Center. \n\nCost: FREEAges: All
URL:https://funinfarmington.com/event/nature-time-at-nature-center/2025-08-12/
LOCATION:Farmington Hills Nature Center\, 24915 Farmington Rd\, Farmington Hills\, MI\, 48336
CATEGORIES:Kids & Families,NAture
END:VEVENT
BEGIN:VEVENT
DTSTART;TZID=UTC:20250805T103000
DTEND;TZID=UTC:20250805T113000
DTSTAMP:20260424T154344
CREATED:20250603T154222Z
LAST-MODIFIED:20250603T154222Z
UID:10016512-1754389800-1754393400@funinfarmington.com
SUMMARY:Nature Time at Nature Center
DESCRIPTION:Join a special guest instructor from Heavner Canoe and Kayak for nature-themed activities and a short\, guided walk. All ages are welcome. Children must be accompanied by an adult. No pre-registration\, just show up and meet at the Nature Center. \n\nCost: FREEAges: All
URL:https://funinfarmington.com/event/nature-time-at-nature-center/2025-08-05/
LOCATION:Farmington Hills Nature Center\, 24915 Farmington Rd\, Farmington Hills\, MI\, 48336
CATEGORIES:Kids & Families,NAture
END:VEVENT
BEGIN:VEVENT
DTSTART;TZID=UTC:20250729T103000
DTEND;TZID=UTC:20250729T113000
DTSTAMP:20260424T154344
CREATED:20250603T154222Z
LAST-MODIFIED:20250603T154222Z
UID:10016511-1753785000-1753788600@funinfarmington.com
SUMMARY:Nature Time at Nature Center
DESCRIPTION:Join a special guest instructor from Heavner Canoe and Kayak for nature-themed activities and a short\, guided walk. All ages are welcome. Children must be accompanied by an adult. No pre-registration\, just show up and meet at the Nature Center. \n\nCost: FREEAges: All
URL:https://funinfarmington.com/event/nature-time-at-nature-center/2025-07-29/
LOCATION:Farmington Hills Nature Center\, 24915 Farmington Rd\, Farmington Hills\, MI\, 48336
CATEGORIES:Kids & Families,NAture
END:VEVENT
BEGIN:VEVENT
DTSTART;TZID=UTC:20250722T103000
DTEND;TZID=UTC:20250722T113000
DTSTAMP:20260424T154344
CREATED:20250603T154222Z
LAST-MODIFIED:20250603T154222Z
UID:10016510-1753180200-1753183800@funinfarmington.com
SUMMARY:Nature Time at Nature Center
DESCRIPTION:Join a special guest instructor from Heavner Canoe and Kayak for nature-themed activities and a short\, guided walk. All ages are welcome. Children must be accompanied by an adult. No pre-registration\, just show up and meet at the Nature Center. \n\nCost: FREEAges: All
URL:https://funinfarmington.com/event/nature-time-at-nature-center/2025-07-22/
LOCATION:Farmington Hills Nature Center\, 24915 Farmington Rd\, Farmington Hills\, MI\, 48336
CATEGORIES:Kids & Families,NAture
END:VEVENT
BEGIN:VEVENT
DTSTART;TZID=UTC:20250715T103000
DTEND;TZID=UTC:20250715T113000
DTSTAMP:20260424T154344
CREATED:20250603T154222Z
LAST-MODIFIED:20250603T154222Z
UID:10016509-1752575400-1752579000@funinfarmington.com
SUMMARY:Nature Time at Nature Center
DESCRIPTION:Join a special guest instructor from Heavner Canoe and Kayak for nature-themed activities and a short\, guided walk. All ages are welcome. Children must be accompanied by an adult. No pre-registration\, just show up and meet at the Nature Center. \n\nCost: FREEAges: All
URL:https://funinfarmington.com/event/nature-time-at-nature-center/2025-07-15/
LOCATION:Farmington Hills Nature Center\, 24915 Farmington Rd\, Farmington Hills\, MI\, 48336
CATEGORIES:Kids & Families,NAture
END:VEVENT
BEGIN:VEVENT
DTSTART;TZID=UTC:20250712T130000
DTEND;TZID=UTC:20250712T140000
DTSTAMP:20260424T154344
CREATED:20250710T165658Z
LAST-MODIFIED:20250710T165658Z
UID:10016876-1752325200-1752328800@funinfarmington.com
SUMMARY:Creating a Backyard Butterfly Habitat at Library (FH)
DESCRIPTION:Library events are always free to the public and you do not need a library card to attend! \n\nThe Farmington Community Library has two locations. This event will be held in the Auditorium at the FCL Farmington Hills location at 32737 W. 12 Mile Rd.\, Farmington Hills\, MI 48334. \n\nDid you know Michigan is home to over 130 unique species of butterflies? Our climate supports both these delicate pollinators and the plants they rely on. With a bit of planning\, you can transform your backyard into a vibrant butterfly habitat for years to come.\n\nJoin Joe Derek\, a retired certified naturalist from Farmington Hills\, for expert tips and stunning photos from his 25 years of creating and maintaining his backyard butterfly sanctuary. Plus\, learn how to identify the butterflies that you attract!
URL:https://funinfarmington.com/event/creating-a-backyard-butterfly-habitat-at-library-fh/
LOCATION:Farmington Community Library – Farmington Hills Location\, 32737 W. 12 Mile Rd.\, Farmington Hills\, Michigan\, 48334
CATEGORIES:NAture
END:VEVENT
BEGIN:VEVENT
DTSTART;TZID=UTC:20250708T103000
DTEND;TZID=UTC:20250708T113000
DTSTAMP:20260424T154344
CREATED:20250603T154222Z
LAST-MODIFIED:20250603T154222Z
UID:10016508-1751970600-1751974200@funinfarmington.com
SUMMARY:Nature Time at Nature Center
DESCRIPTION:Join a special guest instructor from Heavner Canoe and Kayak for nature-themed activities and a short\, guided walk. All ages are welcome. Children must be accompanied by an adult. No pre-registration\, just show up and meet at the Nature Center. \n\nCost: FREEAges: All
URL:https://funinfarmington.com/event/nature-time-at-nature-center/2025-07-08/
LOCATION:Farmington Hills Nature Center\, 24915 Farmington Rd\, Farmington Hills\, MI\, 48336
CATEGORIES:Kids & Families,NAture
END:VEVENT
BEGIN:VEVENT
DTSTART;TZID=UTC:20250701T103000
DTEND;TZID=UTC:20250701T113000
DTSTAMP:20260424T154344
CREATED:20250603T154222Z
LAST-MODIFIED:20250603T154222Z
UID:10016507-1751365800-1751369400@funinfarmington.com
SUMMARY:Nature Time at Nature Center
DESCRIPTION:Join a special guest instructor from Heavner Canoe and Kayak for nature-themed activities and a short\, guided walk. All ages are welcome. Children must be accompanied by an adult. No pre-registration\, just show up and meet at the Nature Center. \n\nCost: FREEAges: All
URL:https://funinfarmington.com/event/nature-time-at-nature-center/2025-07-01/
LOCATION:Farmington Hills Nature Center\, 24915 Farmington Rd\, Farmington Hills\, MI\, 48336
CATEGORIES:Kids & Families,NAture
END:VEVENT
BEGIN:VEVENT
DTSTART;TZID=UTC:20250628T140000
DTEND;TZID=UTC:20250628T143000
DTSTAMP:20260424T154345
CREATED:20250626T150823Z
LAST-MODIFIED:20250626T150823Z
UID:10016855-1751119200-1751121000@funinfarmington.com
SUMMARY:Pop Up Story Time: The Great Butterfly Release at Heritage
DESCRIPTION:Library events are always free to the public and you do not need a library card to attend! \n\nThis event will take place at Heritage Park in Pollinator Garden at 24915 Farmington Road\, Farmington Hills. \n\nThe butterflies have emerged from their chrysalises and it’s time to release them! Join us in the Pollinator Garden at Heritage Park as we read a story and bring the butterflies out into the garden. The pollinator garden is located on the Nature Center side of the park\, to the left of the entrance. The garden is found at the end of the Storybook Walk or by following the Nature Discovery Trail to the left of the entrance road. Hope you see you there!
URL:https://funinfarmington.com/event/pop-up-story-time-the-great-butterfly-release-at-heritage/
LOCATION:Farmington Hills Nature Center\, 24915 Farmington Rd\, Farmington Hills\, MI\, 48336
CATEGORIES:Kids & Families,NAture
END:VEVENT
BEGIN:VEVENT
DTSTART;TZID=UTC:20250627T213000
DTEND;TZID=UTC:20250627T223000
DTSTAMP:20260424T154345
CREATED:20250612T143854Z
LAST-MODIFIED:20250612T143854Z
UID:10016761-1751059800-1751063400@funinfarmington.com
SUMMARY:Adults Only Night Hike at Heritage
DESCRIPTION:By popular demand. Experience Heritage Park after dark on this “adults only” guided night hike! Don’t let the kids have all the fun! Pre-registration required. Program will take place entirely outdoors. Be sure to sign up for the Late-Night Mothing program after the Night Hike too!
URL:https://funinfarmington.com/event/adults-only-night-hike-at-heritage/
LOCATION:Heritage Park\, 24915 Farmington Rd\, Farmington Hills\, MI\, 48336\, United States
CATEGORIES:NAture
END:VEVENT
BEGIN:VEVENT
DTSTART;TZID=UTC:20250624T103000
DTEND;TZID=UTC:20250624T113000
DTSTAMP:20260424T154345
CREATED:20250603T154222Z
LAST-MODIFIED:20250603T154222Z
UID:10016506-1750761000-1750764600@funinfarmington.com
SUMMARY:Nature Time at Nature Center
DESCRIPTION:Join a special guest instructor from Heavner Canoe and Kayak for nature-themed activities and a short\, guided walk. All ages are welcome. Children must be accompanied by an adult. No pre-registration\, just show up and meet at the Nature Center. \n\nCost: FREEAges: All
URL:https://funinfarmington.com/event/nature-time-at-nature-center/2025-06-24/
LOCATION:Farmington Hills Nature Center\, 24915 Farmington Rd\, Farmington Hills\, MI\, 48336
CATEGORIES:Kids & Families,NAture
END:VEVENT
BEGIN:VEVENT
DTSTART;TZID=UTC:20250617T103000
DTEND;TZID=UTC:20250617T113000
DTSTAMP:20260424T154345
CREATED:20250603T154222Z
LAST-MODIFIED:20250603T154222Z
UID:10016505-1750156200-1750159800@funinfarmington.com
SUMMARY:Nature Time at Nature Center
DESCRIPTION:Join a special guest instructor from Heavner Canoe and Kayak for nature-themed activities and a short\, guided walk. All ages are welcome. Children must be accompanied by an adult. No pre-registration\, just show up and meet at the Nature Center. \n\nCost: FREEAges: All
URL:https://funinfarmington.com/event/nature-time-at-nature-center/2025-06-17/
LOCATION:Farmington Hills Nature Center\, 24915 Farmington Rd\, Farmington Hills\, MI\, 48336
CATEGORIES:Kids & Families,NAture
END:VEVENT
END:VCALENDAR