BEGIN:VCALENDAR
VERSION:2.0
PRODID:-//Fun in Farmington - ECPv6.15.20//NONSGML v1.0//EN
CALSCALE:GREGORIAN
METHOD:PUBLISH
X-ORIGINAL-URL:https://funinfarmington.com
X-WR-CALDESC:Events for Fun in Farmington
REFRESH-INTERVAL;VALUE=DURATION:PT1H
X-Robots-Tag:noindex
X-PUBLISHED-TTL:PT1H
BEGIN:VTIMEZONE
TZID:UTC
BEGIN:STANDARD
TZOFFSETFROM:+0000
TZOFFSETTO:+0000
TZNAME:UTC
DTSTART:20250101T000000
END:STANDARD
END:VTIMEZONE
BEGIN:VEVENT
DTSTART;TZID=UTC:20260422T160000
DTEND;TZID=UTC:20260422T190000
DTSTAMP:20260419T175538
CREATED:20260305T172507Z
LAST-MODIFIED:20260305T172507Z
UID:10019979-1776873600-1776884400@funinfarmington.com
SUMMARY:Earth Day Celebration at Heritage Park
DESCRIPTION:The City of Farmington Hills is celebrating Earth Day at the Farmington Hills Nature Center. This family-friendly event aims to promote environmental awareness and sustainability through interactive activities and informational booths. With free admission for all\, it’s a celebration not to be missed with live music\, face painting\, food trucks and more! No registration is required.\nHighlights•Family-Friendly Activities: Enjoy eco-crafts and activities for both kids and adults.•Interactive Booths: Explore earth-friendly topics and get helpful resources to incorporate sustainable living into your daily routines.•Visit the Farmington Hills Nature Center: Learn more about the flora and fauna around you. Then\, take a hike through Heritage Park to spot the wildlife you learned about.
URL:https://funinfarmington.com/event/earth-day-celebration-at-heritage-park/
LOCATION:Heritage Park\, 24915 Farmington Rd\, Farmington Hills\, MI\, 48336\, United States
CATEGORIES:Community,Festival,Kids & Families,NAture,Older Adults,Parents,Seniors,Teens
END:VEVENT
BEGIN:VEVENT
DTSTART;TZID=UTC:20260501T213000
DTEND;TZID=UTC:20260501T223000
DTSTAMP:20260419T175538
CREATED:20260418T212326Z
LAST-MODIFIED:20260418T212326Z
UID:10020835-1777671000-1777674600@funinfarmington.com
SUMMARY:Full Moon Friday at Heritage Park
DESCRIPTION:After the sun goes down\, Heritage Park comes alive! Join us on a night hike to listen for nocturnal animals\, observe the night sky and heighten your senses along the way!
URL:https://funinfarmington.com/event/full-moon-friday-at-heritage-park/2026-05-01/
LOCATION:Heritage Park\, 24915 Farmington Rd\, Farmington Hills\, MI\, 48336\, United States
CATEGORIES:NAture
END:VEVENT
BEGIN:VEVENT
DTSTART;TZID=UTC:20260507T180000
DTEND;TZID=UTC:20260507T210000
DTSTAMP:20260419T175538
CREATED:20260418T213217Z
LAST-MODIFIED:20260418T213217Z
UID:10020843-1778176800-1778187600@funinfarmington.com
SUMMARY:Volunteer Nature Guide Training at Heritage Park
DESCRIPTION:Explore the skills needed to become a successful Volunteer Nature Guide. The training will cover best practices in the field of Environmental Education and Interpretation\, as well as hands-on activities related to programs offered at the Farmington Hills Nature Center. Participants will leave with helpful resources and a basic understanding of what it takes to interpret the natural world. Trainees will also have the opportunity to join the Volunteer Nature Guide team at the Nature Center. The training is designed for adults. Activities will take place indoors and outdoors. Please dress for the weather. All skill levels welcome! Pre-registration required.
URL:https://funinfarmington.com/event/volunteer-nature-guide-training-at-heritage-park/
LOCATION:Heritage Park\, 24915 Farmington Rd\, Farmington Hills\, MI\, 48336\, United States
CATEGORIES:Adults,Educational,NAture,Older Adults,Seniors,Teens
END:VEVENT
BEGIN:VEVENT
DTSTART;TZID=UTC:20260509T100000
DTEND;TZID=UTC:20260509T113000
DTSTAMP:20260419T175538
CREATED:20260418T212737Z
LAST-MODIFIED:20260418T212737Z
UID:10020840-1778320800-1778326200@funinfarmington.com
SUMMARY:Junior Naturalists Club - Plants at Heritage Park (RSVP)
DESCRIPTION:Enrich your child’s natural curiosity and encourage outdoor exploration through this hands-on nature discovery program. Children explore a different nature theme each month. They will touch\, smell\, hear\, and see many aspects of the natural world! Earn a “badge” for each class you participate in! Earn 3 badges and get a nature prize. Pre-registration is required\, as space is limited. Please dress your child for the weather and exploring outdoors. This class is held entirely outdoors. This is a drop-off class.
URL:https://funinfarmington.com/event/junior-naturalists-club-plants-at-heritage-park-rsvp/
LOCATION:Heritage Park\, 24915 Farmington Rd\, Farmington Hills\, MI\, 48336\, United States
CATEGORIES:Kids & Families,NAture
END:VEVENT
BEGIN:VEVENT
DTSTART;TZID=UTC:20260512T183000
DTEND;TZID=UTC:20260512T200000
DTSTAMP:20260419T175538
CREATED:20260418T213038Z
LAST-MODIFIED:20260418T213038Z
UID:10020842-1778610600-1778616000@funinfarmington.com
SUMMARY:Nature Education for Adults: Frogs & Toads at Heritage Park
DESCRIPTION:Broaden your horizons and enhance your nature knowledge! Explore a new topic each month for an in-depth\, IN-PERSON program to dive deeper into the topic. Pre-registration is required.
URL:https://funinfarmington.com/event/nature-education-for-adults-frogs-toads-at-heritage-park/
LOCATION:Heritage Park\, 24915 Farmington Rd\, Farmington Hills\, MI\, 48336\, United States
CATEGORIES:Adults,NAture,Older Adults,Seniors
END:VEVENT
BEGIN:VEVENT
DTSTART;TZID=UTC:20260529T100000
DTEND;TZID=UTC:20260529T140000
DTSTAMP:20260419T175538
CREATED:20260305T171846Z
LAST-MODIFIED:20260305T171846Z
UID:10019977-1780048800-1780063200@funinfarmington.com
SUMMARY:Native Plant Sale at Nature Center
DESCRIPTION:Add beneficial native plants to your home landscape! Organized by the Nature Preschool Parent Organization\, with help from East Michigan Native Plants.\nA wide variety of beautiful native plants will be available for pre-order or for purchase the day of the sale. Money raised during the event will support the Nature Preschool!\nDay-of sales are based on limited supplies\, to guarantee your desired selection please place an order by May 15th by submitting an order form and payment to the Nature Center. Pre-orders will be able to pick up plants on May 29th.
URL:https://funinfarmington.com/event/native-plant-sale-at-nature-center/
LOCATION:Farmington Hills Nature Center\, 24915 Farmington Rd\, Farmington Hills\, MI\, 48336
CATEGORIES:Community,NAture
END:VEVENT
BEGIN:VEVENT
DTSTART;TZID=UTC:20260529T213000
DTEND;TZID=UTC:20260529T223000
DTSTAMP:20260419T175538
CREATED:20260418T212326Z
LAST-MODIFIED:20260418T212326Z
UID:10020836-1780090200-1780093800@funinfarmington.com
SUMMARY:Full Moon Friday at Heritage Park
DESCRIPTION:After the sun goes down\, Heritage Park comes alive! Join us on a night hike to listen for nocturnal animals\, observe the night sky and heighten your senses along the way!
URL:https://funinfarmington.com/event/full-moon-friday-at-heritage-park/2026-05-29/
LOCATION:Heritage Park\, 24915 Farmington Rd\, Farmington Hills\, MI\, 48336\, United States
CATEGORIES:NAture
END:VEVENT
BEGIN:VEVENT
DTSTART;TZID=UTC:20260613T100000
DTEND;TZID=UTC:20260613T113000
DTSTAMP:20260419T175538
CREATED:20260418T212858Z
LAST-MODIFIED:20260418T212858Z
UID:10020841-1781344800-1781350200@funinfarmington.com
SUMMARY:Junior Naturalists Club - Insects at Heritage Park (RSVP)
DESCRIPTION:Enrich your child’s natural curiosity and encourage outdoor exploration through this hands-on nature discovery program. Children explore a different nature theme each month. They will touch\, smell\, hear\, and see many aspects of the natural world! Earn a “badge” for each class you participate in! Earn 3 badges and get a nature prize. Pre-registration is required\, as space is limited. Please dress your child for the weather and exploring outdoors. This class is held entirely outdoors. This is a drop-off class.
URL:https://funinfarmington.com/event/junior-naturalists-club-insects-at-heritage-park-rsvp/
LOCATION:Heritage Park\, 24915 Farmington Rd\, Farmington Hills\, MI\, 48336\, United States
CATEGORIES:Kids & Families,NAture
END:VEVENT
BEGIN:VEVENT
DTSTART;TZID=UTC:20260626T213000
DTEND;TZID=UTC:20260626T223000
DTSTAMP:20260419T175538
CREATED:20260418T213350Z
LAST-MODIFIED:20260418T213350Z
UID:10020844-1782509400-1782513000@funinfarmington.com
SUMMARY:Adults Only Night Hike at Heritage Park
DESCRIPTION:By popular demand. Experience Heritage Park after dark on this “adults only” guided night hike! Don’t let the kids have all the fun! Pre-registration required. Program will take place entirely outdoors.
URL:https://funinfarmington.com/event/adults-only-night-hike-at-heritage-park/
LOCATION:Heritage Park\, 24915 Farmington Rd\, Farmington Hills\, MI\, 48336\, United States
CATEGORIES:Adults,NAture,Older Adults,Seniors
END:VEVENT
BEGIN:VEVENT
DTSTART;TZID=UTC:20260731T213000
DTEND;TZID=UTC:20260731T223000
DTSTAMP:20260419T175538
CREATED:20260418T212326Z
LAST-MODIFIED:20260418T212326Z
UID:10020837-1785533400-1785537000@funinfarmington.com
SUMMARY:Full Moon Friday at Heritage Park
DESCRIPTION:After the sun goes down\, Heritage Park comes alive! Join us on a night hike to listen for nocturnal animals\, observe the night sky and heighten your senses along the way!
URL:https://funinfarmington.com/event/full-moon-friday-at-heritage-park/2026-07-31/
LOCATION:Heritage Park\, 24915 Farmington Rd\, Farmington Hills\, MI\, 48336\, United States
CATEGORIES:NAture
END:VEVENT
BEGIN:VEVENT
DTSTART;TZID=UTC:20260828T213000
DTEND;TZID=UTC:20260828T223000
DTSTAMP:20260419T175538
CREATED:20260418T212326Z
LAST-MODIFIED:20260418T212326Z
UID:10020838-1787952600-1787956200@funinfarmington.com
SUMMARY:Full Moon Friday at Heritage Park
DESCRIPTION:After the sun goes down\, Heritage Park comes alive! Join us on a night hike to listen for nocturnal animals\, observe the night sky and heighten your senses along the way!
URL:https://funinfarmington.com/event/full-moon-friday-at-heritage-park/2026-08-28/
LOCATION:Heritage Park\, 24915 Farmington Rd\, Farmington Hills\, MI\, 48336\, United States
CATEGORIES:NAture
END:VEVENT
END:VCALENDAR