BEGIN:VCALENDAR
VERSION:2.0
PRODID:-//Fun in Farmington - ECPv6.15.20//NONSGML v1.0//EN
CALSCALE:GREGORIAN
METHOD:PUBLISH
X-WR-CALNAME:Fun in Farmington
X-ORIGINAL-URL:https://funinfarmington.com
X-WR-CALDESC:Events for Fun in Farmington
REFRESH-INTERVAL;VALUE=DURATION:PT1H
X-Robots-Tag:noindex
X-PUBLISHED-TTL:PT1H
BEGIN:VTIMEZONE
TZID:UTC
BEGIN:STANDARD
TZOFFSETFROM:+0000
TZOFFSETTO:+0000
TZNAME:UTC
DTSTART:20240101T000000
END:STANDARD
END:VTIMEZONE
BEGIN:VEVENT
DTSTART;TZID=UTC:20260407T114500
DTEND;TZID=UTC:20260407T133000
DTSTAMP:20260421T174717
CREATED:20260301T230416Z
LAST-MODIFIED:20260301T230416Z
UID:10019949-1775562300-1775568600@funinfarmington.com
SUMMARY:Small Business Series: A Lunch & Learn at the Library (FH)
DESCRIPTION:Registration Required \nJoin FCL for this five-part Lunch & Learn Small Business Series March 10 through April 7\, 2026! We will meet each Tuesday for lunch\, networking\, and an opportunity to learn from local industry experts on a variety of topics that will help you start or grow your small business. \nPlease Note: Food will be offered at this event and you are welcome to bring your own.
URL:https://funinfarmington.com/event/small-business-series-a-lunch-learn-at-the-library-fh/2026-04-07/
LOCATION:Farmington Community Library – Farmington Hills Location\, 32737 W. 12 Mile Rd.\, Farmington Hills\, Michigan\, 48334
CATEGORIES:Adults,Community,Educational,Networking,Older Adults,Seniors
END:VEVENT
BEGIN:VEVENT
DTSTART;TZID=UTC:20260331T114500
DTEND;TZID=UTC:20260331T133000
DTSTAMP:20260421T174717
CREATED:20260301T230416Z
LAST-MODIFIED:20260301T230416Z
UID:10019948-1774957500-1774963800@funinfarmington.com
SUMMARY:Small Business Series: A Lunch & Learn at the Library (FH)
DESCRIPTION:Registration Required \nJoin FCL for this five-part Lunch & Learn Small Business Series March 10 through April 7\, 2026! We will meet each Tuesday for lunch\, networking\, and an opportunity to learn from local industry experts on a variety of topics that will help you start or grow your small business. \nPlease Note: Food will be offered at this event and you are welcome to bring your own.
URL:https://funinfarmington.com/event/small-business-series-a-lunch-learn-at-the-library-fh/2026-03-31/
LOCATION:Farmington Community Library – Farmington Hills Location\, 32737 W. 12 Mile Rd.\, Farmington Hills\, Michigan\, 48334
CATEGORIES:Adults,Community,Educational,Networking,Older Adults,Seniors
END:VEVENT
BEGIN:VEVENT
DTSTART;TZID=UTC:20260324T114500
DTEND;TZID=UTC:20260324T133000
DTSTAMP:20260421T174717
CREATED:20260301T230416Z
LAST-MODIFIED:20260301T230416Z
UID:10019947-1774352700-1774359000@funinfarmington.com
SUMMARY:Small Business Series: A Lunch & Learn at the Library (FH)
DESCRIPTION:Registration Required \nJoin FCL for this five-part Lunch & Learn Small Business Series March 10 through April 7\, 2026! We will meet each Tuesday for lunch\, networking\, and an opportunity to learn from local industry experts on a variety of topics that will help you start or grow your small business. \nPlease Note: Food will be offered at this event and you are welcome to bring your own.
URL:https://funinfarmington.com/event/small-business-series-a-lunch-learn-at-the-library-fh/2026-03-24/
LOCATION:Farmington Community Library – Farmington Hills Location\, 32737 W. 12 Mile Rd.\, Farmington Hills\, Michigan\, 48334
CATEGORIES:Adults,Community,Educational,Networking,Older Adults,Seniors
END:VEVENT
BEGIN:VEVENT
DTSTART;TZID=UTC:20260317T114500
DTEND;TZID=UTC:20260317T133000
DTSTAMP:20260421T174717
CREATED:20260301T230416Z
LAST-MODIFIED:20260301T230416Z
UID:10019946-1773747900-1773754200@funinfarmington.com
SUMMARY:Small Business Series: A Lunch & Learn at the Library (FH)
DESCRIPTION:Registration Required \nJoin FCL for this five-part Lunch & Learn Small Business Series March 10 through April 7\, 2026! We will meet each Tuesday for lunch\, networking\, and an opportunity to learn from local industry experts on a variety of topics that will help you start or grow your small business. \nPlease Note: Food will be offered at this event and you are welcome to bring your own.
URL:https://funinfarmington.com/event/small-business-series-a-lunch-learn-at-the-library-fh/2026-03-17/
LOCATION:Farmington Community Library – Farmington Hills Location\, 32737 W. 12 Mile Rd.\, Farmington Hills\, Michigan\, 48334
CATEGORIES:Adults,Community,Educational,Networking,Older Adults,Seniors
END:VEVENT
BEGIN:VEVENT
DTSTART;TZID=UTC:20260310T170000
DTEND;TZID=UTC:20260310T170000
DTSTAMP:20260421T174717
CREATED:20260305T122021Z
LAST-MODIFIED:20260305T122021Z
UID:10019968-1773162000-1773162000@funinfarmington.com
SUMMARY:City of Farmington Hills Hiring Event at The Hawk
DESCRIPTION:The City of Farmington Hills is looking for nearly 200 new employees for seasonal opportunities in the City’s Special Services Department and Public Services Department for spring and summer 2026. Jobseekers are invited to learn more and interview for available positions at two hiring events at The Hawk on Tuesday\, March 10 and Monday\, March 16. The events will start promptly at 5 p.m. \nPositions are open to jobseekers looking for part-time or full-time seasonal work\, including youth and professionals\, high school students\, college students returning home for the summer\, retirees and more\, with pay up to $25 per hour and weekly pay up to $1\,000.
URL:https://funinfarmington.com/event/city-of-farmington-hills-hiring-event-at-the-hawk/
LOCATION:The Hawk Community Center\, 29995 W 12 Mile Rd\, Farmington Hills\, Michigan\, 48334
CATEGORIES:Community,Networking,Special Event
END:VEVENT
BEGIN:VEVENT
DTSTART;TZID=UTC:20260310T114500
DTEND;TZID=UTC:20260310T133000
DTSTAMP:20260421T174717
CREATED:20260301T230416Z
LAST-MODIFIED:20260301T230416Z
UID:10019945-1773143100-1773149400@funinfarmington.com
SUMMARY:Small Business Series: A Lunch & Learn at the Library (FH)
DESCRIPTION:Registration Required \nJoin FCL for this five-part Lunch & Learn Small Business Series March 10 through April 7\, 2026! We will meet each Tuesday for lunch\, networking\, and an opportunity to learn from local industry experts on a variety of topics that will help you start or grow your small business. \nPlease Note: Food will be offered at this event and you are welcome to bring your own.
URL:https://funinfarmington.com/event/small-business-series-a-lunch-learn-at-the-library-fh/2026-03-10/
LOCATION:Farmington Community Library – Farmington Hills Location\, 32737 W. 12 Mile Rd.\, Farmington Hills\, Michigan\, 48334
CATEGORIES:Adults,Community,Educational,Networking,Older Adults,Seniors
END:VEVENT
BEGIN:VEVENT
DTSTART;TZID=UTC:20260303T190000
DTEND;TZID=UTC:20260303T190000
DTSTAMP:20260421T174717
CREATED:20260301T193854Z
LAST-MODIFIED:20260301T193854Z
UID:10019937-1772564400-1772564400@funinfarmington.com
SUMMARY:Walk the Hawk with City Council at The Hawk
DESCRIPTION:Connect with your local leaders while getting some light exercise. Join the Farmington Hills mayor and members of the Farmington Hills City Council for a walk and casual conversation! Share your thoughts\, ask questions or just enjoy a stroll with the people who represent you\, once per month. \nCOLDER MONTHS: held indoors on the 3rd floor of The Hawk
URL:https://funinfarmington.com/event/walk-the-hawk-with-city-council-at-the-hawk/
LOCATION:The Hawk Community Center\, 29995 W 12 Mile Rd\, Farmington Hills\, Michigan\, 48334
CATEGORIES:Community,Fitness,Networking
END:VEVENT
BEGIN:VEVENT
DTSTART;TZID=UTC:20260118T180000
DTEND;TZID=UTC:20260118T200000
DTSTAMP:20260421T174717
CREATED:20251103T135852Z
LAST-MODIFIED:20260118T211300Z
UID:10018049-1768759200-1768766400@funinfarmington.com
SUMMARY:Drum Circle at CenterPeace
DESCRIPTION:Sacred Sound Drum Circle\nRhythm • Connection • Drums\n33750 Freedom Rd\, Farmington\, MI 48335\n3rd Sundays – October 19th November 16th December 21st\n6–8 PM $30\nStep into the heartbeat of community…….\nThis monthly drum circle welcomes all adults —from curious beginners to seasoned rhythm keepers.\nTogether we’ll explore the beat of the drum through rhythm and free-flowing beats that lift the spirit.\nNo experience necessary\, bring your frame drum (we have a few if you do not have one\, please RSVP for one).\nI suggest a Remo Buffalo Black Earth Drum (found at sweetwater sound\, no affiliation with them) if you are looking to purchase one.\nWhat to Expect:\nGuided rhythms that unite the group\nPlayful activities to connect across ages\nA safe\, welcoming\, and uplifting space\nStress relief\, joy\, and soulful connection\nLet’s gather in rhythm\, share our energy\, and remember the universal language of the drum.\nWe focus on connection and having a safe space to play your drum out loud in harmony with others.\nIf you have taken Meditate: School of Mindfulness and Sound training this is an alumni space\, It would be so great to have you join us.\nReserve your spot today and be part of the circle!\n$30\n$20 for Meditate School for Mindfulness Sound Graduates\, please use code given in the Tribe Feed at registration
URL:https://funinfarmington.com/event/drum-circle/2026-01-18/
LOCATION:CenterPeace\, 33750 Freedom Road\, Farmington\, MI\, 48335
CATEGORIES:Community,Educational,Hobbies,Music,Networking,Spiritual
ATTACH;FMTTYPE=image/png:https://funinfarmington.com/wp-content/uploads/2025/11/Drum-Circle-Instagram-Post.png
ORGANIZER;CN="Alicia Clark":MAILTO:sacredlotusexperience@yahoo.com
END:VEVENT
BEGIN:VEVENT
DTSTART;TZID=UTC:20251221T180000
DTEND;TZID=UTC:20251221T200000
DTSTAMP:20260421T174717
CREATED:20251103T135852Z
LAST-MODIFIED:20260118T211300Z
UID:10018048-1766340000-1766347200@funinfarmington.com
SUMMARY:Drum Circle at CenterPeace
DESCRIPTION:Sacred Sound Drum Circle\nRhythm • Connection • Drums\n33750 Freedom Rd\, Farmington\, MI 48335\n3rd Sundays – October 19th November 16th December 21st\n6–8 PM $30\nStep into the heartbeat of community…….\nThis monthly drum circle welcomes all adults —from curious beginners to seasoned rhythm keepers.\nTogether we’ll explore the beat of the drum through rhythm and free-flowing beats that lift the spirit.\nNo experience necessary\, bring your frame drum (we have a few if you do not have one\, please RSVP for one).\nI suggest a Remo Buffalo Black Earth Drum (found at sweetwater sound\, no affiliation with them) if you are looking to purchase one.\nWhat to Expect:\nGuided rhythms that unite the group\nPlayful activities to connect across ages\nA safe\, welcoming\, and uplifting space\nStress relief\, joy\, and soulful connection\nLet’s gather in rhythm\, share our energy\, and remember the universal language of the drum.\nWe focus on connection and having a safe space to play your drum out loud in harmony with others.\nIf you have taken Meditate: School of Mindfulness and Sound training this is an alumni space\, It would be so great to have you join us.\nReserve your spot today and be part of the circle!\n$30\n$20 for Meditate School for Mindfulness Sound Graduates\, please use code given in the Tribe Feed at registration
URL:https://funinfarmington.com/event/drum-circle/2025-12-21/
LOCATION:CenterPeace\, 33750 Freedom Road\, Farmington\, MI\, 48335
CATEGORIES:Community,Educational,Hobbies,Music,Networking,Spiritual
ATTACH;FMTTYPE=image/png:https://funinfarmington.com/wp-content/uploads/2025/11/Drum-Circle-Instagram-Post.png
ORGANIZER;CN="Alicia Clark":MAILTO:sacredlotusexperience@yahoo.com
END:VEVENT
BEGIN:VEVENT
DTSTART;TZID=UTC:20251116T180000
DTEND;TZID=UTC:20251116T200000
DTSTAMP:20260421T174717
CREATED:20251103T135852Z
LAST-MODIFIED:20260118T211300Z
UID:10018047-1763316000-1763323200@funinfarmington.com
SUMMARY:Drum Circle at CenterPeace
DESCRIPTION:Sacred Sound Drum Circle\nRhythm • Connection • Drums\n33750 Freedom Rd\, Farmington\, MI 48335\n3rd Sundays – October 19th November 16th December 21st\n6–8 PM $30\nStep into the heartbeat of community…….\nThis monthly drum circle welcomes all adults —from curious beginners to seasoned rhythm keepers.\nTogether we’ll explore the beat of the drum through rhythm and free-flowing beats that lift the spirit.\nNo experience necessary\, bring your frame drum (we have a few if you do not have one\, please RSVP for one).\nI suggest a Remo Buffalo Black Earth Drum (found at sweetwater sound\, no affiliation with them) if you are looking to purchase one.\nWhat to Expect:\nGuided rhythms that unite the group\nPlayful activities to connect across ages\nA safe\, welcoming\, and uplifting space\nStress relief\, joy\, and soulful connection\nLet’s gather in rhythm\, share our energy\, and remember the universal language of the drum.\nWe focus on connection and having a safe space to play your drum out loud in harmony with others.\nIf you have taken Meditate: School of Mindfulness and Sound training this is an alumni space\, It would be so great to have you join us.\nReserve your spot today and be part of the circle!\n$30\n$20 for Meditate School for Mindfulness Sound Graduates\, please use code given in the Tribe Feed at registration
URL:https://funinfarmington.com/event/drum-circle/2025-11-16/
LOCATION:CenterPeace\, 33750 Freedom Road\, Farmington\, MI\, 48335
CATEGORIES:Community,Educational,Hobbies,Music,Networking,Spiritual
ATTACH;FMTTYPE=image/png:https://funinfarmington.com/wp-content/uploads/2025/11/Drum-Circle-Instagram-Post.png
ORGANIZER;CN="Alicia Clark":MAILTO:sacredlotusexperience@yahoo.com
END:VEVENT
BEGIN:VEVENT
DTSTART;TZID=UTC:20251022T093000
DTEND;TZID=UTC:20251022T123000
DTSTAMP:20260421T174717
CREATED:20251002T151003Z
LAST-MODIFIED:20251002T151003Z
UID:10017815-1761125400-1761136200@funinfarmington.com
SUMMARY:Bagels and Business: Guidance to Grow - REGISTRATION REQUIRED
DESCRIPTION:City of Farmington Hills “Bagels & Business” Event to Connect Business Owners and Entrepreneurs with Resources\nThe free event will provide how-to information for growing a business in Farmington Hills and becoming a City vendor\, as well as share new market insights\nWHAT: The City of Farmington Hills is hosting Bagels & Business: Guidance to Grow\, a free networking and informational event designed to support entrepreneurs\, small and medium business owners\, and community members interested in starting or expanding a business. Attendees will enjoy breakfast and hear from experts covering various topics\, including results of recent market studies highlighting trends and opportunities for growth\, vendor opportunities\, tax requirements\, available business credits and more.\nFollowing the presentations\, resource booths will be available for one-on-one conversations with representatives from local\, state and federal agencies.\nWHO: Entrepreneurs\, start-up founders\, small\, medium and large business owners are invited to network and hear from:\n· Steve Annear\, CEO of the Kirk Gibson Foundation\, sharing how he helped establish a first-of-its-kind Parkinson’s center in Farmington Hills and why demographics are vital in location search\,\n· Cristia Brockway\, economic development director for the City of Farmington Hills\, presenting key insights from the latest market studies and what they mean for different industries\,\n· Brandon Adolph from the U.S. Small Business Administration\, providing resource assistance\,\n· Michelle Aranowski\, director of Central Services for the City of Farmington Hills\, providing a walkthrough on how to become a City vendor\, and\n· Sarah Robinson Rusnell from the Michigan Department of Treasury\, offering guidance on taxes\, credits and start-up basics.\nWHEN: Tuesday\, October 22\, 2025\n9:30 a.m.-10 a.m. Networking\n10 a.m.–12:30 p.m. Presentations\nWHERE: The Hawk: Harrison Hall\, 2nd floor\, 29995 W. Twelve Mile Rd.\, Farmington Hills\, MI 48334\nRegister for the event here: https://l.ead.me/BagelsandBusiness\nFor more information\, call the City of Farmington Hills Economic Development Department at 248-871-2506.
URL:https://funinfarmington.com/event/bagels-and-business-guidance-to-grow-registration-required/
LOCATION:The Hawk Community Center\, 29995 W 12 Mile Rd\, Farmington Hills\, Michigan\, 48334
CATEGORIES:Networking
END:VEVENT
END:VCALENDAR