BEGIN:VCALENDAR
VERSION:2.0
PRODID:-//Fun in Farmington - ECPv6.15.20//NONSGML v1.0//EN
CALSCALE:GREGORIAN
METHOD:PUBLISH
X-WR-CALNAME:Fun in Farmington
X-ORIGINAL-URL:https://funinfarmington.com
X-WR-CALDESC:Events for Fun in Farmington
REFRESH-INTERVAL;VALUE=DURATION:PT1H
X-Robots-Tag:noindex
X-PUBLISHED-TTL:PT1H
BEGIN:VTIMEZONE
TZID:UTC
BEGIN:STANDARD
TZOFFSETFROM:+0000
TZOFFSETTO:+0000
TZNAME:UTC
DTSTART:20250101T000000
END:STANDARD
END:VTIMEZONE
BEGIN:VEVENT
DTSTART;TZID=UTC:20260117T120000
DTEND;TZID=UTC:20260117T150000
DTSTAMP:20260420T002146
CREATED:20260115T234702Z
LAST-MODIFIED:20260115T234702Z
UID:10019269-1768651200-1768662000@funinfarmington.com
SUMMARY:Sippin' Saturday @ Perfect Pairing
DESCRIPTION:First tasting Saturday of the year! \nKentia Albarino – Spain: This wine can mes with a high acidity due to their proximity to the ocean and the high level of rainfall there. High aromatic white wine with hints of aromatic herbs and fresh white fruits. Balanced and complex. \nGibbs Dusty red – Napa Valley: It’s a red blend of Cabernet Sauvignon\, Merlot\, Petit Verdot\, Cabernet Franc and Zinfandel. Fresh and vibrant aromas of red and black fruits with baking spice and a touch of damp earth on the nose.
URL:https://funinfarmington.com/event/sippin-saturday-perfect-pairing/
LOCATION:Perfect Pairing Market\, 38215 W. 10 Mile Rd.\, Farmington Hills\, Michigan\, 48335
CATEGORIES:Community,Moms,Older Adults,Wine
END:VEVENT
BEGIN:VEVENT
DTSTART;TZID=UTC:20260119T110000
DTEND;TZID=UTC:20260119T113000
DTSTAMP:20260420T002146
CREATED:20260118T211244Z
LAST-MODIFIED:20260118T211244Z
UID:10019272-1768820400-1768822200@funinfarmington.com
SUMMARY:Legacy March @ Library (FH Location)
DESCRIPTION:The Dr. King Legacy March brings families and community members together to honor Dr. King’s impact. With our signs and posters\, we will walk down the sidewalk along 12 Mile Road. Please wear appropriate clothing for cold temperatures and icy sidewalks. Warm up afterward with hot chocolate in the auditorium! \nIn partnership with the Alpha Kappa Alpha Sorority\, Inc. – Alpha Gamma Omicron Omega Chapter serving Farmington and Farmington Hills.
URL:https://funinfarmington.com/event/legacy-march-library-fh-location/
LOCATION:Farmington Community Library – Farmington Hills Location\, 32737 W. 12 Mile Rd.\, Farmington Hills\, Michigan\, 48334
CATEGORIES:Community,Kids & Families,Older Adults,Special Event,Teens
END:VEVENT
BEGIN:VEVENT
DTSTART;TZID=UTC:20260123T103000
DTEND;TZID=UTC:20260123T120000
DTSTAMP:20260420T002146
CREATED:20260111T233712Z
LAST-MODIFIED:20260111T233712Z
UID:10019151-1769164200-1769169600@funinfarmington.com
SUMMARY:Senior Social Hour 60+ at Library (FH) REGISTRATION REQUIRED
DESCRIPTION:Registration is required. \nRegistration will close on January 23\, 2026 @ 10:30am. \nAre you an adult 60+ looking for fun and an opportunity to socialize? Check out the library’s new program specifically for you! There will be crafts\, music\, games\, puzzles\, coffee\, and light refreshments. Make some friends while having fun! FCL’s Senior Outreach Librarian will also be available to answer questions about the Library. Drop-in anytime between 10:30-noon every fourth Friday of the month. Caregivers are also welcome to attend.
URL:https://funinfarmington.com/event/senior-social-hour-60-at-library-fh-registration-required-2/
LOCATION:Farmington Community Library – Farmington Hills Location\, 32737 W. 12 Mile Rd.\, Farmington Hills\, Michigan\, 48334
CATEGORIES:Community,Older Adults,Seniors
END:VEVENT
BEGIN:VEVENT
DTSTART;TZID=UTC:20260127T100000
DTEND;TZID=UTC:20260127T110000
DTSTAMP:20260420T002146
CREATED:20260110T191652Z
LAST-MODIFIED:20260110T191652Z
UID:10019061-1769508000-1769511600@funinfarmington.com
SUMMARY:The Next Chapter (60+) at Costick Center
DESCRIPTION:Library events are always free to the public and you do not need a library card to attend!  \nThis event will take place at the Costick Center in Shannon Hall at 28600 W. 11 Mile Rd.\, Farmington Hills\, MI 48336. \nNo registration is required. \nJoin the Farmington Community Library’s Senior Outreach Librarian every fourth Tuesday of the month at the Costick Center to learn about the library\, check out an assortment of large print books\, and engage in a fun activity. \nThis month’s activity is “Positive Affirmation Paintings”. Start off the year 2026 on the right foot! Come create a positive affirmations painting that’ll provide you with words of inspiration\, kindness\, and gratitude you can draw from for the rest of the year. All art supplies will be provided. \n\nDisclaimer(s)\n\n\n\n\nTo request ADA accommodations\, such as wheelchair access or sign language interpretation\, please complete the Accommodation Request Form at least 10 days before the event. \n\n\n\n\n\n\nThis event is intended for adults 60+
URL:https://funinfarmington.com/event/the-next-chapter-60-at-costick-center/2026-01-27/
LOCATION:Costick Center\, 28600 W Eleven Mile Rd\, Farmington Hills\, Michigan\, 48336
CATEGORIES:Older Adults
END:VEVENT
BEGIN:VEVENT
DTSTART;TZID=UTC:20260131T160000
DTEND;TZID=UTC:20260131T180000
DTSTAMP:20260420T002146
CREATED:20260125T201308Z
LAST-MODIFIED:20260125T201308Z
UID:10019390-1769875200-1769882400@funinfarmington.com
SUMMARY:Bingo Night at Apothecary
DESCRIPTION:Join us for Bingo Night at Apothecary! \n$5 to play \nHosted by Clarenceville Youth in Government
URL:https://funinfarmington.com/event/bingo-night-at-apothecary/
LOCATION:Apothecary Espresso and Coffee\, 23366 Farmington Rd\, Farmington\, 48336
CATEGORIES:Games,Kids & Families,Older Adults,Seniors,Teens
END:VEVENT
END:VCALENDAR