BEGIN:VCALENDAR
VERSION:2.0
PRODID:-//Fun in Farmington - ECPv6.15.20//NONSGML v1.0//EN
CALSCALE:GREGORIAN
METHOD:PUBLISH
X-WR-CALNAME:Fun in Farmington
X-ORIGINAL-URL:https://funinfarmington.com
X-WR-CALDESC:Events for Fun in Farmington
REFRESH-INTERVAL;VALUE=DURATION:PT1H
X-Robots-Tag:noindex
X-PUBLISHED-TTL:PT1H
BEGIN:VTIMEZONE
TZID:UTC
BEGIN:STANDARD
TZOFFSETFROM:+0000
TZOFFSETTO:+0000
TZNAME:UTC
DTSTART:20250101T000000
END:STANDARD
END:VTIMEZONE
BEGIN:VEVENT
DTSTART;TZID=UTC:20260131T160000
DTEND;TZID=UTC:20260131T180000
DTSTAMP:20260419T224858
CREATED:20260125T201308Z
LAST-MODIFIED:20260125T201308Z
UID:10019390-1769875200-1769882400@funinfarmington.com
SUMMARY:Bingo Night at Apothecary
DESCRIPTION:Join us for Bingo Night at Apothecary! \n$5 to play \nHosted by Clarenceville Youth in Government
URL:https://funinfarmington.com/event/bingo-night-at-apothecary/
LOCATION:Apothecary Espresso and Coffee\, 23366 Farmington Rd\, Farmington\, 48336
CATEGORIES:Games,Kids & Families,Older Adults,Seniors,Teens
END:VEVENT
END:VCALENDAR