BEGIN:VCALENDAR
VERSION:2.0
PRODID:-//Fun in Farmington - ECPv6.15.20//NONSGML v1.0//EN
CALSCALE:GREGORIAN
METHOD:PUBLISH
X-ORIGINAL-URL:https://funinfarmington.com
X-WR-CALDESC:Events for Fun in Farmington
REFRESH-INTERVAL;VALUE=DURATION:PT1H
X-Robots-Tag:noindex
X-PUBLISHED-TTL:PT1H
BEGIN:VTIMEZONE
TZID:UTC
BEGIN:STANDARD
TZOFFSETFROM:+0000
TZOFFSETTO:+0000
TZNAME:UTC
DTSTART:20250101T000000
END:STANDARD
END:VTIMEZONE
BEGIN:VEVENT
DTSTART;TZID=UTC:20260214T093000
DTEND;TZID=UTC:20260214T110000
DTSTAMP:20260425T104735
CREATED:20260209T132512Z
LAST-MODIFIED:20260209T132512Z
UID:10019515-1771061400-1771066800@funinfarmington.com
SUMMARY:For the LOVE of the Backyard Bird Count
DESCRIPTION:Join Farmington Hills Nature Center staff and become a citizen scientist for a day! Learn about and participate in the Great Backyard Bird Count. You will explore the park and count bird species to aid conservation efforts. Bird Count will take place from 9:30am-11:00am. Farmington Hills staff will input all data collected during the count. Dress to be outdoors. Bring your own binoculars if you have a pair (limited pairs will be available). Bathrooms and warm up space available in the Nature Center. Trails are a mix of paved and gravel with some uneven terrain.
URL:https://funinfarmington.com/event/for-the-love-of-the-backyard-bird-count/
LOCATION:Heritage Park\, 24915 Farmington Rd\, Farmington Hills\, MI\, 48336\, United States
CATEGORIES:Educational,Hobbies,Kids & Families,NAture,Older Adults,Seniors
END:VEVENT
BEGIN:VEVENT
DTSTART;TZID=UTC:20260214T100000
DTEND;TZID=UTC:20260214T113000
DTSTAMP:20260425T104735
CREATED:20260209T132907Z
LAST-MODIFIED:20260209T132907Z
UID:10019516-1771063200-1771068600@funinfarmington.com
SUMMARY:Junior Naturalists Club: Snow at Heritage Park (Ages 6-11) (Reg. Required)
DESCRIPTION:Ages 6-11 \nEnrich your child’s natural curiosity and encourage outdoor exploration through this hands-on nature discovery program. Children explore a different nature theme each month. They will touch\, smell\, hear\, and see many aspects of the natural world! Earn a “badge” for each class you participate in! Earn 3 badges and get a nature prize. Pre-registration is required\, as space is limited. Please dress your child for the weather and exploring outdoors. This class is held entirely outdoors. This is a drop-off class.
URL:https://funinfarmington.com/event/junior-naturalists-club-snow-at-heritage-park-ages-6-11-reg-required/
LOCATION:Heritage Park\, 24915 Farmington Rd\, Farmington Hills\, MI\, 48336\, United States
CATEGORIES:Educational,Kids & Families,NAture,Older Adults,Seniors
END:VEVENT
BEGIN:VEVENT
DTSTART;TZID=UTC:20260214T120000
DTEND;TZID=UTC:20260214T163000
DTSTAMP:20260425T104735
CREATED:20260209T133159Z
LAST-MODIFIED:20260209T133159Z
UID:10019517-1771070400-1771086600@funinfarmington.com
SUMMARY:Makerspace Workshop: ShopBot Candy Dispenser (16+) (Reg. Required)
DESCRIPTION:In this sweet workshop\, you’ll design and create your very own wooden candy dispenser using Vetric VCarve Pro software and the ShopBot CNC router. We’ll teach you the fundamentals of using the drawing and editing tools available in VCarve Pro to design your dispenser before watching the various parts get cut on the laser cutter and ShopBot. Finally\, you’ll put everything together and finish your dispenser for a fun\, functional\, handcrafted piece. Perfect for anyone looking to combine creativity and CNC skills in a hands-on project! Participants will be eligible for a discounted ShopBot checkout course if they choose to build on this teaser experience and learn how to operate the ShopBot.
URL:https://funinfarmington.com/event/makerspace-workshop-shopbot-candy-dispenser-16-reg-required/
LOCATION:The Hawk Community Center\, 29995 W 12 Mile Rd\, Farmington Hills\, Michigan\, 48334
CATEGORIES:Crafting,Educational,Hobbies,Older Adults,Seniors,Teens
END:VEVENT
BEGIN:VEVENT
DTSTART;TZID=UTC:20260214T140000
DTEND;TZID=UTC:20260214T160000
DTSTAMP:20260425T104735
CREATED:20260209T122044Z
LAST-MODIFIED:20260209T122136Z
UID:10019505-1771077600-1771084800@funinfarmington.com
SUMMARY:Valentine Ice Skate at Riley Park
DESCRIPTION:Let’s share a little Farmington Love today! We’ll skate together and make valentines to share. \nBring your ice skates. No skates? No problem — skates are available to borrow. Sizes may vary.
URL:https://funinfarmington.com/event/valentine-ice-skate-at-riley-park-2/
LOCATION:Riley Skate Park\, 35520 Eight Mile Rd\, Farmington\, MI\, 48335\, United States
CATEGORIES:Community,Hobbies,Holiday,Kids & Families,Older Adults,Seniors
END:VEVENT
END:VCALENDAR