BEGIN:VCALENDAR
VERSION:2.0
PRODID:-//Fun in Farmington - ECPv6.15.20//NONSGML v1.0//EN
CALSCALE:GREGORIAN
METHOD:PUBLISH
X-ORIGINAL-URL:https://funinfarmington.com
X-WR-CALDESC:Events for Fun in Farmington
REFRESH-INTERVAL;VALUE=DURATION:PT1H
X-Robots-Tag:noindex
X-PUBLISHED-TTL:PT1H
BEGIN:VTIMEZONE
TZID:UTC
BEGIN:STANDARD
TZOFFSETFROM:+0000
TZOFFSETTO:+0000
TZNAME:UTC
DTSTART:20250101T000000
END:STANDARD
END:VTIMEZONE
BEGIN:VEVENT
DTSTART;TZID=UTC:20260227T103000
DTEND;TZID=UTC:20260227T120000
DTSTAMP:20260419T210816
CREATED:20260110T190859Z
LAST-MODIFIED:20260110T190859Z
UID:10019015-1772188200-1772193600@funinfarmington.com
SUMMARY:Senior Social Hour (60+) at Library (FH) - REGISTRATION REQUIRED
DESCRIPTION:Program Description\n‎ ‎ ‎ ‎ ‎ ‎ ‎\n\nLibrary events are always free to the public and you do not need a library card to attend!  \nThe Farmington Community Library has two locations. This event will be held in the Auditorium at the FCL Farmington Hills location at 32737 W. 12 Mile Rd.\, Farmington Hills\, MI\, 48334.  \nRegistration is required. \nAre you an adult 60+ looking for fun and an opportunity to socialize? Check out the library’s new program specifically for you! There will be crafts\, music\, games\, puzzles\, coffee\, and light refreshments. Make some friends while having fun! FCL’s Senior Outreach Librarian will also be available to answer questions about the Library. Drop-in anytime between 10:30-noon every fourth Friday of the month. Caregivers are also welcome to attend. \n\nDisclaimer(s)\n\n\n\n\nTo request ADA accommodations\, such as wheelchair access or sign language interpretation\, please complete the Accommodation Request Form at least 10 days before the event. \n\n\n\n\n\n\nAdaptive tools will be available at this event. You can review the list of adaptive supplies available at Library events here. \n\n\n\n\n\n\nThis event is intended for adults 60+ \n\n\n\n\n\n\nFood will be offered at this event and you are welcome to bring your own. To notify us of a food allergy\, please reach out to the staff member listed under “Contact Info” on this page.
URL:https://funinfarmington.com/event/senior-social-hour-60-at-library-fh-registration-required/2026-02-27/
LOCATION:Farmington Community Library – Farmington Hills Location\, 32737 W. 12 Mile Rd.\, Farmington Hills\, Michigan\, 48334
CATEGORIES:Older Adults
END:VEVENT
END:VCALENDAR