BEGIN:VCALENDAR
VERSION:2.0
PRODID:-//Fun in Farmington - ECPv6.15.20//NONSGML v1.0//EN
CALSCALE:GREGORIAN
METHOD:PUBLISH
X-ORIGINAL-URL:https://funinfarmington.com
X-WR-CALDESC:Events for Fun in Farmington
REFRESH-INTERVAL;VALUE=DURATION:PT1H
X-Robots-Tag:noindex
X-PUBLISHED-TTL:PT1H
BEGIN:VTIMEZONE
TZID:UTC
BEGIN:STANDARD
TZOFFSETFROM:+0000
TZOFFSETTO:+0000
TZNAME:UTC
DTSTART:20250101T000000
END:STANDARD
END:VTIMEZONE
BEGIN:VEVENT
DTSTART;TZID=UTC:20260317T114500
DTEND;TZID=UTC:20260317T133000
DTSTAMP:20260420T033107
CREATED:20260301T230416Z
LAST-MODIFIED:20260301T230416Z
UID:10019946-1773747900-1773754200@funinfarmington.com
SUMMARY:Small Business Series: A Lunch & Learn at the Library (FH)
DESCRIPTION:Registration Required \nJoin FCL for this five-part Lunch & Learn Small Business Series March 10 through April 7\, 2026! We will meet each Tuesday for lunch\, networking\, and an opportunity to learn from local industry experts on a variety of topics that will help you start or grow your small business. \nPlease Note: Food will be offered at this event and you are welcome to bring your own.
URL:https://funinfarmington.com/event/small-business-series-a-lunch-learn-at-the-library-fh/2026-03-17/
LOCATION:Farmington Community Library – Farmington Hills Location\, 32737 W. 12 Mile Rd.\, Farmington Hills\, Michigan\, 48334
CATEGORIES:Adults,Community,Educational,Networking,Older Adults,Seniors
END:VEVENT
BEGIN:VEVENT
DTSTART;TZID=UTC:20260317T120000
DTEND;TZID=UTC:20260317T150000
DTSTAMP:20260420T033107
CREATED:20260228T194950Z
LAST-MODIFIED:20260228T194950Z
UID:10019910-1773748800-1773759600@funinfarmington.com
SUMMARY:Music Bingo at The Hawk (50+)
DESCRIPTION:Enjoy a special lunch with friends and spend an entertaining afternoon with MUSIC BINGO furnished with an array of prizes. You will play 3 rounds of Bingo and a coverall\, only it will be with songs instead of numbers. It’s easy and fun for everyone!\nRegister by Monday March 9 online or at the Costick Center front desk. Space is limited. No walk-ins.
URL:https://funinfarmington.com/event/music-bingo-at-the-hawk-50/
LOCATION:The Hawk Community Center\, 29995 W 12 Mile Rd\, Farmington Hills\, Michigan\, 48334
CATEGORIES:Adults,Games,Older Adults,Seniors
END:VEVENT
END:VCALENDAR