BEGIN:VCALENDAR
VERSION:2.0
PRODID:-//Fun in Farmington - ECPv6.15.20//NONSGML v1.0//EN
CALSCALE:GREGORIAN
METHOD:PUBLISH
X-ORIGINAL-URL:https://funinfarmington.com
X-WR-CALDESC:Events for Fun in Farmington
REFRESH-INTERVAL;VALUE=DURATION:PT1H
X-Robots-Tag:noindex
X-PUBLISHED-TTL:PT1H
BEGIN:VTIMEZONE
TZID:UTC
BEGIN:STANDARD
TZOFFSETFROM:+0000
TZOFFSETTO:+0000
TZNAME:UTC
DTSTART:20250101T000000
END:STANDARD
END:VTIMEZONE
BEGIN:VEVENT
DTSTART;TZID=UTC:20260320T120000
DTEND;TZID=UTC:20260320T150000
DTSTAMP:20260419T210058
CREATED:20260228T195103Z
LAST-MODIFIED:20260228T200547Z
UID:10019911-1774008000-1774018800@funinfarmington.com
SUMMARY:Friday Film at Costick Center (50+)
DESCRIPTION:Enjoy a recently released film\, a delicious lunch\, candy\, popcorn and a drink on select Fridays. Must register by 11 am the Friday before.\n\n\nIncludes lunch\, movie\, popcorn\, candy\, and a drink.\nLunch is served at 12:00-12:15pm\, movie at 1:00pm.All participants must have a current membership ID card to utilize Adults 50 & Better programs. residents of Farmington and Farmington Hills no annual fee. non-residents\, $20 annual fee. Register at the Costick Center front desk.
URL:https://funinfarmington.com/event/friday-film-at-the-hawk-50/
LOCATION:Costick Center\, 28600 W Eleven Mile Rd\, Farmington Hills\, Michigan\, 48336
CATEGORIES:Movies,Older Adults,Seniors
END:VEVENT
END:VCALENDAR