BEGIN:VCALENDAR
VERSION:2.0
PRODID:-//Fun in Farmington - ECPv6.15.20//NONSGML v1.0//EN
CALSCALE:GREGORIAN
METHOD:PUBLISH
X-ORIGINAL-URL:https://funinfarmington.com
X-WR-CALDESC:Events for Fun in Farmington
REFRESH-INTERVAL;VALUE=DURATION:PT1H
X-Robots-Tag:noindex
X-PUBLISHED-TTL:PT1H
BEGIN:VTIMEZONE
TZID:UTC
BEGIN:STANDARD
TZOFFSETFROM:+0000
TZOFFSETTO:+0000
TZNAME:UTC
DTSTART:20250101T000000
END:STANDARD
END:VTIMEZONE
BEGIN:VEVENT
DTSTART;TZID=UTC:20260728T100000
DTEND;TZID=UTC:20260728T110000
DTSTAMP:20260420T070930
CREATED:20260110T191652Z
LAST-MODIFIED:20260110T191652Z
UID:10019067-1785232800-1785236400@funinfarmington.com
SUMMARY:The Next Chapter (60+) at Costick Center
DESCRIPTION:Library events are always free to the public and you do not need a library card to attend!  \nThis event will take place at the Costick Center in Shannon Hall at 28600 W. 11 Mile Rd.\, Farmington Hills\, MI 48336. \nNo registration is required. \nJoin the Farmington Community Library’s Senior Outreach Librarian every fourth Tuesday of the month at the Costick Center to learn about the library\, check out an assortment of large print books\, and engage in a fun activity. \nThis month’s activity is “Positive Affirmation Paintings”. Start off the year 2026 on the right foot! Come create a positive affirmations painting that’ll provide you with words of inspiration\, kindness\, and gratitude you can draw from for the rest of the year. All art supplies will be provided. \n\nDisclaimer(s)\n\n\n\n\nTo request ADA accommodations\, such as wheelchair access or sign language interpretation\, please complete the Accommodation Request Form at least 10 days before the event. \n\n\n\n\n\n\nThis event is intended for adults 60+
URL:https://funinfarmington.com/event/the-next-chapter-60-at-costick-center/2026-07-28/
LOCATION:Costick Center\, 28600 W Eleven Mile Rd\, Farmington Hills\, Michigan\, 48336
CATEGORIES:Older Adults
END:VEVENT
BEGIN:VEVENT
DTSTART;TZID=UTC:20260807T183000
DTEND;TZID=UTC:20260807T200000
DTSTAMP:20260420T070930
CREATED:20260418T212527Z
LAST-MODIFIED:20260418T212527Z
UID:10020839-1786127400-1786132800@funinfarmington.com
SUMMARY:Garden and Tea Party
DESCRIPTION:Celebrate the Nature Center Children’s Garden with an outdoor tea party! Native and planted herbs will be harvested from Heritage Park to enjoy in tea or as snacks. We will also be leading some unique nature crafts and activities during the event. Tea has been generously donated by FRASER TEA in Livonia. Check out their website at https://frasertea.com/ . Children must be accompanied by an adult. Both adults and kids must be registered.
URL:https://funinfarmington.com/event/garden-and-tea-party-2/
LOCATION:Heritage Park\, 24915 Farmington Rd\, Farmington Hills\, MI\, 48336\, United States
CATEGORIES:Adults,Community,Kids & Families,Older Adults,Seniors,Teens
END:VEVENT
BEGIN:VEVENT
DTSTART;TZID=UTC:20260825T100000
DTEND;TZID=UTC:20260825T110000
DTSTAMP:20260420T070930
CREATED:20260110T191652Z
LAST-MODIFIED:20260110T191652Z
UID:10019068-1787652000-1787655600@funinfarmington.com
SUMMARY:The Next Chapter (60+) at Costick Center
DESCRIPTION:Library events are always free to the public and you do not need a library card to attend!  \nThis event will take place at the Costick Center in Shannon Hall at 28600 W. 11 Mile Rd.\, Farmington Hills\, MI 48336. \nNo registration is required. \nJoin the Farmington Community Library’s Senior Outreach Librarian every fourth Tuesday of the month at the Costick Center to learn about the library\, check out an assortment of large print books\, and engage in a fun activity. \nThis month’s activity is “Positive Affirmation Paintings”. Start off the year 2026 on the right foot! Come create a positive affirmations painting that’ll provide you with words of inspiration\, kindness\, and gratitude you can draw from for the rest of the year. All art supplies will be provided. \n\nDisclaimer(s)\n\n\n\n\nTo request ADA accommodations\, such as wheelchair access or sign language interpretation\, please complete the Accommodation Request Form at least 10 days before the event. \n\n\n\n\n\n\nThis event is intended for adults 60+
URL:https://funinfarmington.com/event/the-next-chapter-60-at-costick-center/2026-08-25/
LOCATION:Costick Center\, 28600 W Eleven Mile Rd\, Farmington Hills\, Michigan\, 48336
CATEGORIES:Older Adults
END:VEVENT
BEGIN:VEVENT
DTSTART;TZID=UTC:20260922T100000
DTEND;TZID=UTC:20260922T110000
DTSTAMP:20260420T070930
CREATED:20260110T191652Z
LAST-MODIFIED:20260110T191652Z
UID:10019069-1790071200-1790074800@funinfarmington.com
SUMMARY:The Next Chapter (60+) at Costick Center
DESCRIPTION:Library events are always free to the public and you do not need a library card to attend!  \nThis event will take place at the Costick Center in Shannon Hall at 28600 W. 11 Mile Rd.\, Farmington Hills\, MI 48336. \nNo registration is required. \nJoin the Farmington Community Library’s Senior Outreach Librarian every fourth Tuesday of the month at the Costick Center to learn about the library\, check out an assortment of large print books\, and engage in a fun activity. \nThis month’s activity is “Positive Affirmation Paintings”. Start off the year 2026 on the right foot! Come create a positive affirmations painting that’ll provide you with words of inspiration\, kindness\, and gratitude you can draw from for the rest of the year. All art supplies will be provided. \n\nDisclaimer(s)\n\n\n\n\nTo request ADA accommodations\, such as wheelchair access or sign language interpretation\, please complete the Accommodation Request Form at least 10 days before the event. \n\n\n\n\n\n\nThis event is intended for adults 60+
URL:https://funinfarmington.com/event/the-next-chapter-60-at-costick-center/2026-09-22/
LOCATION:Costick Center\, 28600 W Eleven Mile Rd\, Farmington Hills\, Michigan\, 48336
CATEGORIES:Older Adults
END:VEVENT
BEGIN:VEVENT
DTSTART;TZID=UTC:20261027T100000
DTEND;TZID=UTC:20261027T110000
DTSTAMP:20260420T070930
CREATED:20260110T191652Z
LAST-MODIFIED:20260110T191652Z
UID:10019070-1793095200-1793098800@funinfarmington.com
SUMMARY:The Next Chapter (60+) at Costick Center
DESCRIPTION:Library events are always free to the public and you do not need a library card to attend!  \nThis event will take place at the Costick Center in Shannon Hall at 28600 W. 11 Mile Rd.\, Farmington Hills\, MI 48336. \nNo registration is required. \nJoin the Farmington Community Library’s Senior Outreach Librarian every fourth Tuesday of the month at the Costick Center to learn about the library\, check out an assortment of large print books\, and engage in a fun activity. \nThis month’s activity is “Positive Affirmation Paintings”. Start off the year 2026 on the right foot! Come create a positive affirmations painting that’ll provide you with words of inspiration\, kindness\, and gratitude you can draw from for the rest of the year. All art supplies will be provided. \n\nDisclaimer(s)\n\n\n\n\nTo request ADA accommodations\, such as wheelchair access or sign language interpretation\, please complete the Accommodation Request Form at least 10 days before the event. \n\n\n\n\n\n\nThis event is intended for adults 60+
URL:https://funinfarmington.com/event/the-next-chapter-60-at-costick-center/2026-10-27/
LOCATION:Costick Center\, 28600 W Eleven Mile Rd\, Farmington Hills\, Michigan\, 48336
CATEGORIES:Older Adults
END:VEVENT
BEGIN:VEVENT
DTSTART;TZID=UTC:20261124T100000
DTEND;TZID=UTC:20261124T110000
DTSTAMP:20260420T070930
CREATED:20260110T191652Z
LAST-MODIFIED:20260110T191652Z
UID:10019071-1795514400-1795518000@funinfarmington.com
SUMMARY:The Next Chapter (60+) at Costick Center
DESCRIPTION:Library events are always free to the public and you do not need a library card to attend!  \nThis event will take place at the Costick Center in Shannon Hall at 28600 W. 11 Mile Rd.\, Farmington Hills\, MI 48336. \nNo registration is required. \nJoin the Farmington Community Library’s Senior Outreach Librarian every fourth Tuesday of the month at the Costick Center to learn about the library\, check out an assortment of large print books\, and engage in a fun activity. \nThis month’s activity is “Positive Affirmation Paintings”. Start off the year 2026 on the right foot! Come create a positive affirmations painting that’ll provide you with words of inspiration\, kindness\, and gratitude you can draw from for the rest of the year. All art supplies will be provided. \n\nDisclaimer(s)\n\n\n\n\nTo request ADA accommodations\, such as wheelchair access or sign language interpretation\, please complete the Accommodation Request Form at least 10 days before the event. \n\n\n\n\n\n\nThis event is intended for adults 60+
URL:https://funinfarmington.com/event/the-next-chapter-60-at-costick-center/2026-11-24/
LOCATION:Costick Center\, 28600 W Eleven Mile Rd\, Farmington Hills\, Michigan\, 48336
CATEGORIES:Older Adults
END:VEVENT
BEGIN:VEVENT
DTSTART;TZID=UTC:20261222T100000
DTEND;TZID=UTC:20261222T110000
DTSTAMP:20260420T070930
CREATED:20260110T191652Z
LAST-MODIFIED:20260110T191652Z
UID:10019072-1797933600-1797937200@funinfarmington.com
SUMMARY:The Next Chapter (60+) at Costick Center
DESCRIPTION:Library events are always free to the public and you do not need a library card to attend!  \nThis event will take place at the Costick Center in Shannon Hall at 28600 W. 11 Mile Rd.\, Farmington Hills\, MI 48336. \nNo registration is required. \nJoin the Farmington Community Library’s Senior Outreach Librarian every fourth Tuesday of the month at the Costick Center to learn about the library\, check out an assortment of large print books\, and engage in a fun activity. \nThis month’s activity is “Positive Affirmation Paintings”. Start off the year 2026 on the right foot! Come create a positive affirmations painting that’ll provide you with words of inspiration\, kindness\, and gratitude you can draw from for the rest of the year. All art supplies will be provided. \n\nDisclaimer(s)\n\n\n\n\nTo request ADA accommodations\, such as wheelchair access or sign language interpretation\, please complete the Accommodation Request Form at least 10 days before the event. \n\n\n\n\n\n\nThis event is intended for adults 60+
URL:https://funinfarmington.com/event/the-next-chapter-60-at-costick-center/2026-12-22/
LOCATION:Costick Center\, 28600 W Eleven Mile Rd\, Farmington Hills\, Michigan\, 48336
CATEGORIES:Older Adults
END:VEVENT
BEGIN:VEVENT
DTSTART;TZID=UTC:20270126T100000
DTEND;TZID=UTC:20270126T110000
DTSTAMP:20260420T070930
CREATED:20260110T191652Z
LAST-MODIFIED:20260110T191652Z
UID:10019073-1800957600-1800961200@funinfarmington.com
SUMMARY:The Next Chapter (60+) at Costick Center
DESCRIPTION:Library events are always free to the public and you do not need a library card to attend!  \nThis event will take place at the Costick Center in Shannon Hall at 28600 W. 11 Mile Rd.\, Farmington Hills\, MI 48336. \nNo registration is required. \nJoin the Farmington Community Library’s Senior Outreach Librarian every fourth Tuesday of the month at the Costick Center to learn about the library\, check out an assortment of large print books\, and engage in a fun activity. \nThis month’s activity is “Positive Affirmation Paintings”. Start off the year 2026 on the right foot! Come create a positive affirmations painting that’ll provide you with words of inspiration\, kindness\, and gratitude you can draw from for the rest of the year. All art supplies will be provided. \n\nDisclaimer(s)\n\n\n\n\nTo request ADA accommodations\, such as wheelchair access or sign language interpretation\, please complete the Accommodation Request Form at least 10 days before the event. \n\n\n\n\n\n\nThis event is intended for adults 60+
URL:https://funinfarmington.com/event/the-next-chapter-60-at-costick-center/2027-01-26/
LOCATION:Costick Center\, 28600 W Eleven Mile Rd\, Farmington Hills\, Michigan\, 48336
CATEGORIES:Older Adults
END:VEVENT
BEGIN:VEVENT
DTSTART;TZID=UTC:20270223T100000
DTEND;TZID=UTC:20270223T110000
DTSTAMP:20260420T070930
CREATED:20260110T191652Z
LAST-MODIFIED:20260110T191652Z
UID:10019074-1803376800-1803380400@funinfarmington.com
SUMMARY:The Next Chapter (60+) at Costick Center
DESCRIPTION:Library events are always free to the public and you do not need a library card to attend!  \nThis event will take place at the Costick Center in Shannon Hall at 28600 W. 11 Mile Rd.\, Farmington Hills\, MI 48336. \nNo registration is required. \nJoin the Farmington Community Library’s Senior Outreach Librarian every fourth Tuesday of the month at the Costick Center to learn about the library\, check out an assortment of large print books\, and engage in a fun activity. \nThis month’s activity is “Positive Affirmation Paintings”. Start off the year 2026 on the right foot! Come create a positive affirmations painting that’ll provide you with words of inspiration\, kindness\, and gratitude you can draw from for the rest of the year. All art supplies will be provided. \n\nDisclaimer(s)\n\n\n\n\nTo request ADA accommodations\, such as wheelchair access or sign language interpretation\, please complete the Accommodation Request Form at least 10 days before the event. \n\n\n\n\n\n\nThis event is intended for adults 60+
URL:https://funinfarmington.com/event/the-next-chapter-60-at-costick-center/2027-02-23/
LOCATION:Costick Center\, 28600 W Eleven Mile Rd\, Farmington Hills\, Michigan\, 48336
CATEGORIES:Older Adults
END:VEVENT
BEGIN:VEVENT
DTSTART;TZID=UTC:20270323T100000
DTEND;TZID=UTC:20270323T110000
DTSTAMP:20260420T070930
CREATED:20260110T191652Z
LAST-MODIFIED:20260110T191652Z
UID:10019075-1805796000-1805799600@funinfarmington.com
SUMMARY:The Next Chapter (60+) at Costick Center
DESCRIPTION:Library events are always free to the public and you do not need a library card to attend!  \nThis event will take place at the Costick Center in Shannon Hall at 28600 W. 11 Mile Rd.\, Farmington Hills\, MI 48336. \nNo registration is required. \nJoin the Farmington Community Library’s Senior Outreach Librarian every fourth Tuesday of the month at the Costick Center to learn about the library\, check out an assortment of large print books\, and engage in a fun activity. \nThis month’s activity is “Positive Affirmation Paintings”. Start off the year 2026 on the right foot! Come create a positive affirmations painting that’ll provide you with words of inspiration\, kindness\, and gratitude you can draw from for the rest of the year. All art supplies will be provided. \n\nDisclaimer(s)\n\n\n\n\nTo request ADA accommodations\, such as wheelchair access or sign language interpretation\, please complete the Accommodation Request Form at least 10 days before the event. \n\n\n\n\n\n\nThis event is intended for adults 60+
URL:https://funinfarmington.com/event/the-next-chapter-60-at-costick-center/2027-03-23/
LOCATION:Costick Center\, 28600 W Eleven Mile Rd\, Farmington Hills\, Michigan\, 48336
CATEGORIES:Older Adults
END:VEVENT
BEGIN:VEVENT
DTSTART;TZID=UTC:20270427T100000
DTEND;TZID=UTC:20270427T110000
DTSTAMP:20260420T070930
CREATED:20260110T191652Z
LAST-MODIFIED:20260110T191652Z
UID:10019076-1808820000-1808823600@funinfarmington.com
SUMMARY:The Next Chapter (60+) at Costick Center
DESCRIPTION:Library events are always free to the public and you do not need a library card to attend!  \nThis event will take place at the Costick Center in Shannon Hall at 28600 W. 11 Mile Rd.\, Farmington Hills\, MI 48336. \nNo registration is required. \nJoin the Farmington Community Library’s Senior Outreach Librarian every fourth Tuesday of the month at the Costick Center to learn about the library\, check out an assortment of large print books\, and engage in a fun activity. \nThis month’s activity is “Positive Affirmation Paintings”. Start off the year 2026 on the right foot! Come create a positive affirmations painting that’ll provide you with words of inspiration\, kindness\, and gratitude you can draw from for the rest of the year. All art supplies will be provided. \n\nDisclaimer(s)\n\n\n\n\nTo request ADA accommodations\, such as wheelchair access or sign language interpretation\, please complete the Accommodation Request Form at least 10 days before the event. \n\n\n\n\n\n\nThis event is intended for adults 60+
URL:https://funinfarmington.com/event/the-next-chapter-60-at-costick-center/2027-04-27/
LOCATION:Costick Center\, 28600 W Eleven Mile Rd\, Farmington Hills\, Michigan\, 48336
CATEGORIES:Older Adults
END:VEVENT
BEGIN:VEVENT
DTSTART;TZID=UTC:20270525T100000
DTEND;TZID=UTC:20270525T110000
DTSTAMP:20260420T070930
CREATED:20260110T191652Z
LAST-MODIFIED:20260110T191652Z
UID:10019077-1811239200-1811242800@funinfarmington.com
SUMMARY:The Next Chapter (60+) at Costick Center
DESCRIPTION:Library events are always free to the public and you do not need a library card to attend!  \nThis event will take place at the Costick Center in Shannon Hall at 28600 W. 11 Mile Rd.\, Farmington Hills\, MI 48336. \nNo registration is required. \nJoin the Farmington Community Library’s Senior Outreach Librarian every fourth Tuesday of the month at the Costick Center to learn about the library\, check out an assortment of large print books\, and engage in a fun activity. \nThis month’s activity is “Positive Affirmation Paintings”. Start off the year 2026 on the right foot! Come create a positive affirmations painting that’ll provide you with words of inspiration\, kindness\, and gratitude you can draw from for the rest of the year. All art supplies will be provided. \n\nDisclaimer(s)\n\n\n\n\nTo request ADA accommodations\, such as wheelchair access or sign language interpretation\, please complete the Accommodation Request Form at least 10 days before the event. \n\n\n\n\n\n\nThis event is intended for adults 60+
URL:https://funinfarmington.com/event/the-next-chapter-60-at-costick-center/2027-05-25/
LOCATION:Costick Center\, 28600 W Eleven Mile Rd\, Farmington Hills\, Michigan\, 48336
CATEGORIES:Older Adults
END:VEVENT
END:VCALENDAR