BEGIN:VCALENDAR
VERSION:2.0
PRODID:-//Fun in Farmington - ECPv6.15.20//NONSGML v1.0//EN
CALSCALE:GREGORIAN
METHOD:PUBLISH
X-ORIGINAL-URL:https://funinfarmington.com
X-WR-CALDESC:Events for Fun in Farmington
REFRESH-INTERVAL;VALUE=DURATION:PT1H
X-Robots-Tag:noindex
X-PUBLISHED-TTL:PT1H
BEGIN:VTIMEZONE
TZID:UTC
BEGIN:STANDARD
TZOFFSETFROM:+0000
TZOFFSETTO:+0000
TZNAME:UTC
DTSTART:20250101T000000
END:STANDARD
END:VTIMEZONE
BEGIN:VEVENT
DTSTART;TZID=UTC:20260303T100000
DTEND;TZID=UTC:20260303T210000
DTSTAMP:20260420T001652
CREATED:20260222T212801Z
LAST-MODIFIED:20260222T212801Z
UID:10019600-1772532000-1772571600@funinfarmington.com
SUMMARY:Toe Nail Tuesday at Tolonen Family Pet Shop
DESCRIPTION:Walk-in nail trims for dogs\, cats and other small animals!
URL:https://funinfarmington.com/event/toe-nail-tuesday-at-tolonen-family-pet-shop/2026-03-03/
LOCATION:Tolonen Family Pet\, 23320 Farmington Rd\, Farmington\, Michigan\, 48336
CATEGORIES:Pets
END:VEVENT
BEGIN:VEVENT
DTSTART;TZID=UTC:20260310T100000
DTEND;TZID=UTC:20260310T210000
DTSTAMP:20260420T001652
CREATED:20260222T212801Z
LAST-MODIFIED:20260222T212801Z
UID:10019601-1773136800-1773176400@funinfarmington.com
SUMMARY:Toe Nail Tuesday at Tolonen Family Pet Shop
DESCRIPTION:Walk-in nail trims for dogs\, cats and other small animals!
URL:https://funinfarmington.com/event/toe-nail-tuesday-at-tolonen-family-pet-shop/2026-03-10/
LOCATION:Tolonen Family Pet\, 23320 Farmington Rd\, Farmington\, Michigan\, 48336
CATEGORIES:Pets
END:VEVENT
BEGIN:VEVENT
DTSTART;TZID=UTC:20260314T110000
DTEND;TZID=UTC:20260314T160000
DTSTAMP:20260420T001652
CREATED:20260305T170853Z
LAST-MODIFIED:20260305T170853Z
UID:10019974-1773486000-1773504000@funinfarmington.com
SUMMARY:St. Patrick's Day Pet Photo Shoot at Tolonen Family Pet Shop
DESCRIPTION:Free with $20 in-store purchase or $5 for Photo Shoot alone \n+ Happy Paws Adoption Event happening at the same time \nIf this event is your only purchase\, choose ‘Pick Up’ at checkout.\nYour information will be saved in our system and you can check-in at the counter at the time of the event.
URL:https://funinfarmington.com/event/st-patricks-day-pet-photo-shoot-at-tolonen-family-pet-shop/
LOCATION:Tolonen Family Pet\, 23320 Farmington Rd\, Farmington\, Michigan\, 48336
CATEGORIES:Pets
ATTACH;FMTTYPE=image/png:https://funinfarmington.com/wp-content/uploads/2026/03/st-pats-pet.png
END:VEVENT
BEGIN:VEVENT
DTSTART;TZID=UTC:20260314T150000
DTEND;TZID=UTC:20260314T190000
DTSTAMP:20260420T001652
CREATED:20260122T203508Z
LAST-MODIFIED:20260122T203508Z
UID:10019385-1773500400-1773514800@funinfarmington.com
SUMMARY:Dog & Cat Adoption Event
DESCRIPTION:We’re teaming up with a rescue organization to help lovable pets find their forever homes. Come meet adoptable dogs and/or cats\, learn about responsible pet ownership\, and support a small business that truly cares about the community and its animals. Our knowledgeable staff and volunteers will be on hand to answer questions and help guide you through the adoption process. Whether you’re ready to adopt or just want to stop by and show some love\, we’d be thrilled to see you there!
URL:https://funinfarmington.com/event/dog-cat-adoption-event/2026-03-14/
LOCATION:Tolonen Family Pet\, 23320 Farmington Rd\, Farmington\, Michigan\, 48336
CATEGORIES:Pets
ATTACH;FMTTYPE=image/png:https://funinfarmington.com/wp-content/uploads/2026/01/FC6BD925-9DA7-4E4D-A1D7-3EDA88C8E4C7dog-cat-adoptions-1.png
ORGANIZER;CN="Happy Paws Haven":MAILTO:info@happypawshaven.pet
END:VEVENT
BEGIN:VEVENT
DTSTART;TZID=UTC:20260314T150000
DTEND;TZID=UTC:20260314T190000
DTSTAMP:20260420T001652
CREATED:20260225T034123Z
LAST-MODIFIED:20260225T034123Z
UID:10019582-1773500400-1773514800@funinfarmington.com
SUMMARY:Dog & Cat Adoption Event with Happy Paws Haven
DESCRIPTION:We’re teaming up with a rescue organization to help lovable pets find their forever homes. Come meet adoptable dogs and/or cats\, learn about responsible pet ownership\, and support a small business that truly cares about the community and its animals. Our knowledgeable staff and volunteers will be on hand to answer questions and help guide you through the adoption process. Whether you’re ready to adopt or just want to stop by and show some love\, we’d be thrilled to see you there!
URL:https://funinfarmington.com/event/dog-cat-adoption-event-with-happy-paws-haven-2/
LOCATION:Tolonen Family Pet\, 23320 Farmington Rd\, Farmington\, Michigan\, 48336
CATEGORIES:Pets
ATTACH;FMTTYPE=image/png:https://funinfarmington.com/wp-content/uploads/2026/02/FC6BD925-9DA7-4E4D-A1D7-3EDA88C8E4C7dog-cat-adoptions-1.png
ORGANIZER;CN="Tolonen Family Pet":MAILTO:Info@tolonenfamilypet.com
END:VEVENT
BEGIN:VEVENT
DTSTART;TZID=UTC:20260316T180000
DTEND;TZID=UTC:20260316T193000
DTSTAMP:20260420T001652
CREATED:20260215T201118Z
LAST-MODIFIED:20260215T201118Z
UID:10019548-1773684000-1773689400@funinfarmington.com
SUMMARY:Doodle Party at Tolonen Family Pet Shop (RSVP)
DESCRIPTION:Paint with your Dog\nScent Workshop\nAgility\nRaffle Backets\nPrizes\nand More…
URL:https://funinfarmington.com/event/doodle-party-at-tolonen-family-pet-shop-rsvp/
LOCATION:Tolonen Family Pet\, 23320 Farmington Rd\, Farmington\, Michigan\, 48336
CATEGORIES:Pets
ATTACH;FMTTYPE=image/png:https://funinfarmington.com/wp-content/uploads/2026/02/doodle-party.png
END:VEVENT
BEGIN:VEVENT
DTSTART;TZID=UTC:20260317T100000
DTEND;TZID=UTC:20260317T210000
DTSTAMP:20260420T001652
CREATED:20260222T212801Z
LAST-MODIFIED:20260222T212801Z
UID:10019602-1773741600-1773781200@funinfarmington.com
SUMMARY:Toe Nail Tuesday at Tolonen Family Pet Shop
DESCRIPTION:Walk-in nail trims for dogs\, cats and other small animals!
URL:https://funinfarmington.com/event/toe-nail-tuesday-at-tolonen-family-pet-shop/2026-03-17/
LOCATION:Tolonen Family Pet\, 23320 Farmington Rd\, Farmington\, Michigan\, 48336
CATEGORIES:Pets
END:VEVENT
BEGIN:VEVENT
DTSTART;TZID=UTC:20260324T100000
DTEND;TZID=UTC:20260324T210000
DTSTAMP:20260420T001652
CREATED:20260222T212801Z
LAST-MODIFIED:20260222T212801Z
UID:10019603-1774346400-1774386000@funinfarmington.com
SUMMARY:Toe Nail Tuesday at Tolonen Family Pet Shop
DESCRIPTION:Walk-in nail trims for dogs\, cats and other small animals!
URL:https://funinfarmington.com/event/toe-nail-tuesday-at-tolonen-family-pet-shop/2026-03-24/
LOCATION:Tolonen Family Pet\, 23320 Farmington Rd\, Farmington\, Michigan\, 48336
CATEGORIES:Pets
END:VEVENT
BEGIN:VEVENT
DTSTART;TZID=UTC:20260328T110000
DTEND;TZID=UTC:20260328T160000
DTSTAMP:20260420T001652
CREATED:20260225T034135Z
LAST-MODIFIED:20260225T034135Z
UID:10019581-1774695600-1774713600@funinfarmington.com
SUMMARY:Spring & Easter Pet Photo Event 🌸🐰🐾
DESCRIPTION:Spring is in the air\, and it’s the perfect time to capture an adorable photo of your furry family member! 🌸🐾 \nJoin us at Tolonen Family Pet for our Spring & Easter Pet Photo Event\, featuring a bright seasonal backdrop and festive props. \nBring your pet dressed in their Easter best — bunny ears\, spring outfits\, or a fresh bandana. Costumes are fun but not required! \nWhat’s Included:\n🌷 Beautiful spring/Easter photo setup\n🐰 Seasonal props & festive backdrop\n🐾 A special treat for every pet\n🛍 Exclusive in-store specials during the event \nPerfect for:\n• Easter cards & social media\n• Seasonal keepsakes\n• A fun outing with your pet
URL:https://funinfarmington.com/event/spring-easter-pet-photo-event-%f0%9f%8c%b8%f0%9f%90%b0%f0%9f%90%be/
LOCATION:Tolonen Family Pet\, 23320 Farmington Rd\, Farmington\, Michigan\, 48336
CATEGORIES:Pets
ATTACH;FMTTYPE=image/jpeg:https://funinfarmington.com/wp-content/uploads/2026/02/IMG_0334.jpeg
ORGANIZER;CN="Tolonen Family Pet":MAILTO:Info@tolonenfamilypet.com
END:VEVENT
BEGIN:VEVENT
DTSTART;TZID=UTC:20260328T110000
DTEND;TZID=UTC:20260328T160000
DTSTAMP:20260420T001652
CREATED:20260305T171125Z
LAST-MODIFIED:20260305T171125Z
UID:10019975-1774695600-1774713600@funinfarmington.com
SUMMARY:Spring Photo Shoot at Tolonen Family Pet Shop
DESCRIPTION:Saturday\, March 28th \n11:00am – 4:00pm\n \nSpring is in the air\, and it’s the perfect time to capture an adorable photo of your furry family member! \nJoin us at Tolonen Family Pet for our Spring & Easter Pet Photo Event\, featuring a bright seasonal backdrop and festive props.\nBring your pet dressed in their Easter best — bunny ears\, spring outfits\, or a fresh bandana. Costumes are fun but not required!\nWhat’s Included:Beautiful spring/Easter photo setup Seasonal props & festive backdrop A special treat for every pet Exclusive in-store specials during the event\nPerfect for:• Easter cards & social media• Seasonal keepsakes• A fun outing with your pet\nIf this event is your only purchase\, choose ‘Pick Up’ at checkout.\nYour information will be saved in our system and you can check-in at the counter at the time of the event.
URL:https://funinfarmington.com/event/spring-photo-shoot-at-tolonen-family-pet-shop/
LOCATION:Tolonen Family Pet\, 23320 Farmington Rd\, Farmington\, Michigan\, 48336
CATEGORIES:Pets
ATTACH;FMTTYPE=image/png:https://funinfarmington.com/wp-content/uploads/2026/03/spring-pet-photo.png
END:VEVENT
BEGIN:VEVENT
DTSTART;TZID=UTC:20260331T100000
DTEND;TZID=UTC:20260331T210000
DTSTAMP:20260420T001652
CREATED:20260222T212801Z
LAST-MODIFIED:20260222T212801Z
UID:10019604-1774951200-1774990800@funinfarmington.com
SUMMARY:Toe Nail Tuesday at Tolonen Family Pet Shop
DESCRIPTION:Walk-in nail trims for dogs\, cats and other small animals!
URL:https://funinfarmington.com/event/toe-nail-tuesday-at-tolonen-family-pet-shop/2026-03-31/
LOCATION:Tolonen Family Pet\, 23320 Farmington Rd\, Farmington\, Michigan\, 48336
CATEGORIES:Pets
END:VEVENT
END:VCALENDAR