BEGIN:VCALENDAR
VERSION:2.0
PRODID:-//Fun in Farmington - ECPv6.15.20//NONSGML v1.0//EN
CALSCALE:GREGORIAN
METHOD:PUBLISH
X-WR-CALNAME:Fun in Farmington
X-ORIGINAL-URL:https://funinfarmington.com
X-WR-CALDESC:Events for Fun in Farmington
REFRESH-INTERVAL;VALUE=DURATION:PT1H
X-Robots-Tag:noindex
X-PUBLISHED-TTL:PT1H
BEGIN:VTIMEZONE
TZID:UTC
BEGIN:STANDARD
TZOFFSETFROM:+0000
TZOFFSETTO:+0000
TZNAME:UTC
DTSTART:20260101T000000
END:STANDARD
END:VTIMEZONE
BEGIN:VEVENT
DTSTART;TZID=UTC:20270127T183000
DTEND;TZID=UTC:20270127T193000
DTSTAMP:20260419T140904
CREATED:20260130T145218Z
LAST-MODIFIED:20260130T145218Z
UID:10019474-1801074600-1801078200@funinfarmington.com
SUMMARY:Discovery Storytime (Ages 2-6) at Library (Farmington)
DESCRIPTION:No registration is required. \nAt storytime\, we show you how to help your child’s brain grow by talking\, singing\, reading\, writing\, and playing\, and we help you connect with other parents. Children and their caregivers will enjoy a short storytime followed by exploration for children ages 2-6. As you engage in sensory play and movement together your child will be building literacy skills.
URL:https://funinfarmington.com/event/discovery-storytime-ages-2-6-at-library-farmington-2/2027-01-27/
LOCATION:Farmington Community Library – Farmington Location\, 23500 Liberty St.\, Farmington\, Michigan\, 48335
CATEGORIES:Community,Kids & Families,Reading
END:VEVENT
BEGIN:VEVENT
DTSTART;TZID=UTC:20270224T183000
DTEND;TZID=UTC:20270224T193000
DTSTAMP:20260419T140904
CREATED:20260130T145218Z
LAST-MODIFIED:20260130T145218Z
UID:10019475-1803493800-1803497400@funinfarmington.com
SUMMARY:Discovery Storytime (Ages 2-6) at Library (Farmington)
DESCRIPTION:No registration is required. \nAt storytime\, we show you how to help your child’s brain grow by talking\, singing\, reading\, writing\, and playing\, and we help you connect with other parents. Children and their caregivers will enjoy a short storytime followed by exploration for children ages 2-6. As you engage in sensory play and movement together your child will be building literacy skills.
URL:https://funinfarmington.com/event/discovery-storytime-ages-2-6-at-library-farmington-2/2027-02-24/
LOCATION:Farmington Community Library – Farmington Location\, 23500 Liberty St.\, Farmington\, Michigan\, 48335
CATEGORIES:Community,Kids & Families,Reading
END:VEVENT
BEGIN:VEVENT
DTSTART;TZID=UTC:20270324T183000
DTEND;TZID=UTC:20270324T193000
DTSTAMP:20260419T140904
CREATED:20260130T145218Z
LAST-MODIFIED:20260130T145218Z
UID:10019476-1805913000-1805916600@funinfarmington.com
SUMMARY:Discovery Storytime (Ages 2-6) at Library (Farmington)
DESCRIPTION:No registration is required. \nAt storytime\, we show you how to help your child’s brain grow by talking\, singing\, reading\, writing\, and playing\, and we help you connect with other parents. Children and their caregivers will enjoy a short storytime followed by exploration for children ages 2-6. As you engage in sensory play and movement together your child will be building literacy skills.
URL:https://funinfarmington.com/event/discovery-storytime-ages-2-6-at-library-farmington-2/2027-03-24/
LOCATION:Farmington Community Library – Farmington Location\, 23500 Liberty St.\, Farmington\, Michigan\, 48335
CATEGORIES:Community,Kids & Families,Reading
END:VEVENT
END:VCALENDAR