BEGIN:VCALENDAR
VERSION:2.0
PRODID:-//Fun in Farmington - ECPv6.15.20//NONSGML v1.0//EN
CALSCALE:GREGORIAN
METHOD:PUBLISH
X-ORIGINAL-URL:https://funinfarmington.com
X-WR-CALDESC:Events for Fun in Farmington
REFRESH-INTERVAL;VALUE=DURATION:PT1H
X-Robots-Tag:noindex
X-PUBLISHED-TTL:PT1H
BEGIN:VTIMEZONE
TZID:UTC
BEGIN:STANDARD
TZOFFSETFROM:+0000
TZOFFSETTO:+0000
TZNAME:UTC
DTSTART:20250101T000000
END:STANDARD
END:VTIMEZONE
BEGIN:VEVENT
DTSTART;TZID=UTC:20260724T103000
DTEND;TZID=UTC:20260724T120000
DTSTAMP:20260426T015604
CREATED:20260419T184602Z
LAST-MODIFIED:20260419T184602Z
UID:10020851-1784889000-1784894400@funinfarmington.com
SUMMARY:Senior Social Hour! (Ages 60+) at Library (FH)
DESCRIPTION:Registration is preferred. \nAre you an adult 60+ looking for fun and an opportunity to socialize? Check out the library’s new program specifically for you! There will be crafts\, music\, games\, puzzles\, coffee\, and light refreshments. Make some friends while having fun! FCL’s Senior Outreach Librarian will also be available to answer questions about the Library. Drop-in anytime between 10:30-noon every fourth Friday of the month. Caregivers are also welcome to attend.
URL:https://funinfarmington.com/event/senior-social-hour-ages-60-at-library-fh/2026-07-24/
LOCATION:Farmington Community Library – Farmington Hills Location\, 32737 W. 12 Mile Rd.\, Farmington Hills\, Michigan\, 48334
CATEGORIES:Community,Seniors
END:VEVENT
END:VCALENDAR