BEGIN:VCALENDAR
VERSION:2.0
PRODID:-//Fun in Farmington - ECPv6.15.20//NONSGML v1.0//EN
CALSCALE:GREGORIAN
METHOD:PUBLISH
X-WR-CALNAME:Fun in Farmington
X-ORIGINAL-URL:https://funinfarmington.com
X-WR-CALDESC:Events for Fun in Farmington
REFRESH-INTERVAL;VALUE=DURATION:PT1H
X-Robots-Tag:noindex
X-PUBLISHED-TTL:PT1H
BEGIN:VTIMEZONE
TZID:UTC
BEGIN:STANDARD
TZOFFSETFROM:+0000
TZOFFSETTO:+0000
TZNAME:UTC
DTSTART:20250101T000000
END:STANDARD
END:VTIMEZONE
BEGIN:VEVENT
DTSTART;TZID=UTC:20260206T184500
DTEND;TZID=UTC:20260206T210000
DTSTAMP:20260420T005258
CREATED:20260130T150857Z
LAST-MODIFIED:20260130T150857Z
UID:10019480-1770403500-1770411600@funinfarmington.com
SUMMARY:Pre-Valentine's Day Movie Night at Library (FH) - Reg. Required (18+)
DESCRIPTION:Registration is required.  \nThis event is intended for adults 18+ \n**Please note: Please plan to arrive to the library as early as 6:30 pm. Since this is an after hours event\, the doors to the library will only be open from 6:30-7:00 pm.  \nJoin FCL for a Pre-Valentine’s Day Movie Screening! Feel free to come solo or with someone and enjoy a Romantic Drama and some sweet treats! \nThe film for this event will be The Photograph (2020) \nSynopsis: “When famed photographer Christina Eames dies unexpectedly\, she leaves her estranged daughter\, Mae\, hurt\, angry and full of questions. When Mae finds a photograph tucked away in a safe-deposit box\, she soon finds herself delving into her mother’s early life — an investigation that leads to an unexpected romance with a rising journalist.” \n(Genre: Romantic Drama; Run time: 1 hr. & 46 mins; Rated: PG-13 for (Sexuality | Brief Strong Language)
URL:https://funinfarmington.com/event/pre-valentines-day-movie-night-at-library-fh-reg-required-18/
LOCATION:Farmington Community Library – Farmington Hills Location\, 32737 W. 12 Mile Rd.\, Farmington Hills\, Michigan\, 48334
CATEGORIES:Holiday,Movies,Older Adults,Seniors,Teens
END:VEVENT
END:VCALENDAR