BEGIN:VCALENDAR
VERSION:2.0
PRODID:-//Fun in Farmington - ECPv6.15.20//NONSGML v1.0//EN
CALSCALE:GREGORIAN
METHOD:PUBLISH
X-ORIGINAL-URL:https://funinfarmington.com
X-WR-CALDESC:Events for Fun in Farmington
REFRESH-INTERVAL;VALUE=DURATION:PT1H
X-Robots-Tag:noindex
X-PUBLISHED-TTL:PT1H
BEGIN:VTIMEZONE
TZID:UTC
BEGIN:STANDARD
TZOFFSETFROM:+0000
TZOFFSETTO:+0000
TZNAME:UTC
DTSTART:20250101T000000
END:STANDARD
END:VTIMEZONE
BEGIN:VEVENT
DTSTART;TZID=UTC:20260218T113000
DTEND;TZID=UTC:20260218T130000
DTSTAMP:20260419T214510
CREATED:20260215T221023Z
LAST-MODIFIED:20260215T221023Z
UID:10019566-1771414200-1771419600@funinfarmington.com
SUMMARY:Dine and Discover: Lost Restaurants of Detroit (50+) at The Costick Center (RSVP)
DESCRIPTION:Through stories and recipes nearly lost to time\, author Paul Vachon explores the history of the Motor City’s fine dining\, ethnic eateries and everything in between. While some restaurants come and go with little fanfare\, others are dearly missed and never forgotten. In 1962\, patrons of the Caucus Club were among the first to hear the voice of an eighteen-year-old Barbra Streisand. Before Stouffer’s launched a frozen food empire\, it was better known for its restaurants with two popular locations in Detroit. The Machus Red Fox was the last place former Teamsters president Jimmy Hoffa was seen alive.
URL:https://funinfarmington.com/event/dine-and-discover-lost-restaurants-of-detroit-50-at-the-costick-center-rsvp/
LOCATION:Costick Center\, 28600 W Eleven Mile Rd\, Farmington Hills\, Michigan\, 48336
CATEGORIES:Educational,History,Older Adults,Seniors
END:VEVENT
BEGIN:VEVENT
DTSTART;TZID=UTC:20260218T180000
DTEND;TZID=UTC:20260218T200000
DTSTAMP:20260419T214510
CREATED:20260215T214223Z
LAST-MODIFIED:20260215T214223Z
UID:10019557-1771437600-1771444800@funinfarmington.com
SUMMARY:Optimist Euchre Night at First Presbyterian Church
DESCRIPTION:Join the Farmington / Farmington Hills Optimist Club for a relaxed and social Euchre Night! Come meet new friends\, reconnect with neighbors\, and learn more about how the Optimist Club brings positivity and service to our community—all while enjoying some friendly card play.\nWhether you’re a Euchre pro or just there for the laughs\, everyone is welcome. Bring a friend and come get connected—we’d love to see you there! 
URL:https://funinfarmington.com/event/optimist-euchre-night-at-first-presbyterian-church/
LOCATION:First Presbyterian Church of Farmington\, 26165 Farmington Rd\, Farmington Hills\, Michigan\, 48334
CATEGORIES:Adults,Games,Older Adults,Seniors
END:VEVENT
END:VCALENDAR