BEGIN:VCALENDAR
VERSION:2.0
PRODID:-//Fun in Farmington - ECPv6.15.20//NONSGML v1.0//EN
CALSCALE:GREGORIAN
METHOD:PUBLISH
X-ORIGINAL-URL:https://funinfarmington.com
X-WR-CALDESC:Events for Fun in Farmington
REFRESH-INTERVAL;VALUE=DURATION:PT1H
X-Robots-Tag:noindex
X-PUBLISHED-TTL:PT1H
BEGIN:VTIMEZONE
TZID:UTC
BEGIN:STANDARD
TZOFFSETFROM:+0000
TZOFFSETTO:+0000
TZNAME:UTC
DTSTART:20250101T000000
END:STANDARD
END:VTIMEZONE
BEGIN:VEVENT
DTSTART;TZID=UTC:20260222T130000
DTEND;TZID=UTC:20260222T160000
DTSTAMP:20260419T160956
CREATED:20260130T153419Z
LAST-MODIFIED:20260130T153419Z
UID:10019487-1771765200-1771776000@funinfarmington.com
SUMMARY:Fired Up: Enamel Bowls (18+) at The Hawk (Reg. Required)
DESCRIPTION:Get ready to ignite your creativity in this hands-on enamel workshop where you’ll design and create your very own one-of-a-kind copper bowl! Guided step-by-step by your instructor\, you’ll learn the mesmerizing art of kiln-fired enameling—melting vibrant powdered glass onto copper to create bold\, colorful surfaces that truly shine. You’ll start with a practice piece (perfect for transforming into a fun keychain)\, then dive into the main event: crafting a custom enamel dish that’s both functional and fabulous. Choose from a variety of opaque enamel colors\, stencils\, and textures to make your piece truly unique. All materials are included—just bring your imagination and a sense of adventure! No experience necessary
URL:https://funinfarmington.com/event/fired-up-enamel-bowls-18-at-the-hawk-reg-required/
LOCATION:The Hawk Community Center\, 29995 W 12 Mile Rd\, Farmington Hills\, Michigan\, 48334
CATEGORIES:Art,Educational,Older Adults,Seniors,Teens
END:VEVENT
BEGIN:VEVENT
DTSTART;TZID=UTC:20260222T133000
DTEND;TZID=UTC:20260222T163000
DTSTAMP:20260419T160956
CREATED:20260130T151739Z
LAST-MODIFIED:20260130T151739Z
UID:10019482-1771767000-1771777800@funinfarmington.com
SUMMARY:Movie Talks (60+) at Library (FH)
DESCRIPTION:Please see event details below for registration requirements.\nRegistration will close on February 22\, 2026 @ 1:30pm.\nThis event is for registrants age 18 and above.\n\nThis program is similar to a book club\, except you do not have to watch the movie before you come. We will watch the pre-selected movie and afterwards the floor will be opened for discussion. You don’t have to be a professional movie critic to attend Movie Talks! This will be a thoughtful environment open to all adults who have a love for watching films! You are also welcomed to bring your own snacks! \n\n\n\n\nThis month’s film will be Sound of Metal (2019). \nSynopsis: Metal drummer Ruben begins to lose his hearing. When a doctor tells him his condition will worsen\, he thinks his career and life is over. His girlfriend Lou checks the former addict into a rehab for the deaf hoping it will prevent a relapse and help him adapt to his new life. After being welcomed and accepted just as he is\, Ruben must choose between his new normal and the life he once knew. \n(Genre: Drama; Run time: 2 hrs; Rated R: language throughout and brief nude images)
URL:https://funinfarmington.com/event/movie-talks-60-at-library-fh/
LOCATION:Farmington Community Library – Farmington Hills Location\, 32737 W. 12 Mile Rd.\, Farmington Hills\, Michigan\, 48334
CATEGORIES:Movies,Older Adults,Seniors
END:VEVENT
BEGIN:VEVENT
DTSTART;TZID=UTC:20260222T190000
DTEND;TZID=UTC:20260222T210000
DTSTAMP:20260419T160956
CREATED:20260130T152617Z
LAST-MODIFIED:20260130T152617Z
UID:10019485-1771786800-1771794000@funinfarmington.com
SUMMARY:Black History Celebration with the Amen Ra Dancers and Drummers at The Hawk
DESCRIPTION:Mainstage Theatre \nCelebrate the rich cultural heritage and vibrant rhythms of Black History Month with an electrifying performance by the Amen-Ra Dancers and Drummers. This dynamic ensemble pays homage to the traditions and legacies of African and African-American culture\, captivating audiences with their infectious energy\, fantastic drumming and story-telling and mesmerizing choreography. From traditional West African dances to contemporary interpretations\, each performance is a testament to the resilience\, strength\, and beauty of the African diaspora\, reminding us of the enduring spirit that continues to shape our world. Join us for an unforgettable evening of music and dance as we celebrate Black history and culture.
URL:https://funinfarmington.com/event/black-history-celebration-with-the-amen-ra-dancers-and-drummers-at-the-hawk/
LOCATION:The Hawk Community Center\, 29995 W 12 Mile Rd\, Farmington Hills\, Michigan\, 48334
CATEGORIES:Community,Festival,Kids & Families,Music,Older Adults,Seniors,Teens
END:VEVENT
END:VCALENDAR