BEGIN:VCALENDAR
VERSION:2.0
PRODID:-//Fun in Farmington - ECPv6.15.20//NONSGML v1.0//EN
CALSCALE:GREGORIAN
METHOD:PUBLISH
X-ORIGINAL-URL:https://funinfarmington.com
X-WR-CALDESC:Events for Fun in Farmington
REFRESH-INTERVAL;VALUE=DURATION:PT1H
X-Robots-Tag:noindex
X-PUBLISHED-TTL:PT1H
BEGIN:VTIMEZONE
TZID:UTC
BEGIN:STANDARD
TZOFFSETFROM:+0000
TZOFFSETTO:+0000
TZNAME:UTC
DTSTART:20250101T000000
END:STANDARD
END:VTIMEZONE
BEGIN:VEVENT
DTSTART;TZID=UTC:20260228T200000
DTEND;TZID=UTC:20260228T200000
DTSTAMP:20260423T221445
CREATED:20260222T213145Z
LAST-MODIFIED:20260222T213145Z
UID:10019670-1772308800-1772308800@funinfarmington.com
SUMMARY:Copper Booms Band at Shots Bar & Grille
DESCRIPTION:Copper Boom Band is back at Shots Bar & Grille for another night of crowd engaging music and dancing! You bring your friends\, parents\, and co-workers… we’ll bring the BOOM!
URL:https://funinfarmington.com/event/copper-booms-band-at-shots-bar-grille/
LOCATION:Shots Bar and Grille\, 30859 W 10 Mile Rd\, Farmington Hills\, Michigan\, 48336
CATEGORIES:Adults,Concert,Dance,Older Adults,Seniors
END:VEVENT
END:VCALENDAR