BEGIN:VCALENDAR
VERSION:2.0
PRODID:-//Fun in Farmington - ECPv6.15.20//NONSGML v1.0//EN
CALSCALE:GREGORIAN
METHOD:PUBLISH
X-ORIGINAL-URL:https://funinfarmington.com
X-WR-CALDESC:Events for Fun in Farmington
REFRESH-INTERVAL;VALUE=DURATION:PT1H
X-Robots-Tag:noindex
X-PUBLISHED-TTL:PT1H
BEGIN:VTIMEZONE
TZID:UTC
BEGIN:STANDARD
TZOFFSETFROM:+0000
TZOFFSETTO:+0000
TZNAME:UTC
DTSTART:20240101T000000
END:STANDARD
END:VTIMEZONE
BEGIN:VEVENT
DTSTART;TZID=UTC:20251108T100000
DTEND;TZID=UTC:20251108T170000
DTSTAMP:20260420T070629
CREATED:20251106T161805Z
LAST-MODIFIED:20251106T161805Z
UID:10018064-1762596000-1762621200@funinfarmington.com
SUMMARY:Holiday Kickoff Event at Apricot Lane
DESCRIPTION:Kick off the holiday season with us at Apricot Lane! \n\nBe the first to shop our exclusive holiday new arrivals while enjoying sips & sweets\, a complimentary bracelet bar\, fun raffles\, and local pop-ups!\nIt’s the perfect festive night to shop\, laugh and celebrate the season!
URL:https://funinfarmington.com/event/holiday-kickoff-event-at-apricot-lane/
LOCATION:Apricot Lane\, 33250 Grand River Ave\, Farmington\, Michigan\, 48336
CATEGORIES:Shopping,Special Event
END:VEVENT
END:VCALENDAR