BEGIN:VCALENDAR
VERSION:2.0
PRODID:-//Fun in Farmington - ECPv6.15.20//NONSGML v1.0//EN
CALSCALE:GREGORIAN
METHOD:PUBLISH
X-WR-CALNAME:Fun in Farmington
X-ORIGINAL-URL:https://funinfarmington.com
X-WR-CALDESC:Events for Fun in Farmington
REFRESH-INTERVAL;VALUE=DURATION:PT1H
X-Robots-Tag:noindex
X-PUBLISHED-TTL:PT1H
BEGIN:VTIMEZONE
TZID:UTC
BEGIN:STANDARD
TZOFFSETFROM:+0000
TZOFFSETTO:+0000
TZNAME:UTC
DTSTART:20240101T000000
END:STANDARD
END:VTIMEZONE
BEGIN:VEVENT
DTSTART;TZID=UTC:20251113T170000
DTEND;TZID=UTC:20251113T210000
DTSTAMP:20260420T071146
CREATED:20251110T154909Z
LAST-MODIFIED:20251110T154909Z
UID:10018066-1763053200-1763067600@funinfarmington.com
SUMMARY:Ladies Night Out in Downtown Farmington
DESCRIPTION:Save the date for Ladies Night Out in #DowntownFarmington! We’re kicking off the holiday shopping season in style.\nShopping and dining specials at participating merchantsDrink specials for your Syndicate strolling pleasure.Pop-up artisan market at Riley ParkMake a Wave tile for the Promenade at KickstART with Fired and Fused\nVisit DowntownFarmington.org/LadiesNightOut for shopping specials.
URL:https://funinfarmington.com/event/ladies-night-out-in-downtown-farmington/
LOCATION:Downtown Farmington\, Grand River Ave and Farmington Rd\, Farmington\, Michigan\, 48335
CATEGORIES:Shopping,Women
END:VEVENT
END:VCALENDAR