BEGIN:VCALENDAR
VERSION:2.0
PRODID:-//Fun in Farmington - ECPv6.15.20//NONSGML v1.0//EN
CALSCALE:GREGORIAN
METHOD:PUBLISH
X-ORIGINAL-URL:https://funinfarmington.com
X-WR-CALDESC:Events for Fun in Farmington
REFRESH-INTERVAL;VALUE=DURATION:PT1H
X-Robots-Tag:noindex
X-PUBLISHED-TTL:PT1H
BEGIN:VTIMEZONE
TZID:UTC
BEGIN:STANDARD
TZOFFSETFROM:+0000
TZOFFSETTO:+0000
TZNAME:UTC
DTSTART:20240101T000000
END:STANDARD
END:VTIMEZONE
BEGIN:VEVENT
DTSTART;TZID=UTC:20251205T173000
DTEND;TZID=UTC:20251205T200000
DTSTAMP:20260420T040653
CREATED:20251204T170810Z
LAST-MODIFIED:20251204T170821Z
UID:10018388-1764955800-1764964800@funinfarmington.com
SUMMARY:Jingle & Mingle Family Night at Farmer Johns
DESCRIPTION:– JOIN US FOR A SPECIAL SHOPPING EXPERIENCE FOR THE WHOLE FAMILY –\nFriday\, 5TH of December\, Starts at 5:30pm\nEvent Exclusive Sales • Live Music • Local Artisan Vendors • Complimentary Food\, Refreshments & More!\n$10 Entry fee at the door\nEvery ticket sale will be benefitting st. Jude Children’s Research Hospital
URL:https://funinfarmington.com/event/jingle-mingle-family-night-at-farmer-johns/
LOCATION:Farmers John’s Home & Garden\, 26950 Haggerty Rd\, Farmington Hills\, Michigan\, 48331
CATEGORIES:Holiday,Kids & Families,Shopping
END:VEVENT
END:VCALENDAR