BEGIN:VCALENDAR
VERSION:2.0
PRODID:-//Fun in Farmington - ECPv6.15.20//NONSGML v1.0//EN
CALSCALE:GREGORIAN
METHOD:PUBLISH
X-ORIGINAL-URL:https://funinfarmington.com
X-WR-CALDESC:Events for Fun in Farmington
REFRESH-INTERVAL;VALUE=DURATION:PT1H
X-Robots-Tag:noindex
X-PUBLISHED-TTL:PT1H
BEGIN:VTIMEZONE
TZID:UTC
BEGIN:STANDARD
TZOFFSETFROM:+0000
TZOFFSETTO:+0000
TZNAME:UTC
DTSTART:20240101T000000
END:STANDARD
END:VTIMEZONE
BEGIN:VEVENT
DTSTART;TZID=UTC:20251213T100000
DTEND;TZID=UTC:20251213T150000
DTSTAMP:20260420T040758
CREATED:20251211T170751Z
LAST-MODIFIED:20251211T170751Z
UID:10018428-1765620000-1765638000@funinfarmington.com
SUMMARY:10th Annual Very Merry Marketplace at Lanigan Elementary
DESCRIPTION:We have 73 crafters and vendors to wrap up your holiday shopping or to buy yourself a treat! We have free Santa pictures (with your camera please) from 11-1. We also have cookie decorating from 11-1 for $1. We have our holiday shop for the kids to shop at\, and we have our Scholastic Book Fair open to the public. Free admission!
URL:https://funinfarmington.com/event/10th-annual-very-merry-marketplace-at-lanigan-elementary/
LOCATION:Lanigan Elementary School\, 23800Tuck Rd\, Farmington Hills\, Michigan\, 48336
CATEGORIES:Holiday,Kids & Families,Shopping
ATTACH;FMTTYPE=image/jpeg:https://funinfarmington.com/wp-content/uploads/2025/12/596510315_1442549614544718_1078552651440927949_n.jpg
END:VEVENT
END:VCALENDAR