BEGIN:VCALENDAR
VERSION:2.0
PRODID:-//Fun in Farmington - ECPv6.15.20//NONSGML v1.0//EN
CALSCALE:GREGORIAN
METHOD:PUBLISH
X-ORIGINAL-URL:https://funinfarmington.com
X-WR-CALDESC:Events for Fun in Farmington
REFRESH-INTERVAL;VALUE=DURATION:PT1H
X-Robots-Tag:noindex
X-PUBLISHED-TTL:PT1H
BEGIN:VTIMEZONE
TZID:UTC
BEGIN:STANDARD
TZOFFSETFROM:+0000
TZOFFSETTO:+0000
TZNAME:UTC
DTSTART:20250101T000000
END:STANDARD
END:VTIMEZONE
BEGIN:VEVENT
DTSTART;TZID=UTC:20260117T100000
DTEND;TZID=UTC:20260117T150000
DTSTAMP:20260419T200731
CREATED:20260110T192150Z
LAST-MODIFIED:20260110T192150Z
UID:10019094-1768644000-1768662000@funinfarmington.com
SUMMARY:Tea Party at Apricot Lane
DESCRIPTION:Join us at Apricot Lane Boutique for a cozy and charming Tea Party as we celebrate the launch of our Valentine’s Collection \nWe’ll be hosting a special tea bar pop-up with The Universe Stuff\, hosted by Renata\, where you can sip thoughtfully crafted teas while you shop. Sweet treats will also be available from Sweet Dreams\, featuring her delicious homemade cakes.\nWe’re excited to welcome Play Paper by Ana\, showcasing beautiful handmade paper goods and crafts!\nBe the first to shop our newest Valentine’s styles. We can’t wait to see you! \n 33250 Grand River Ave\, Farmington\, MI 48336 10am to 3pm
URL:https://funinfarmington.com/event/tea-party-at-apricot-lane/
LOCATION:Apricot Lane\, 33250 Grand River Ave\, Farmington\, Michigan\, 48336
CATEGORIES:Shopping
END:VEVENT
END:VCALENDAR