BEGIN:VCALENDAR
VERSION:2.0
PRODID:-//Fun in Farmington - ECPv6.15.20//NONSGML v1.0//EN
CALSCALE:GREGORIAN
METHOD:PUBLISH
X-WR-CALNAME:Fun in Farmington
X-ORIGINAL-URL:https://funinfarmington.com
X-WR-CALDESC:Events for Fun in Farmington
REFRESH-INTERVAL;VALUE=DURATION:PT1H
X-Robots-Tag:noindex
X-PUBLISHED-TTL:PT1H
BEGIN:VTIMEZONE
TZID:UTC
BEGIN:STANDARD
TZOFFSETFROM:+0000
TZOFFSETTO:+0000
TZNAME:UTC
DTSTART:20250101T000000
END:STANDARD
END:VTIMEZONE
BEGIN:VEVENT
DTSTART;TZID=UTC:20261114T100000
DTEND;TZID=UTC:20261114T160000
DTSTAMP:20260423T233621
CREATED:20260419T233816Z
LAST-MODIFIED:20260419T233816Z
UID:10020919-1794650400-1794672000@funinfarmington.com
SUMMARY:Scandinavian Market at Finnish Cultural Center
DESCRIPTION:A day of Scandinavian food\, art\, music\, and the sale of an array of curated handcrafted and imported goods. The 2026 event will be held Nov. 14\, 10 a.m.-4 p.m.\, at the Finnish Center.
URL:https://funinfarmington.com/event/scandinavian-market-at-finnish-cultural-center/
LOCATION:Finnish Center & Hall\, 35200 W 8 Mile Rd.\, Farmington Hills\, MI\, 48335\, United States
CATEGORIES:Shopping
END:VEVENT
END:VCALENDAR