BEGIN:VCALENDAR
VERSION:2.0
PRODID:-//Fun in Farmington - ECPv6.15.20//NONSGML v1.0//EN
CALSCALE:GREGORIAN
METHOD:PUBLISH
X-ORIGINAL-URL:https://funinfarmington.com
X-WR-CALDESC:Events for Fun in Farmington
REFRESH-INTERVAL;VALUE=DURATION:PT1H
X-Robots-Tag:noindex
X-PUBLISHED-TTL:PT1H
BEGIN:VTIMEZONE
TZID:UTC
BEGIN:STANDARD
TZOFFSETFROM:+0000
TZOFFSETTO:+0000
TZNAME:UTC
DTSTART:20250101T000000
END:STANDARD
END:VTIMEZONE
BEGIN:VEVENT
DTSTART;TZID=UTC:20260125T183000
DTEND;TZID=UTC:20260125T220000
DTSTAMP:20260424T071217
CREATED:20260121T150040Z
LAST-MODIFIED:20260121T150040Z
UID:10019377-1769365800-1769378400@funinfarmington.com
SUMMARY:The First Clap - A Storytelling Event at CenterPeace
DESCRIPTION:Theme: Roots before shoots – What are you sowing?\nJoin us in person for Roots before shoots\, a chill storytelling session where stories take center stage! Share your tales or just kick back and listen. It’s all about connecting\, laughing\, and celebrating the magic of stories. \nBefore anything breaks through the surface\, there’s quiet work happening underground. Roots spreading. Seeds germinating. Foundations forming in the dark. \nJanuary is a month for this kind of patience – for tending what isn’t yet visible\, for trusting the slow work of taking root. \nJoin us as we share stories of what we’re sowing right now. The practices we’re beginning. The intentions we’re nurturing. The parts of ourselves we’re cultivating with faith\, even when no one else can see. \nCome tell us what you’re planting. 🌱 \nThe First Clap is a monthly storytelling circle where we gather to share the moments that shape us.
URL:https://funinfarmington.com/event/the-first-clap-a-storytelling-event-at-centerpeace/
LOCATION:CenterPeace\, 33750 Freedom Road\, Farmington\, MI\, 48335
CATEGORIES:Community,Special Event,Wellness
END:VEVENT
END:VCALENDAR