BEGIN:VCALENDAR
VERSION:2.0
PRODID:-//Fun in Farmington - ECPv6.15.20//NONSGML v1.0//EN
CALSCALE:GREGORIAN
METHOD:PUBLISH
X-ORIGINAL-URL:https://funinfarmington.com
X-WR-CALDESC:Events for Fun in Farmington
REFRESH-INTERVAL;VALUE=DURATION:PT1H
X-Robots-Tag:noindex
X-PUBLISHED-TTL:PT1H
BEGIN:VTIMEZONE
TZID:UTC
BEGIN:STANDARD
TZOFFSETFROM:+0000
TZOFFSETTO:+0000
TZNAME:UTC
DTSTART:20250101T000000
END:STANDARD
END:VTIMEZONE
BEGIN:VEVENT
DTSTART;TZID=UTC:20260213T183000
DTEND;TZID=UTC:20260213T210000
DTSTAMP:20260424T015630
CREATED:20260212T032022Z
LAST-MODIFIED:20260212T032022Z
UID:10019529-1771007400-1771016400@funinfarmington.com
SUMMARY:Galentine's Day Workshop at Fire and Fused
DESCRIPTION:Grab your gal pals and join us for a fun night of Glass Fusing. We will provide chocolates and sweets – you bring in your favorite beverage and your creativity! Make it a night on the town and go out to one of our downtown restaurants afterwards to get a bite to eat. \n  \nIf you have never created a fused glass project we will introduce you to glass fusing and cutting techniques. You will learn how to cut and nip colorful pieces of glass that you will stack on a base piece of glass to create your unique design. \nCome with a design idea in mind or get inspiration from one of our many samples. \nIn this workshop you can choose your own project – you do not have to decide until the workshop. \nYour choices are: \n4”x5” Sun Catcher = $35\n4”x4” Dish\, Bowl\, Votive = $35\nChandelier Dangle = $35 (2 for $60)*\n3” Nightlight = $35\n4” Nightlight = $42\n3”x5” Nightlight = $42\n3”x5” Tea Light Holder = $42\n4”x8” Dish = $50\n6” Dish\, Bowl\, Votive = $50\n8” Dish\, Bowl\, Votive = $70\n4”x12” Tray\, Wave\, Stand up = $70\n8”x12” Charcuterie Board = $95\n8”x12” Dish = $105\n11”x11” Dish\, Bowl\, Vase = $120\n*made by same person\, in same day \nPieces need to be fired and slumped in a kiln and will be ready for pick-up within two weeks after the workshop. \nNo experience necessary. All tools and material will be provided. \nClosed toe shoes recommended. \nWe welcome beverages\, preferably with lids but food and glass don’t mix!\n😃
URL:https://funinfarmington.com/event/galentines-day-workshop-at-fire-and-fused/
LOCATION:Fired and Fused\, 32326 Grand River Ave\, Farmington\, Michigan\, 48336
CATEGORIES:Art,Special Event,Women
END:VEVENT
BEGIN:VEVENT
DTSTART;TZID=UTC:20260214T140000
DTEND;TZID=UTC:20260214T160000
DTSTAMP:20260424T015630
CREATED:20260111T224430Z
LAST-MODIFIED:20260111T224430Z
UID:10019122-1771077600-1771084800@funinfarmington.com
SUMMARY:Valentine Ice Skate at Riley Park
DESCRIPTION:This event will take place at Riley Ice Skate Rink at 33113 Grand River Ave\, Farmington\, MI 48335. \nNo registration is required. \nLet’s share a little Farmington Love today! We’ll skate together and make valentines to share. \nBring your ice skates. No skates? No problem — skates are available to borrow. Sizes may vary.
URL:https://funinfarmington.com/event/valentine-ice-skate-at-riley-park/
LOCATION:Riley Park\, 33113 Grand River Ave\, Farmington\, Michigan\, 48335
CATEGORIES:Community,Hobbies,Kids & Families,Special Event
END:VEVENT
BEGIN:VEVENT
DTSTART;TZID=UTC:20260214T150000
DTEND;TZID=UTC:20260214T190000
DTSTAMP:20260424T015630
CREATED:20260121T152419Z
LAST-MODIFIED:20260121T152419Z
UID:10019380-1771081200-1771095600@funinfarmington.com
SUMMARY:San Valentino 2026 at Cafe Cortina
DESCRIPTION:RESERVATION NEEDED \nCelebrate Valentine’s Day with a special four-course prix-fixe dinner\, featuring thoughtfully curated selections for the evening. $145 per person\, plus tax and gratuity. Optional wine pairings will be available to compliment each course\, along with our full wine list and beverage menu. For menu details or additional information\, please visit cafecortina.com or call us with any questions. We look forward to welcoming you for a memorable Valentine’s Day celebration
URL:https://funinfarmington.com/event/san-valentino-2026-at-cafe-cortina/
LOCATION:Cafe Cortina\, 30715 W 10 Mile Rd\, Farmington Hills\, MI\, 48336\, United States
CATEGORIES:Food,Special Event
END:VEVENT
BEGIN:VEVENT
DTSTART;TZID=UTC:20260214T193000
DTEND;TZID=UTC:20260214T203000
DTSTAMP:20260424T015630
CREATED:20260120T221257Z
LAST-MODIFIED:20260120T221257Z
UID:10019374-1771097400-1771101000@funinfarmington.com
SUMMARY:Sweetheart Stroll at Heritage Park
DESCRIPTION:Celebrate Valentine’s Day with a candle-lit hike through the trails of Heritage Park. We’ll start the evening by warming up around a campfire with gourmet s’mores. Then\, share your love of nature as we discover the courtship and mating behaviors of native animals along a short & fun candle-lit stroll. Please dress for the weather and wear sturdy boots.\n\n\nAdults 18+ ONLY. Dress for the winter weather
URL:https://funinfarmington.com/event/sweetheart-stroll-at-heritage-park/
LOCATION:Heritage Park\, 24915 Farmington Rd\, Farmington Hills\, MI\, 48336\, United States
CATEGORIES:Holiday,NAture,Special Event
END:VEVENT
BEGIN:VEVENT
DTSTART;TZID=UTC:20260214T210000
DTEND;TZID=UTC:20260214T210000
DTSTAMP:20260424T015630
CREATED:20260212T030652Z
LAST-MODIFIED:20260212T030847Z
UID:10019526-1771102800-1771102800@funinfarmington.com
SUMMARY:Valentine's Day Celebration at Scores
DESCRIPTION:❤️ 𝐕𝐀𝐋𝐄𝐍𝐓𝐈𝐍𝐄’𝐒 𝐃𝐀𝐘 𝐀𝐓 𝐒𝐂𝐎𝐑𝐄𝐒 ❤️ \n📅 𝐅𝐞𝐛 𝟏𝟒 | 𝐒𝐚𝐭\n⏰ 𝟗 𝐏𝐌 𝐨𝐧𝐰𝐚𝐫𝐝𝐬\n🎧 𝐷𝐽 𝑁𝑖𝑔ℎ𝑡 • 💃 𝑂𝑝𝑒𝑛 𝐷𝑎𝑛𝑐𝑒 𝐹𝑙𝑜𝑜𝑟\n🎯 𝐺𝑎𝑚𝑒𝑠 & 𝑃𝑟𝑖𝑧𝑒𝑠 • 🎁 𝐹𝑟𝑒𝑒 𝐺𝑖𝑓𝑡𝑠\n🍸 𝑉𝑎𝑙𝑒𝑛𝑡𝑖𝑛𝑒’𝑠 𝐶𝑜𝑐𝑘𝑡𝑎𝑖𝑙 𝑀𝑒𝑛𝑢\n👗 𝐷𝑟𝑒𝑠𝑠 𝑡𝑜 𝐼𝑚𝑝𝑟𝑒𝑠𝑠 \n📍 𝑆𝑐𝑜𝑟𝑒𝑠 𝑆𝑝𝑜𝑟𝑡𝑠 𝐵𝑎𝑟 & 𝐺𝑟𝑖𝑙𝑙\n24365 𝐻𝑎𝑙𝑠𝑡𝑒𝑑 𝑅𝑑\, 𝐹𝑎𝑟𝑚𝑖𝑛𝑔𝑡𝑜𝑛 𝐻𝑖𝑙𝑙𝑠\, 𝑀𝐼\n📞 (248) 477-0123 \n🔥 𝐿𝑜𝑣𝑒 • 𝑀𝑢𝑠𝑖𝑐 • 𝐶𝑜𝑐𝑘𝑡𝑎𝑖𝑙𝑠 • 𝑉𝑖𝑏𝑒𝑠\n𝑀𝑎𝑘𝑒 𝑡ℎ𝑖𝑠 𝑉𝑎𝑙𝑒𝑛𝑡𝑖𝑛𝑒’𝑠 𝐷𝑎𝑦 𝑢𝑛𝑓𝑜𝑟𝑔𝑒𝑡𝑡𝑎𝑏𝑙𝑒. 💕
URL:https://funinfarmington.com/event/valentines-day-celebration-at-scores/
LOCATION:Scores Sports Bar & Grill\, 24365 Halsted Rd\, Farmington Hills\, Michigan\, 48335
CATEGORIES:Holiday,Special Event
ATTACH;FMTTYPE=image/png:https://funinfarmington.com/wp-content/uploads/2026/02/Scores.png
END:VEVENT
BEGIN:VEVENT
DTSTART;TZID=UTC:20260216T183000
DTEND;TZID=UTC:20260216T183000
DTSTAMP:20260424T015630
CREATED:20260215T210113Z
LAST-MODIFIED:20260215T210113Z
UID:10019552-1771266600-1771266600@funinfarmington.com
SUMMARY:Mardi Gras Feast at FBC (RSVP)
DESCRIPTION:A Taste of New Orleans – FBC Mardi Gras Feast with Olive Thyme Catering and Kitchen Sink Farms – $79/ticket\n-price includes 5 coursed menu items with 4 oz. beer pairing per course\, one additional pint of your choice and a 20% gratuity for staff. Doors open at 6:30pm – Dinner Service starts at 7pm. Tickets in Downtown Farmington Hills at Farmington Brewing Company Available Here www.olive-thyme.com\n\n\n\nCourse 1:\nBacon Wrapped Shrimp and Grits with Garlic Sauteed Spinach and Roasted Tomatoes and Mini Muffuletta on Sliced Baguette\n\n\nCourse 2: Zydeco Salad\nRomaine and Arugula with Fresh CARA CARA Oranges\, Roasted Heirloom Beets\, Candied Pecans\, Figs\, Pickled Onion\, Sheep’s Milk Feta\, and Honey Ginger Vinaigrette\n\n\nCourse 3: Jambalaya\nChicken\, Sausage\, and Seafood Jambalaya served with Sweet Cornbread\, Local Honey Butter\, and House Made Hot Pepper Jam\n\n\nCourse 4: Duck Confit\nClassic Duck Leg Confit served on a Bed of Pommes Puree – A French Style Ultra-Creamy Mashed Potato\, Roasted Vegetable Mélange\, and Creole Tomato Gratin\n\n\nCourse 5:\nBar Top Bananas Foster and Peach Flambe with House Made Cheesecake\, Vanilla Bean Whipped Cream\, and Chocolate Pecan Tarts
URL:https://funinfarmington.com/event/mardi-gras-feast-at-fbc-rsvp/
LOCATION:Farmington Brewing Company\, 33336 Grand River Ave\, Farmington\, Michigan\, 48336
CATEGORIES:Food,Holiday,Special Event
END:VEVENT
BEGIN:VEVENT
DTSTART;TZID=UTC:20260217T190000
DTEND;TZID=UTC:20260217T210000
DTSTAMP:20260424T015630
CREATED:20260108T135740Z
LAST-MODIFIED:20260108T135740Z
UID:10018672-1771354800-1771362000@funinfarmington.com
SUMMARY:Tuesday with Lee
DESCRIPTION:Join Us Every Tuesday to taste 3 wines with Lee Hershey. \nSmall Cheese plate & Cheetos included \n$25/person\nCall to reserve your spot\n248-536-2107 (store)\n248-798-4713 (Yolla)
URL:https://funinfarmington.com/event/tuesday-with-lee/2026-02-17/
LOCATION:Perfect Pairing Market\, 38215 W. 10 Mile Rd.\, Farmington Hills\, Michigan\, 48335
CATEGORIES:Special Event
ATTACH;FMTTYPE=image/png:https://funinfarmington.com/wp-content/uploads/2026/01/Tuesday-with-Lee.png
END:VEVENT
BEGIN:VEVENT
DTSTART;TZID=UTC:20260219T133000
DTEND;TZID=UTC:20260219T163000
DTSTAMP:20260424T015630
CREATED:20260218T182832Z
LAST-MODIFIED:20260218T182832Z
UID:10019567-1771507800-1771518600@funinfarmington.com
SUMMARY:Arab American Heritage Fest at Library (FH)
DESCRIPTION:Celebrate our Arab American communities with live performances\, hands-on activities\, and delicious food!
URL:https://funinfarmington.com/event/arab-american-heritage-fest-at-library-fh/
LOCATION:Farmington Community Library – Farmington Hills Location\, 32737 W. 12 Mile Rd.\, Farmington Hills\, Michigan\, 48334
CATEGORIES:Kids & Families,Special Event
END:VEVENT
BEGIN:VEVENT
DTSTART;TZID=UTC:20260224T190000
DTEND;TZID=UTC:20260224T210000
DTSTAMP:20260424T015630
CREATED:20260108T135740Z
LAST-MODIFIED:20260108T135740Z
UID:10018673-1771959600-1771966800@funinfarmington.com
SUMMARY:Tuesday with Lee
DESCRIPTION:Join Us Every Tuesday to taste 3 wines with Lee Hershey. \nSmall Cheese plate & Cheetos included \n$25/person\nCall to reserve your spot\n248-536-2107 (store)\n248-798-4713 (Yolla)
URL:https://funinfarmington.com/event/tuesday-with-lee/2026-02-24/
LOCATION:Perfect Pairing Market\, 38215 W. 10 Mile Rd.\, Farmington Hills\, Michigan\, 48335
CATEGORIES:Special Event
ATTACH;FMTTYPE=image/png:https://funinfarmington.com/wp-content/uploads/2026/01/Tuesday-with-Lee.png
END:VEVENT
BEGIN:VEVENT
DTSTART;TZID=UTC:20260225T183000
DTEND;TZID=UTC:20260225T200000
DTSTAMP:20260424T015630
CREATED:20260121T145422Z
LAST-MODIFIED:20260121T145422Z
UID:10019376-1772044200-1772049600@funinfarmington.com
SUMMARY:Wine Down and Write Workshop at Sante
DESCRIPTION:Come ready to write\, wine down and have a good time during this creative writing workshop at Santé Wine Tasting Room. Nothing pairs better with wine than some creative writing and fun times. \n  \n\n\n\nJoin us at Santé in Farmington for an interactive creative writing workshop themed all around wine! \nDetroit Writing Room founder Stephanie Steinberg will guide you with writing prompts that explore writing with the five senses as you smell\, taste — and yes — touch your wine. We’ll practice writing from different perspectives. You’ll put your imagination to work and pretend you’re the wine bottle on your shelf. What would that bottle say about you or your household? We’ll also pour into some of our favorite memories surrounding a good glass of wine. \nEach ticket includes a flight of three 2.5-ounce pours. Guests can choose from 32 wines. \nPlease bring your favorite notebook or writing materials. We’ll supply the purple pens!
URL:https://funinfarmington.com/event/wine-down-and-write-workshop-at-sante/
LOCATION:Santé\, 33314 Grand Rive Ave\, Farmington\, MI\, 48336\, United States
CATEGORIES:Art,Poetry,Reading,Special Event,Wine,Writing
ATTACH;FMTTYPE=image/avif:https://funinfarmington.com/wp-content/uploads/2026/01/winedown.avif
END:VEVENT
BEGIN:VEVENT
DTSTART;TZID=UTC:20260226T180000
DTEND;TZID=UTC:20260226T210000
DTSTAMP:20260424T015630
CREATED:20260215T194439Z
LAST-MODIFIED:20260215T194439Z
UID:10019546-1772128800-1772139600@funinfarmington.com
SUMMARY:Black History Month Paint & Celebrate Trivia Night at Kola
DESCRIPTION:Join CHAMPAINT and the KOLA Foundation for a Black History Month Paint & Celebrate Trivia Night \n\n\n\n\nJoin CHAMPAINT and the KOLA Foundation for a Black History Month Paint & Celebrate Trivia Night\, an elevated evening of art\, culture\, and community in an intimate lounge setting. \nThis guided paint-and-sip experience will be led by SuVon and Siana Treece of CHAMPAINT\, who will walk guests step-by-step through a custom Black History–themed painting. Throughout the evening\, guests will also participate in interactive Black History Trivia led by Cassie Williams\, Executive Director of K-12 Literacy (Detroit Public Schools) and member of Delta Sigma Theta Sorority\, Inc. \nThe event blends creativity\, education\, and entertainment\, featuring live music\, food\, and an art showcase by Artistic Expressions Gallery\, highlighting original works throughout the space. \nA portion of the proceeds will benefit the KOLA Foundation\, supporting its cultural and community initiatives. \nYour all-inclusive ticket includes: \n\nGuided painting experience led by SuVon & Siana Treece of CHAMPAINT\nBlack History Trivia hosted by Cassie Williams\nAll painting supplies\nChampagne toast\nLive DJ\nCurated food\nArt showcase by Artistic Expressions Gallery
URL:https://funinfarmington.com/event/black-history-month-paint-celebrate-trivia-night-at-kola/
LOCATION:Kola Restaurant & Ultra Lounge\, 32523 Northwestern Hwy\, Farmington Hills\, Michigan\, 48334
CATEGORIES:Art,Community,Food,Special Event
ATTACH;FMTTYPE=image/png:https://funinfarmington.com/wp-content/uploads/2026/02/kola.png
END:VEVENT
BEGIN:VEVENT
DTSTART;TZID=UTC:20260226T183000
DTEND;TZID=UTC:20260226T183000
DTSTAMP:20260424T015630
CREATED:20260226T124809Z
LAST-MODIFIED:20260226T124809Z
UID:10019886-1772130600-1772130600@funinfarmington.com
SUMMARY:Gorillaz Listening Event at Dearborn Music
DESCRIPTION:Join us at both of our locations on Thursday\, February 26th at 6:30pm for an exclusive first listen of the new Gorillaz album “The Mountain”. During the event you’ll be able to pre-order an exclusive white label variant of the album so don’t miss out!
URL:https://funinfarmington.com/event/gorillaz-listening-event-at-dearborn-music/
LOCATION:Dearborn Music\, 33025 Grand River Ave\, Farmington\, MI\, 48336\, United States
CATEGORIES:Community,Music,Special Event
ATTACH;FMTTYPE=image/png:https://funinfarmington.com/wp-content/uploads/2026/02/Gorillaz.png
END:VEVENT
BEGIN:VEVENT
DTSTART;TZID=UTC:20260227T183000
DTEND;TZID=UTC:20260227T210000
DTSTAMP:20260424T015630
CREATED:20260225T033409Z
LAST-MODIFIED:20260225T033409Z
UID:10019876-1772217000-1772226000@funinfarmington.com
SUMMARY:Douro Valley Wine Tasting
DESCRIPTION:“Sip the Soul of Portugal in the Douro Valley.” \nJoin Us to taste wines from one of the oldest and most spectacular wine regions in the world. \nWe will be tasting 5 wines with Matthew Bricker\nfrom Veritas Distributors\, Inc \nCharcuterie Table Available
URL:https://funinfarmington.com/event/douro-valley-wine-tasting/
LOCATION:Perfect Pairing Market\, 38215 W. 10 Mile Rd.\, Farmington Hills\, Michigan\, 48335
CATEGORIES:Special Event
ATTACH;FMTTYPE=image/png:https://funinfarmington.com/wp-content/uploads/2026/02/Douro-Valley-Wine-Tasting-1.png
ORGANIZER;CN="Perfect Pairing Market":MAILTO:yollaawad@perfectpairingmarket.com
END:VEVENT
BEGIN:VEVENT
DTSTART;TZID=UTC:20260227T193000
DTEND;TZID=UTC:20260227T213000
DTSTAMP:20260424T015630
CREATED:20260228T192001Z
LAST-MODIFIED:20260228T192001Z
UID:10019888-1772220600-1772227800@funinfarmington.com
SUMMARY:Adult Flashlight Egg Hunt at FH Golf Course
DESCRIPTION:We begin our night with dinner\, games and prizes. There will be a cash bar for alcoholic beverage purchases. The egg hunt begins once it gets dark! Bring a flashlight or download the flashlight app on your phone. Eggs will be hidden with multiple difficulty levels. Find all your eggs to beat the master egg hider and win a prize.
URL:https://funinfarmington.com/event/adult-flashlight-egg-hunt-at-fh-golf-course/
LOCATION:Farmington Hills Golf Course\, 37777 11 Mile Ct\, Farmington Hills\, Michigan\, 48335
CATEGORIES:Adults,Holiday,NAture,Special Event
END:VEVENT
BEGIN:VEVENT
DTSTART;TZID=UTC:20260303T190000
DTEND;TZID=UTC:20260303T210000
DTSTAMP:20260424T015630
CREATED:20260108T135740Z
LAST-MODIFIED:20260108T135740Z
UID:10018674-1772564400-1772571600@funinfarmington.com
SUMMARY:Tuesday with Lee
DESCRIPTION:Join Us Every Tuesday to taste 3 wines with Lee Hershey. \nSmall Cheese plate & Cheetos included \n$25/person\nCall to reserve your spot\n248-536-2107 (store)\n248-798-4713 (Yolla)
URL:https://funinfarmington.com/event/tuesday-with-lee/2026-03-03/
LOCATION:Perfect Pairing Market\, 38215 W. 10 Mile Rd.\, Farmington Hills\, Michigan\, 48335
CATEGORIES:Special Event
ATTACH;FMTTYPE=image/png:https://funinfarmington.com/wp-content/uploads/2026/01/Tuesday-with-Lee.png
END:VEVENT
BEGIN:VEVENT
DTSTART;TZID=UTC:20260307T110000
DTEND;TZID=UTC:20260307T130000
DTSTAMP:20260424T015630
CREATED:20260305T015324Z
LAST-MODIFIED:20260305T015324Z
UID:10019956-1772881200-1772888400@funinfarmington.com
SUMMARY:SING free showing at Farmington Civic
DESCRIPTION:SING is presented FREE by the Farmington Community Library. An optimistic koala tries to save his struggling theater with a singing contest that attracts animal talent of all shapes\, sizes and species. \nThe feature will be preceded by a kid-friendly short film!
URL:https://funinfarmington.com/event/sing-free-showing-at-farmington-civic/
LOCATION:Farmington Civic Theater\, 33332 Grand River Ave\, Farmington\, Michigan\, 48336
CATEGORIES:Community,Kids & Families,Moms,Movies,Special Event
ATTACH;FMTTYPE=image/png:https://funinfarmington.com/wp-content/uploads/2026/03/sing.png
END:VEVENT
BEGIN:VEVENT
DTSTART;TZID=UTC:20260310T170000
DTEND;TZID=UTC:20260310T170000
DTSTAMP:20260424T015630
CREATED:20260305T122021Z
LAST-MODIFIED:20260305T122021Z
UID:10019968-1773162000-1773162000@funinfarmington.com
SUMMARY:City of Farmington Hills Hiring Event at The Hawk
DESCRIPTION:The City of Farmington Hills is looking for nearly 200 new employees for seasonal opportunities in the City’s Special Services Department and Public Services Department for spring and summer 2026. Jobseekers are invited to learn more and interview for available positions at two hiring events at The Hawk on Tuesday\, March 10 and Monday\, March 16. The events will start promptly at 5 p.m. \nPositions are open to jobseekers looking for part-time or full-time seasonal work\, including youth and professionals\, high school students\, college students returning home for the summer\, retirees and more\, with pay up to $25 per hour and weekly pay up to $1\,000.
URL:https://funinfarmington.com/event/city-of-farmington-hills-hiring-event-at-the-hawk/
LOCATION:The Hawk Community Center\, 29995 W 12 Mile Rd\, Farmington Hills\, Michigan\, 48334
CATEGORIES:Community,Networking,Special Event
END:VEVENT
BEGIN:VEVENT
DTSTART;TZID=UTC:20260310T190000
DTEND;TZID=UTC:20260310T210000
DTSTAMP:20260424T015630
CREATED:20260108T135740Z
LAST-MODIFIED:20260108T135740Z
UID:10018675-1773169200-1773176400@funinfarmington.com
SUMMARY:Tuesday with Lee
DESCRIPTION:Join Us Every Tuesday to taste 3 wines with Lee Hershey. \nSmall Cheese plate & Cheetos included \n$25/person\nCall to reserve your spot\n248-536-2107 (store)\n248-798-4713 (Yolla)
URL:https://funinfarmington.com/event/tuesday-with-lee/2026-03-10/
LOCATION:Perfect Pairing Market\, 38215 W. 10 Mile Rd.\, Farmington Hills\, Michigan\, 48335
CATEGORIES:Special Event
ATTACH;FMTTYPE=image/png:https://funinfarmington.com/wp-content/uploads/2026/01/Tuesday-with-Lee.png
END:VEVENT
BEGIN:VEVENT
DTSTART;TZID=UTC:20260313T210000
DTEND;TZID=UTC:20260313T210000
DTSTAMP:20260424T015630
CREATED:20260225T033332Z
LAST-MODIFIED:20260225T033332Z
UID:10019877-1773435600-1773435600@funinfarmington.com
SUMMARY:Italian Wine Tasting
DESCRIPTION:Embrace La Dolce Vita\nWith the Finest Italian Wines. \nItalian wine is one of the most diverse and historically rich wine traditions in the world\, produced across every region of Italy with a wide variety of indigenous grape varieties. \nJoin Us to taste 5 wines from different wine regions\nof Italy with Colette Comeau\,\nCertified Sommelier from AHD Vintners\nCharcuterie Table Available
URL:https://funinfarmington.com/event/italian-wine-tasting/
LOCATION:Perfect Pairing Market\, 38215 W. 10 Mile Rd.\, Farmington Hills\, Michigan\, 48335
CATEGORIES:Special Event
ATTACH;FMTTYPE=image/png:https://funinfarmington.com/wp-content/uploads/2026/02/Italy-wine-tasting-.png
ORGANIZER;CN="Perfect Pairing Market":MAILTO:yollaawad@perfectpairingmarket.com
END:VEVENT
BEGIN:VEVENT
DTSTART;TZID=UTC:20260314T100000
DTEND;TZID=UTC:20260314T143000
DTSTAMP:20260424T015630
CREATED:20260228T192437Z
LAST-MODIFIED:20260228T192437Z
UID:10019891-1773482400-1773498600@funinfarmington.com
SUMMARY:Princess Tea Party at Longacre House (RSVP)
DESCRIPTION:You and your child can dress up like your favorite princess and join us for a fancy tea party at the Longacre House! Activities will include a princess craft to take home\, as well as a dance party and photo opportunities with a REAL PRINCESSES! The event will conclude with tea and cookies. All family members welcome! REGISTRATION REQUIRED FOR BOTH ADULTS AND CHILDREN.
URL:https://funinfarmington.com/event/princess-tea-party-at-longacre-house-rsvp/2026-03-14/
LOCATION:Longacre House\, 24705 Farmington Rd\, Farmington Hills\, Michigan\, 48336
CATEGORIES:Crafting,Dance,Kids & Families,Special Event
END:VEVENT
BEGIN:VEVENT
DTSTART;TZID=UTC:20260314T110000
DTEND;TZID=UTC:20260314T150000
DTSTAMP:20260424T015630
CREATED:20260312T133157Z
LAST-MODIFIED:20260312T133157Z
UID:10019990-1773486000-1773500400@funinfarmington.com
SUMMARY:Jax Kar Wash Grand Opening Party
DESCRIPTION:3 Chances to win a YEAR unlimited club membership! Live DJ\, free washes and free food!
URL:https://funinfarmington.com/event/jax-kar-wash-grand-opening-party/
LOCATION:Jax Car Wash Farmington\, 31500 Grand River Ave\, Farmington\, MI\, 48336\, United States
CATEGORIES:Community,Food,Special Event
END:VEVENT
BEGIN:VEVENT
DTSTART;TZID=UTC:20260315T100000
DTEND;TZID=UTC:20260315T143000
DTSTAMP:20260424T015630
CREATED:20260228T192437Z
LAST-MODIFIED:20260228T192437Z
UID:10019892-1773568800-1773585000@funinfarmington.com
SUMMARY:Princess Tea Party at Longacre House (RSVP)
DESCRIPTION:You and your child can dress up like your favorite princess and join us for a fancy tea party at the Longacre House! Activities will include a princess craft to take home\, as well as a dance party and photo opportunities with a REAL PRINCESSES! The event will conclude with tea and cookies. All family members welcome! REGISTRATION REQUIRED FOR BOTH ADULTS AND CHILDREN.
URL:https://funinfarmington.com/event/princess-tea-party-at-longacre-house-rsvp/2026-03-15/
LOCATION:Longacre House\, 24705 Farmington Rd\, Farmington Hills\, Michigan\, 48336
CATEGORIES:Crafting,Dance,Kids & Families,Special Event
END:VEVENT
BEGIN:VEVENT
DTSTART;TZID=UTC:20260317T190000
DTEND;TZID=UTC:20260317T210000
DTSTAMP:20260424T015630
CREATED:20260108T135740Z
LAST-MODIFIED:20260108T135740Z
UID:10018676-1773774000-1773781200@funinfarmington.com
SUMMARY:Tuesday with Lee
DESCRIPTION:Join Us Every Tuesday to taste 3 wines with Lee Hershey. \nSmall Cheese plate & Cheetos included \n$25/person\nCall to reserve your spot\n248-536-2107 (store)\n248-798-4713 (Yolla)
URL:https://funinfarmington.com/event/tuesday-with-lee/2026-03-17/
LOCATION:Perfect Pairing Market\, 38215 W. 10 Mile Rd.\, Farmington Hills\, Michigan\, 48335
CATEGORIES:Special Event
ATTACH;FMTTYPE=image/png:https://funinfarmington.com/wp-content/uploads/2026/01/Tuesday-with-Lee.png
END:VEVENT
BEGIN:VEVENT
DTSTART;TZID=UTC:20260324T190000
DTEND;TZID=UTC:20260324T210000
DTSTAMP:20260424T015630
CREATED:20260108T135740Z
LAST-MODIFIED:20260108T135740Z
UID:10018677-1774378800-1774386000@funinfarmington.com
SUMMARY:Tuesday with Lee
DESCRIPTION:Join Us Every Tuesday to taste 3 wines with Lee Hershey. \nSmall Cheese plate & Cheetos included \n$25/person\nCall to reserve your spot\n248-536-2107 (store)\n248-798-4713 (Yolla)
URL:https://funinfarmington.com/event/tuesday-with-lee/2026-03-24/
LOCATION:Perfect Pairing Market\, 38215 W. 10 Mile Rd.\, Farmington Hills\, Michigan\, 48335
CATEGORIES:Special Event
ATTACH;FMTTYPE=image/png:https://funinfarmington.com/wp-content/uploads/2026/01/Tuesday-with-Lee.png
END:VEVENT
BEGIN:VEVENT
DTSTART;TZID=UTC:20260329T100000
DTEND;TZID=UTC:20260329T133000
DTSTAMP:20260424T015630
CREATED:20260120T140322Z
LAST-MODIFIED:20260120T140322Z
UID:10019369-1774778400-1774791000@funinfarmington.com
SUMMARY:Egg Hunt Extravaganza at The Hawk
DESCRIPTION:Hop on down the bunny trail to search for your eggs\, stop at treat stations along the way to collect fun prizes. Take your photo with the Bunny and even paint an egg! Event will run rain or shine\, dress for the weather! Registration is required for children only. \n 
URL:https://funinfarmington.com/event/egg-hunt-extravaganza-at-the-hawk/
LOCATION:The Hawk Community Center\, 29995 W 12 Mile Rd\, Farmington Hills\, Michigan\, 48334
CATEGORIES:Festival,Kids & Families,NAture,Special Event,Teens
ATTACH;FMTTYPE=image/jpeg:https://funinfarmington.com/wp-content/uploads/2026/01/egg-hunt.jpg
END:VEVENT
BEGIN:VEVENT
DTSTART;TZID=UTC:20260331T140000
DTEND;TZID=UTC:20260331T160000
DTSTAMP:20260424T015630
CREATED:20260218T183607Z
LAST-MODIFIED:20260218T183607Z
UID:10019569-1774965600-1774972800@funinfarmington.com
SUMMARY:El Dia de los ninos Celebration at Library (Farmington)
DESCRIPTION:El Día de los niños (Children’s Day) or simply “Día” is an annual celebration of children\, families\, and reading that originated in Mexico. Celebrate our community with stories\, dancers from Ballet Folklorico Mexico Lindo\, piñatas\, crafts\, and more! \nSponsored by the Farmington Friends of the Library.
URL:https://funinfarmington.com/event/el-dia-de-los-ninos-celebration-at-library-farmington/
LOCATION:Farmington Community Library – Farmington Location\, 23500 Liberty St.\, Farmington\, Michigan\, 48335
CATEGORIES:Kids & Families,Special Event
END:VEVENT
BEGIN:VEVENT
DTSTART;TZID=UTC:20260331T190000
DTEND;TZID=UTC:20260331T210000
DTSTAMP:20260424T015630
CREATED:20260108T135740Z
LAST-MODIFIED:20260108T135740Z
UID:10018678-1774983600-1774990800@funinfarmington.com
SUMMARY:Tuesday with Lee
DESCRIPTION:Join Us Every Tuesday to taste 3 wines with Lee Hershey. \nSmall Cheese plate & Cheetos included \n$25/person\nCall to reserve your spot\n248-536-2107 (store)\n248-798-4713 (Yolla)
URL:https://funinfarmington.com/event/tuesday-with-lee/2026-03-31/
LOCATION:Perfect Pairing Market\, 38215 W. 10 Mile Rd.\, Farmington Hills\, Michigan\, 48335
CATEGORIES:Special Event
ATTACH;FMTTYPE=image/png:https://funinfarmington.com/wp-content/uploads/2026/01/Tuesday-with-Lee.png
END:VEVENT
BEGIN:VEVENT
DTSTART;TZID=UTC:20260407T190000
DTEND;TZID=UTC:20260407T210000
DTSTAMP:20260424T015630
CREATED:20260108T135740Z
LAST-MODIFIED:20260108T135740Z
UID:10018679-1775588400-1775595600@funinfarmington.com
SUMMARY:Tuesday with Lee
DESCRIPTION:Join Us Every Tuesday to taste 3 wines with Lee Hershey. \nSmall Cheese plate & Cheetos included \n$25/person\nCall to reserve your spot\n248-536-2107 (store)\n248-798-4713 (Yolla)
URL:https://funinfarmington.com/event/tuesday-with-lee/2026-04-07/
LOCATION:Perfect Pairing Market\, 38215 W. 10 Mile Rd.\, Farmington Hills\, Michigan\, 48335
CATEGORIES:Special Event
ATTACH;FMTTYPE=image/png:https://funinfarmington.com/wp-content/uploads/2026/01/Tuesday-with-Lee.png
END:VEVENT
BEGIN:VEVENT
DTSTART;TZID=UTC:20260414T190000
DTEND;TZID=UTC:20260414T210000
DTSTAMP:20260424T015630
CREATED:20260108T135740Z
LAST-MODIFIED:20260108T135740Z
UID:10018680-1776193200-1776200400@funinfarmington.com
SUMMARY:Tuesday with Lee
DESCRIPTION:Join Us Every Tuesday to taste 3 wines with Lee Hershey. \nSmall Cheese plate & Cheetos included \n$25/person\nCall to reserve your spot\n248-536-2107 (store)\n248-798-4713 (Yolla)
URL:https://funinfarmington.com/event/tuesday-with-lee/2026-04-14/
LOCATION:Perfect Pairing Market\, 38215 W. 10 Mile Rd.\, Farmington Hills\, Michigan\, 48335
CATEGORIES:Special Event
ATTACH;FMTTYPE=image/png:https://funinfarmington.com/wp-content/uploads/2026/01/Tuesday-with-Lee.png
END:VEVENT
BEGIN:VEVENT
DTSTART;TZID=UTC:20260416T190000
DTEND;TZID=UTC:20260416T190000
DTSTAMP:20260424T015630
CREATED:20260415T141448Z
LAST-MODIFIED:20260415T141448Z
UID:10020502-1776366000-1776366000@funinfarmington.com
SUMMARY:Farmington High Theatre presents The Little Mermaid
DESCRIPTION:Farmington High Theatre students are bringing the magic of Disney’s The Little Mermaid to life! Join Ariel and friends for an unforgettable underwater adventure with beloved songs like “Under the Sea\,” “Kiss the Girl” and “Part of Your World”. \nKids 12 and under will be entered into a special drawing\, and wearing a Little Mermaid character costume earns an extra entry. \nAll tickets are general seating and will be available at the door during each performance or at FHS during lunches.
URL:https://funinfarmington.com/event/farmington-high-theatre-presents-the-little-mermaid/2026-04-16/
LOCATION:Farmington High School\, 32000 Shiawassee St.\, Farmington\, MI\, 48336
CATEGORIES:Adults,Community,Kids & Families,Moms,Older Adults,Parents,Seniors,Shows,Special Event,Teens,Theater
ATTACH;FMTTYPE=image/png:https://funinfarmington.com/wp-content/uploads/2026/04/little-mermaid.png
END:VEVENT
END:VCALENDAR