BEGIN:VCALENDAR
VERSION:2.0
PRODID:-//Fun in Farmington - ECPv6.15.20//NONSGML v1.0//EN
CALSCALE:GREGORIAN
METHOD:PUBLISH
X-ORIGINAL-URL:https://funinfarmington.com
X-WR-CALDESC:Events for Fun in Farmington
REFRESH-INTERVAL;VALUE=DURATION:PT1H
X-Robots-Tag:noindex
X-PUBLISHED-TTL:PT1H
BEGIN:VTIMEZONE
TZID:UTC
BEGIN:STANDARD
TZOFFSETFROM:+0000
TZOFFSETTO:+0000
TZNAME:UTC
DTSTART:20250101T000000
END:STANDARD
END:VTIMEZONE
BEGIN:VEVENT
DTSTART;TZID=UTC:20260314T110000
DTEND;TZID=UTC:20260314T150000
DTSTAMP:20260424T035743
CREATED:20260312T133157Z
LAST-MODIFIED:20260312T133157Z
UID:10019990-1773486000-1773500400@funinfarmington.com
SUMMARY:Jax Kar Wash Grand Opening Party
DESCRIPTION:3 Chances to win a YEAR unlimited club membership! Live DJ\, free washes and free food!
URL:https://funinfarmington.com/event/jax-kar-wash-grand-opening-party/
LOCATION:Jax Car Wash Farmington\, 31500 Grand River Ave\, Farmington\, MI\, 48336\, United States
CATEGORIES:Community,Food,Special Event
END:VEVENT
BEGIN:VEVENT
DTSTART;TZID=UTC:20260315T100000
DTEND;TZID=UTC:20260315T143000
DTSTAMP:20260424T035743
CREATED:20260228T192437Z
LAST-MODIFIED:20260228T192437Z
UID:10019892-1773568800-1773585000@funinfarmington.com
SUMMARY:Princess Tea Party at Longacre House (RSVP)
DESCRIPTION:You and your child can dress up like your favorite princess and join us for a fancy tea party at the Longacre House! Activities will include a princess craft to take home\, as well as a dance party and photo opportunities with a REAL PRINCESSES! The event will conclude with tea and cookies. All family members welcome! REGISTRATION REQUIRED FOR BOTH ADULTS AND CHILDREN.
URL:https://funinfarmington.com/event/princess-tea-party-at-longacre-house-rsvp/2026-03-15/
LOCATION:Longacre House\, 24705 Farmington Rd\, Farmington Hills\, Michigan\, 48336
CATEGORIES:Crafting,Dance,Kids & Families,Special Event
END:VEVENT
BEGIN:VEVENT
DTSTART;TZID=UTC:20260317T190000
DTEND;TZID=UTC:20260317T210000
DTSTAMP:20260424T035743
CREATED:20260108T135740Z
LAST-MODIFIED:20260108T135740Z
UID:10018676-1773774000-1773781200@funinfarmington.com
SUMMARY:Tuesday with Lee
DESCRIPTION:Join Us Every Tuesday to taste 3 wines with Lee Hershey. \nSmall Cheese plate & Cheetos included \n$25/person\nCall to reserve your spot\n248-536-2107 (store)\n248-798-4713 (Yolla)
URL:https://funinfarmington.com/event/tuesday-with-lee/2026-03-17/
LOCATION:Perfect Pairing Market\, 38215 W. 10 Mile Rd.\, Farmington Hills\, Michigan\, 48335
CATEGORIES:Special Event
ATTACH;FMTTYPE=image/png:https://funinfarmington.com/wp-content/uploads/2026/01/Tuesday-with-Lee.png
END:VEVENT
BEGIN:VEVENT
DTSTART;TZID=UTC:20260324T190000
DTEND;TZID=UTC:20260324T210000
DTSTAMP:20260424T035743
CREATED:20260108T135740Z
LAST-MODIFIED:20260108T135740Z
UID:10018677-1774378800-1774386000@funinfarmington.com
SUMMARY:Tuesday with Lee
DESCRIPTION:Join Us Every Tuesday to taste 3 wines with Lee Hershey. \nSmall Cheese plate & Cheetos included \n$25/person\nCall to reserve your spot\n248-536-2107 (store)\n248-798-4713 (Yolla)
URL:https://funinfarmington.com/event/tuesday-with-lee/2026-03-24/
LOCATION:Perfect Pairing Market\, 38215 W. 10 Mile Rd.\, Farmington Hills\, Michigan\, 48335
CATEGORIES:Special Event
ATTACH;FMTTYPE=image/png:https://funinfarmington.com/wp-content/uploads/2026/01/Tuesday-with-Lee.png
END:VEVENT
BEGIN:VEVENT
DTSTART;TZID=UTC:20260329T100000
DTEND;TZID=UTC:20260329T133000
DTSTAMP:20260424T035743
CREATED:20260120T140322Z
LAST-MODIFIED:20260120T140322Z
UID:10019369-1774778400-1774791000@funinfarmington.com
SUMMARY:Egg Hunt Extravaganza at The Hawk
DESCRIPTION:Hop on down the bunny trail to search for your eggs\, stop at treat stations along the way to collect fun prizes. Take your photo with the Bunny and even paint an egg! Event will run rain or shine\, dress for the weather! Registration is required for children only. \n 
URL:https://funinfarmington.com/event/egg-hunt-extravaganza-at-the-hawk/
LOCATION:The Hawk Community Center\, 29995 W 12 Mile Rd\, Farmington Hills\, Michigan\, 48334
CATEGORIES:Festival,Kids & Families,NAture,Special Event,Teens
ATTACH;FMTTYPE=image/jpeg:https://funinfarmington.com/wp-content/uploads/2026/01/egg-hunt.jpg
END:VEVENT
BEGIN:VEVENT
DTSTART;TZID=UTC:20260331T140000
DTEND;TZID=UTC:20260331T160000
DTSTAMP:20260424T035743
CREATED:20260218T183607Z
LAST-MODIFIED:20260218T183607Z
UID:10019569-1774965600-1774972800@funinfarmington.com
SUMMARY:El Dia de los ninos Celebration at Library (Farmington)
DESCRIPTION:El Día de los niños (Children’s Day) or simply “Día” is an annual celebration of children\, families\, and reading that originated in Mexico. Celebrate our community with stories\, dancers from Ballet Folklorico Mexico Lindo\, piñatas\, crafts\, and more! \nSponsored by the Farmington Friends of the Library.
URL:https://funinfarmington.com/event/el-dia-de-los-ninos-celebration-at-library-farmington/
LOCATION:Farmington Community Library – Farmington Location\, 23500 Liberty St.\, Farmington\, Michigan\, 48335
CATEGORIES:Kids & Families,Special Event
END:VEVENT
BEGIN:VEVENT
DTSTART;TZID=UTC:20260331T190000
DTEND;TZID=UTC:20260331T210000
DTSTAMP:20260424T035743
CREATED:20260108T135740Z
LAST-MODIFIED:20260108T135740Z
UID:10018678-1774983600-1774990800@funinfarmington.com
SUMMARY:Tuesday with Lee
DESCRIPTION:Join Us Every Tuesday to taste 3 wines with Lee Hershey. \nSmall Cheese plate & Cheetos included \n$25/person\nCall to reserve your spot\n248-536-2107 (store)\n248-798-4713 (Yolla)
URL:https://funinfarmington.com/event/tuesday-with-lee/2026-03-31/
LOCATION:Perfect Pairing Market\, 38215 W. 10 Mile Rd.\, Farmington Hills\, Michigan\, 48335
CATEGORIES:Special Event
ATTACH;FMTTYPE=image/png:https://funinfarmington.com/wp-content/uploads/2026/01/Tuesday-with-Lee.png
END:VEVENT
BEGIN:VEVENT
DTSTART;TZID=UTC:20260407T190000
DTEND;TZID=UTC:20260407T210000
DTSTAMP:20260424T035743
CREATED:20260108T135740Z
LAST-MODIFIED:20260108T135740Z
UID:10018679-1775588400-1775595600@funinfarmington.com
SUMMARY:Tuesday with Lee
DESCRIPTION:Join Us Every Tuesday to taste 3 wines with Lee Hershey. \nSmall Cheese plate & Cheetos included \n$25/person\nCall to reserve your spot\n248-536-2107 (store)\n248-798-4713 (Yolla)
URL:https://funinfarmington.com/event/tuesday-with-lee/2026-04-07/
LOCATION:Perfect Pairing Market\, 38215 W. 10 Mile Rd.\, Farmington Hills\, Michigan\, 48335
CATEGORIES:Special Event
ATTACH;FMTTYPE=image/png:https://funinfarmington.com/wp-content/uploads/2026/01/Tuesday-with-Lee.png
END:VEVENT
BEGIN:VEVENT
DTSTART;TZID=UTC:20260414T190000
DTEND;TZID=UTC:20260414T210000
DTSTAMP:20260424T035743
CREATED:20260108T135740Z
LAST-MODIFIED:20260108T135740Z
UID:10018680-1776193200-1776200400@funinfarmington.com
SUMMARY:Tuesday with Lee
DESCRIPTION:Join Us Every Tuesday to taste 3 wines with Lee Hershey. \nSmall Cheese plate & Cheetos included \n$25/person\nCall to reserve your spot\n248-536-2107 (store)\n248-798-4713 (Yolla)
URL:https://funinfarmington.com/event/tuesday-with-lee/2026-04-14/
LOCATION:Perfect Pairing Market\, 38215 W. 10 Mile Rd.\, Farmington Hills\, Michigan\, 48335
CATEGORIES:Special Event
ATTACH;FMTTYPE=image/png:https://funinfarmington.com/wp-content/uploads/2026/01/Tuesday-with-Lee.png
END:VEVENT
BEGIN:VEVENT
DTSTART;TZID=UTC:20260416T190000
DTEND;TZID=UTC:20260416T190000
DTSTAMP:20260424T035743
CREATED:20260415T141448Z
LAST-MODIFIED:20260415T141448Z
UID:10020502-1776366000-1776366000@funinfarmington.com
SUMMARY:Farmington High Theatre presents The Little Mermaid
DESCRIPTION:Farmington High Theatre students are bringing the magic of Disney’s The Little Mermaid to life! Join Ariel and friends for an unforgettable underwater adventure with beloved songs like “Under the Sea\,” “Kiss the Girl” and “Part of Your World”. \nKids 12 and under will be entered into a special drawing\, and wearing a Little Mermaid character costume earns an extra entry. \nAll tickets are general seating and will be available at the door during each performance or at FHS during lunches.
URL:https://funinfarmington.com/event/farmington-high-theatre-presents-the-little-mermaid/2026-04-16/
LOCATION:Farmington High School\, 32000 Shiawassee St.\, Farmington\, MI\, 48336
CATEGORIES:Adults,Community,Kids & Families,Moms,Older Adults,Parents,Seniors,Shows,Special Event,Teens,Theater
ATTACH;FMTTYPE=image/png:https://funinfarmington.com/wp-content/uploads/2026/04/little-mermaid.png
END:VEVENT
BEGIN:VEVENT
DTSTART;TZID=UTC:20260417T183000
DTEND;TZID=UTC:20260417T210000
DTSTAMP:20260424T035743
CREATED:20260414T224307Z
LAST-MODIFIED:20260414T224307Z
UID:10020357-1776450600-1776459600@funinfarmington.com
SUMMARY:Malbec Around the World
DESCRIPTION:Malbec Around the World\nJoin us for an evening exploring Malbec from different wine regions around the world\, Cahors-Argentina & California\nwith Colette Comeau from AHD Vintners. \n Discover how climate\, soil\, and winemaking styles influence this bold and expressive grape.
URL:https://funinfarmington.com/event/malbec-around-the-world/
LOCATION:Perfect Pairing Market\, 38215 W. 10 Mile Rd.\, Farmington Hills\, Michigan\, 48335
CATEGORIES:Special Event
ATTACH;FMTTYPE=image/png:https://funinfarmington.com/wp-content/uploads/2026/04/Malbec-Around-the-world.png
END:VEVENT
BEGIN:VEVENT
DTSTART;TZID=UTC:20260417T190000
DTEND;TZID=UTC:20260417T190000
DTSTAMP:20260424T035743
CREATED:20260415T141448Z
LAST-MODIFIED:20260415T141448Z
UID:10020503-1776452400-1776452400@funinfarmington.com
SUMMARY:Farmington High Theatre presents The Little Mermaid
DESCRIPTION:Farmington High Theatre students are bringing the magic of Disney’s The Little Mermaid to life! Join Ariel and friends for an unforgettable underwater adventure with beloved songs like “Under the Sea\,” “Kiss the Girl” and “Part of Your World”. \nKids 12 and under will be entered into a special drawing\, and wearing a Little Mermaid character costume earns an extra entry. \nAll tickets are general seating and will be available at the door during each performance or at FHS during lunches.
URL:https://funinfarmington.com/event/farmington-high-theatre-presents-the-little-mermaid/2026-04-17/
LOCATION:Farmington High School\, 32000 Shiawassee St.\, Farmington\, MI\, 48336
CATEGORIES:Adults,Community,Kids & Families,Moms,Older Adults,Parents,Seniors,Shows,Special Event,Teens,Theater
ATTACH;FMTTYPE=image/png:https://funinfarmington.com/wp-content/uploads/2026/04/little-mermaid.png
END:VEVENT
BEGIN:VEVENT
DTSTART;TZID=UTC:20260418T190000
DTEND;TZID=UTC:20260418T190000
DTSTAMP:20260424T035743
CREATED:20260415T141448Z
LAST-MODIFIED:20260415T141448Z
UID:10020504-1776538800-1776538800@funinfarmington.com
SUMMARY:Farmington High Theatre presents The Little Mermaid
DESCRIPTION:Farmington High Theatre students are bringing the magic of Disney’s The Little Mermaid to life! Join Ariel and friends for an unforgettable underwater adventure with beloved songs like “Under the Sea\,” “Kiss the Girl” and “Part of Your World”. \nKids 12 and under will be entered into a special drawing\, and wearing a Little Mermaid character costume earns an extra entry. \nAll tickets are general seating and will be available at the door during each performance or at FHS during lunches.
URL:https://funinfarmington.com/event/farmington-high-theatre-presents-the-little-mermaid/2026-04-18/
LOCATION:Farmington High School\, 32000 Shiawassee St.\, Farmington\, MI\, 48336
CATEGORIES:Adults,Community,Kids & Families,Moms,Older Adults,Parents,Seniors,Shows,Special Event,Teens,Theater
ATTACH;FMTTYPE=image/png:https://funinfarmington.com/wp-content/uploads/2026/04/little-mermaid.png
END:VEVENT
BEGIN:VEVENT
DTSTART;TZID=UTC:20260421T190000
DTEND;TZID=UTC:20260421T210000
DTSTAMP:20260424T035743
CREATED:20260108T135740Z
LAST-MODIFIED:20260108T135740Z
UID:10018681-1776798000-1776805200@funinfarmington.com
SUMMARY:Tuesday with Lee
DESCRIPTION:Join Us Every Tuesday to taste 3 wines with Lee Hershey. \nSmall Cheese plate & Cheetos included \n$25/person\nCall to reserve your spot\n248-536-2107 (store)\n248-798-4713 (Yolla)
URL:https://funinfarmington.com/event/tuesday-with-lee/2026-04-21/
LOCATION:Perfect Pairing Market\, 38215 W. 10 Mile Rd.\, Farmington Hills\, Michigan\, 48335
CATEGORIES:Special Event
ATTACH;FMTTYPE=image/png:https://funinfarmington.com/wp-content/uploads/2026/01/Tuesday-with-Lee.png
END:VEVENT
BEGIN:VEVENT
DTSTART;TZID=UTC:20260423T170000
DTEND;TZID=UTC:20260423T210000
DTSTAMP:20260424T035743
CREATED:20260323T142313Z
LAST-MODIFIED:20260323T142313Z
UID:10020305-1776963600-1776978000@funinfarmington.com
SUMMARY:Ladies Night Out in Downtown Farmington
DESCRIPTION:Grab your friends and get ready for an evening of shopping\, sipping\, dining\, and fun throughout downtown. It’s the perfect excuse for a midweek girls’ night out!
URL:https://funinfarmington.com/event/ladies-night-out-in-downtown-farmington-2/
LOCATION:Riley Park\, 33113 Grand River Ave\, Farmington\, Michigan\, 48335
CATEGORIES:Food,Shopping,Special Event,Women
ATTACH;FMTTYPE=image/png:https://funinfarmington.com/wp-content/uploads/2026/03/ladies-night.png
END:VEVENT
BEGIN:VEVENT
DTSTART;TZID=UTC:20260425T090000
DTEND;TZID=UTC:20260425T190000
DTSTAMP:20260424T035743
CREATED:20260422T164002Z
LAST-MODIFIED:20260422T164002Z
UID:10020932-1777107600-1777143600@funinfarmington.com
SUMMARY:Spring Open House at English Gardens
DESCRIPTION:Ready for spring? So are we! Join us for our First Annual Spring Open House and be among the first to explore what’s new throughout the store — from fresh houseplants and patio furniture to home & garden décor\, garden supplies\, and a beautiful selection of annuals\, perennials\, trees and shrubs. Enjoy samples of our new gourmet foods\, a fun scavenger hunt and free planting activity for the kids*\, and special savings just for Garden Club Members.\n\n*Kids activities will be from 11am-3pm Saturday & Sunday.\n\nRSVP below for event updates and reminders.
URL:https://funinfarmington.com/event/spring-open-house-at-english-gardens/2026-04-25/
LOCATION:English Gardens\, 6370 Orchard Lake Rd MI\, West Bloomfield Township\, Michigan\, 48322
CATEGORIES:Kids & Families,Special Event
END:VEVENT
BEGIN:VEVENT
DTSTART;TZID=UTC:20260425T100000
DTEND;TZID=UTC:20260425T160000
DTSTAMP:20260424T035743
CREATED:20260419T162855Z
LAST-MODIFIED:20260419T162855Z
UID:10020845-1777111200-1777132800@funinfarmington.com
SUMMARY:Spring Craft Fair at First Presbyterian Church of Farmington
DESCRIPTION:Get your pals together and come to the craft fair when the doors open for first pick of the wonderful items created by artists\, crafters and bakers.
URL:https://funinfarmington.com/event/spring-craft-fair-at-first-presbyterian-church-of-farmington/2026-04-25/
LOCATION:First Presbyterian Church of Farmington\, 26165 Farmington Rd\, Farmington Hills\, Michigan\, 48334
CATEGORIES:Crafting,Food,Shopping,Special Event
END:VEVENT
BEGIN:VEVENT
DTSTART;TZID=UTC:20260426T090000
DTEND;TZID=UTC:20260426T180000
DTSTAMP:20260424T035743
CREATED:20260422T164002Z
LAST-MODIFIED:20260422T164002Z
UID:10020933-1777194000-1777226400@funinfarmington.com
SUMMARY:Spring Open House at English Gardens
DESCRIPTION:Ready for spring? So are we! Join us for our First Annual Spring Open House and be among the first to explore what’s new throughout the store — from fresh houseplants and patio furniture to home & garden décor\, garden supplies\, and a beautiful selection of annuals\, perennials\, trees and shrubs. Enjoy samples of our new gourmet foods\, a fun scavenger hunt and free planting activity for the kids*\, and special savings just for Garden Club Members.\n\n*Kids activities will be from 11am-3pm Saturday & Sunday.\n\nRSVP below for event updates and reminders.
URL:https://funinfarmington.com/event/spring-open-house-at-english-gardens/2026-04-26/
LOCATION:English Gardens\, 6370 Orchard Lake Rd MI\, West Bloomfield Township\, Michigan\, 48322
CATEGORIES:Kids & Families,Special Event
END:VEVENT
BEGIN:VEVENT
DTSTART;TZID=UTC:20260426T110000
DTEND;TZID=UTC:20260426T140000
DTSTAMP:20260424T035743
CREATED:20260419T162855Z
LAST-MODIFIED:20260419T162855Z
UID:10020846-1777201200-1777212000@funinfarmington.com
SUMMARY:Spring Craft Fair at First Presbyterian Church of Farmington
DESCRIPTION:Get your pals together and come to the craft fair when the doors open for first pick of the wonderful items created by artists\, crafters and bakers.
URL:https://funinfarmington.com/event/spring-craft-fair-at-first-presbyterian-church-of-farmington/2026-04-26/
LOCATION:First Presbyterian Church of Farmington\, 26165 Farmington Rd\, Farmington Hills\, Michigan\, 48334
CATEGORIES:Crafting,Food,Shopping,Special Event
END:VEVENT
BEGIN:VEVENT
DTSTART;TZID=UTC:20260426T140000
DTEND;TZID=UTC:20260426T160000
DTSTAMP:20260424T035743
CREATED:20260406T142926Z
LAST-MODIFIED:20260406T142926Z
UID:10020327-1777212000-1777219200@funinfarmington.com
SUMMARY:Foot Salt Class at Rose Best
DESCRIPTION:Make and take class. Learn about natural ingredients and make and take a foot salt bath.
URL:https://funinfarmington.com/event/foot-salt-class-at-rose-best/
LOCATION:Rose Best\, 23321 Orchard Lake road\, Farmington\, MI\, 48336\, United States
CATEGORIES:Adults,Art,Community,Crafting,Special Event,Teens,Wellness,Women
ATTACH;FMTTYPE=image/jpeg:https://funinfarmington.com/wp-content/uploads/2026/04/IMG_9166-scaled.jpeg
ORGANIZER;CN="Zehra Kapasi":MAILTO:Rosebest@gmail.com
END:VEVENT
BEGIN:VEVENT
DTSTART;TZID=UTC:20260428T190000
DTEND;TZID=UTC:20260428T210000
DTSTAMP:20260424T035743
CREATED:20260108T135740Z
LAST-MODIFIED:20260108T135740Z
UID:10018682-1777402800-1777410000@funinfarmington.com
SUMMARY:Tuesday with Lee
DESCRIPTION:Join Us Every Tuesday to taste 3 wines with Lee Hershey. \nSmall Cheese plate & Cheetos included \n$25/person\nCall to reserve your spot\n248-536-2107 (store)\n248-798-4713 (Yolla)
URL:https://funinfarmington.com/event/tuesday-with-lee/2026-04-28/
LOCATION:Perfect Pairing Market\, 38215 W. 10 Mile Rd.\, Farmington Hills\, Michigan\, 48335
CATEGORIES:Special Event
ATTACH;FMTTYPE=image/png:https://funinfarmington.com/wp-content/uploads/2026/01/Tuesday-with-Lee.png
END:VEVENT
BEGIN:VEVENT
DTSTART;TZID=UTC:20260501T113000
DTEND;TZID=UTC:20260501T133000
DTSTAMP:20260424T035743
CREATED:20260419T235906Z
LAST-MODIFIED:20260419T235906Z
UID:10020927-1777635000-1777642200@funinfarmington.com
SUMMARY:Derby Party at Costick Center
DESCRIPTION:Enjoy and afternoon luncheon\, “dressed to the nines\,” in the atmosphere of the Kentucky Derby. Take part in the tradition of beautiful hats\, delicious treats\, musical entertainment with Suzie Marsh and of course\, horse racing!
URL:https://funinfarmington.com/event/derby-party-at-costick-center/
LOCATION:Costick Center\, 28600 W Eleven Mile Rd\, Farmington Hills\, Michigan\, 48336
CATEGORIES:Community,Festival,Special Event
END:VEVENT
BEGIN:VEVENT
DTSTART;TZID=UTC:20260501T183000
DTEND;TZID=UTC:20260501T210000
DTSTAMP:20260424T035743
CREATED:20260412T191055Z
LAST-MODIFIED:20260412T191055Z
UID:10020358-1777660200-1777669200@funinfarmington.com
SUMMARY:Sailing with The Phoenicians: A Wine Tasting Journey at Perfect Pairing
DESCRIPTION:Travel back over 3000 years with Perfect Pairing & Matthew Bricker to explore the wines and grape varieties connected to the Ancient Phoenician Trade Routes that helped spread wine across the Mediterranean.\nThe journey begins from Phoenicia (Lebanon) to Greece-Sicily-Sardinia & Spain.
URL:https://funinfarmington.com/event/sailing-with-the-phoenicians-a-wine-tasting-journey-at-perfect-pairing/
LOCATION:Perfect Pairing Market\, 38215 W. 10 Mile Rd.\, Farmington Hills\, Michigan\, 48335
CATEGORIES:Special Event,Wine
ATTACH;FMTTYPE=image/png:https://funinfarmington.com/wp-content/uploads/2026/04/Phoenician-wine-trade-routes.png
END:VEVENT
BEGIN:VEVENT
DTSTART;TZID=UTC:20260503T130000
DTEND;TZID=UTC:20260503T170000
DTSTAMP:20260424T035743
CREATED:20260218T183412Z
LAST-MODIFIED:20260218T183412Z
UID:10019568-1777813200-1777827600@funinfarmington.com
SUMMARY:Asian American & Pacific Islander Fest at Library (FH)
DESCRIPTION:Celebrate our Asian American and Pacific Islander communities with live performances\, hands-on activities\, and delicious food! All activities and performances are free. Food from vendors will be available for purchase.
URL:https://funinfarmington.com/event/asian-american-pacific-islander-fest-at-library-fh/
LOCATION:Farmington Community Library – Farmington Hills Location\, 32737 W. 12 Mile Rd.\, Farmington Hills\, Michigan\, 48334
CATEGORIES:Kids & Families,Special Event
END:VEVENT
BEGIN:VEVENT
DTSTART;TZID=UTC:20260505T190000
DTEND;TZID=UTC:20260505T210000
DTSTAMP:20260424T035743
CREATED:20260108T135740Z
LAST-MODIFIED:20260108T135740Z
UID:10018683-1778007600-1778014800@funinfarmington.com
SUMMARY:Tuesday with Lee
DESCRIPTION:Join Us Every Tuesday to taste 3 wines with Lee Hershey. \nSmall Cheese plate & Cheetos included \n$25/person\nCall to reserve your spot\n248-536-2107 (store)\n248-798-4713 (Yolla)
URL:https://funinfarmington.com/event/tuesday-with-lee/2026-05-05/
LOCATION:Perfect Pairing Market\, 38215 W. 10 Mile Rd.\, Farmington Hills\, Michigan\, 48335
CATEGORIES:Special Event
ATTACH;FMTTYPE=image/png:https://funinfarmington.com/wp-content/uploads/2026/01/Tuesday-with-Lee.png
END:VEVENT
BEGIN:VEVENT
DTSTART;TZID=UTC:20260509T140000
DTEND;TZID=UTC:20260509T160000
DTSTAMP:20260424T035743
CREATED:20260418T205944Z
LAST-MODIFIED:20260418T210010Z
UID:10020512-1778335200-1778342400@funinfarmington.com
SUMMARY:Graze & Bloom Charcuterie & Floral Class at No Graze Off
DESCRIPTION:Celebrate Mother’s Day with a beautifully curated\, hands-on experience at our Graze & Bloom Workshop. \nJoin us for an intimate and creative event where guests will craft their own personal charcuterie board and craft a fresh floral arrangement. Whether you’re celebrating yourself\, your mom\, or simply enjoying a girls’ day out\, this experience is designed to be both relaxing and memorable. \nAll materials and ingredients are provided\, along with light bites to enjoy during the workshop. No experience is needed — just come ready to create\, sip\, and enjoy. \nEvent is BYOB. Mocktails provided. \nEvent Details: May 9 | 2:00 PM – 4:00 PM The Grazery by No Graze Off – 22836 Orchard Lake Rd. Farmington\, MI \nTickets: $55 per person (2 for $100 available for a limited time) \nSpots are limited to keep the experience intimate. Secure your seat today and celebrate Mother’s Day in a creative\, elevated way.
URL:https://funinfarmington.com/event/graze-bloom-charcuterie-floral-class-at-no-graze-off/
LOCATION:No Graze Off (The Grazery)\, 22836 Orchard Lake Rd\, Farmington Hills\, MI\, 48336\, United States
CATEGORIES:Food,Moms,Special Event
END:VEVENT
BEGIN:VEVENT
DTSTART;TZID=UTC:20260512T190000
DTEND;TZID=UTC:20260512T210000
DTSTAMP:20260424T035743
CREATED:20260108T135740Z
LAST-MODIFIED:20260108T135740Z
UID:10018684-1778612400-1778619600@funinfarmington.com
SUMMARY:Tuesday with Lee
DESCRIPTION:Join Us Every Tuesday to taste 3 wines with Lee Hershey. \nSmall Cheese plate & Cheetos included \n$25/person\nCall to reserve your spot\n248-536-2107 (store)\n248-798-4713 (Yolla)
URL:https://funinfarmington.com/event/tuesday-with-lee/2026-05-12/
LOCATION:Perfect Pairing Market\, 38215 W. 10 Mile Rd.\, Farmington Hills\, Michigan\, 48335
CATEGORIES:Special Event
ATTACH;FMTTYPE=image/png:https://funinfarmington.com/wp-content/uploads/2026/01/Tuesday-with-Lee.png
END:VEVENT
BEGIN:VEVENT
DTSTART;TZID=UTC:20260519T190000
DTEND;TZID=UTC:20260519T210000
DTSTAMP:20260424T035743
CREATED:20260108T135740Z
LAST-MODIFIED:20260108T135740Z
UID:10018685-1779217200-1779224400@funinfarmington.com
SUMMARY:Tuesday with Lee
DESCRIPTION:Join Us Every Tuesday to taste 3 wines with Lee Hershey. \nSmall Cheese plate & Cheetos included \n$25/person\nCall to reserve your spot\n248-536-2107 (store)\n248-798-4713 (Yolla)
URL:https://funinfarmington.com/event/tuesday-with-lee/2026-05-19/
LOCATION:Perfect Pairing Market\, 38215 W. 10 Mile Rd.\, Farmington Hills\, Michigan\, 48335
CATEGORIES:Special Event
ATTACH;FMTTYPE=image/png:https://funinfarmington.com/wp-content/uploads/2026/01/Tuesday-with-Lee.png
END:VEVENT
BEGIN:VEVENT
DTSTART;TZID=UTC:20260526T190000
DTEND;TZID=UTC:20260526T210000
DTSTAMP:20260424T035743
CREATED:20260108T135740Z
LAST-MODIFIED:20260108T135740Z
UID:10018686-1779822000-1779829200@funinfarmington.com
SUMMARY:Tuesday with Lee
DESCRIPTION:Join Us Every Tuesday to taste 3 wines with Lee Hershey. \nSmall Cheese plate & Cheetos included \n$25/person\nCall to reserve your spot\n248-536-2107 (store)\n248-798-4713 (Yolla)
URL:https://funinfarmington.com/event/tuesday-with-lee/2026-05-26/
LOCATION:Perfect Pairing Market\, 38215 W. 10 Mile Rd.\, Farmington Hills\, Michigan\, 48335
CATEGORIES:Special Event
ATTACH;FMTTYPE=image/png:https://funinfarmington.com/wp-content/uploads/2026/01/Tuesday-with-Lee.png
END:VEVENT
BEGIN:VEVENT
DTSTART;TZID=UTC:20260530T093000
DTEND;TZID=UTC:20260530T180000
DTSTAMP:20260424T035743
CREATED:20260318T000026Z
LAST-MODIFIED:20260318T000026Z
UID:10020016-1780133400-1780164000@funinfarmington.com
SUMMARY:The Princess Ball Experience at Holiday Inn Farmington Hills
DESCRIPTION:Join us for Character meet-and-greets\, interactive performances\, royal activities\, and magic at this Princess Ball Experience! \n\n\n\n\nAbout the Event: \nStep into a storybook celebration with the Princesses of Olivia Grace & Company! This enchanting experience features royal meet-and-greets\, magical photo opportunities\, captivating live performances\, dancing\, and (of course) a sprinkle of pixie dust at every turn. \nThis event offers four identical sessions. Please select your preferred time when purchasing tickets: \n\n9:30 a.m. to 11:00 a.m.\n12 p.m. to 1:30 p.m.\n2 p.m. to 3:30 p.m.\n4:30 p.m. to 6 p.m.\n\nPrincesses in Attendance: \n\nCinderella\nBelle\nAriel\nJasmine\nTiana\nRapunzel\nElsa\n\nTickets: \nDue to venue capacity and to preserve the magic\, every guest (adults and children) must have a ticket to attend. \n\nGeneral Admission: $45\n\nOptional Add-ons: \nGroup Portrait Opportunity: During this exclusive experience at the end of the event\, your child will have the opportunity to take a group photo with all of the princesses. Photos will be taken on your own device; no professional photographer will be present. ($15 per Child.) \nCrowning Moment: A Princess will present and place a beautiful tiara on your child during a special coronation moment. The tiara is yours to keep as a treasured souvenir of the day. ($20 per Child) \nPlease Note: \n\nTickets are limited to ensure a safe\, high-quality\, and magical experience for all guests.\nTickets are non-refundable but fully transferable. If you cannot attend\, you may give your tickets to a friend or family member.\nPlease arrive at least 15 minutes before your selected time slot.\nEventbrite is the ONLY authorized ticket seller for this event. Tickets will not be sold through any other website\, venue\, or third party.\nA parent or guardian must remain with their child(ren) at all times during the event.\nThis event does not include a meal.\nWe reserve the right to refuse entry or remove a guest for safety\, conduct\, or operational reasons.\nBy attending\, you grant Olivia Grace & Company and its authorized partners permission to photograph and/or record video of this event for promotional and archival purposes.
URL:https://funinfarmington.com/event/the-princess-ball-experience-at-holiday-inn-farmington-hills/
LOCATION:Holiday Inn Farmington Hills\, 33103 Hamilton Ct.\, Farmington Hills\, MN\, 48335\, United States
CATEGORIES:Kids & Families,Special Event
ATTACH;FMTTYPE=image/png:https://funinfarmington.com/wp-content/uploads/2026/03/princess.png
END:VEVENT
END:VCALENDAR