BEGIN:VCALENDAR
VERSION:2.0
PRODID:-//Fun in Farmington - ECPv6.15.20//NONSGML v1.0//EN
CALSCALE:GREGORIAN
METHOD:PUBLISH
X-WR-CALNAME:Fun in Farmington
X-ORIGINAL-URL:https://funinfarmington.com
X-WR-CALDESC:Events for Fun in Farmington
REFRESH-INTERVAL;VALUE=DURATION:PT1H
X-Robots-Tag:noindex
X-PUBLISHED-TTL:PT1H
BEGIN:VTIMEZONE
TZID:UTC
BEGIN:STANDARD
TZOFFSETFROM:+0000
TZOFFSETTO:+0000
TZNAME:UTC
DTSTART:20240101T000000
END:STANDARD
END:VTIMEZONE
BEGIN:VEVENT
DTSTART;TZID=UTC:20251109T143000
DTEND;TZID=UTC:20251109T170000
DTSTAMP:20260419T174036
CREATED:20251103T135800Z
LAST-MODIFIED:20251103T135800Z
UID:10017927-1762698600-1762707600@funinfarmington.com
SUMMARY:Grief Relief
DESCRIPTION:November 9th • 2:30–5:00 PM\nCenterPeace Farmington — 33750 Freedom Rd\, Farmington\, MI\nHammock $65 | Cushy Mat or Anti-Gravity Chair $55\nLoss changes us — but within the ache\, there is sacred space for love to breathe again\nThere is no shame in grief\nThis is a safe space to feel\, emote\, maybe even cry or roar out your frustration\nTrust us\, we have done a lot of work in the name and honor of grief\, it is our honor to hold this space for you\nJoin Alicia Clark and Marj Wekwert for an afternoon of gentle release\, remembrance\, and renewal through Reiki\, sound\, and ceremony \nTogether we will:\nBe held in a cocoon of Reiki energy and crystal sound\nLight candles to honor loved ones and what has been lost\nPractice simple\, restorative breathing and somatic techniques to open the heart and body\nAllow waves of emotion to move through sound vibrations\, which invite in peace and stillness\nThis is a nurturing space to rest\, reflect\, and reconnect to the beauty still within you\nNo prior experience needed — only your open heart and willingness to receive\nBring your favorite blanket\, journal\, or sacred item for the altar if you feel called\nWe’ll close with grounding breaths to gently return to presence \nReserve your space:\nhttps://www.sacredlotusexperience.com/event…/grief-relief\nSpace is limited — only a few spots available for this special gathering
URL:https://funinfarmington.com/event/grief-relief/
LOCATION:CenterPeace\, 33750 Freedom Road\, Farmington\, MI\, 48335
CATEGORIES:Community,Hobbies,Moms,Music,Older Adults,Seniors,Special Event,Spiritual,Wellness,Women
ATTACH;FMTTYPE=image/png:https://funinfarmington.com/wp-content/uploads/2025/11/3-Grief-Relief-square.png
ORGANIZER;CN="Alicia Clark":MAILTO:sacredlotusexperience@yahoo.com
END:VEVENT
BEGIN:VEVENT
DTSTART;TZID=UTC:20251109T143000
DTEND;TZID=UTC:20251109T170000
DTSTAMP:20260419T174036
CREATED:20251030T163053Z
LAST-MODIFIED:20251030T163053Z
UID:10017865-1762698600-1762707600@funinfarmington.com
SUMMARY:Grief\, Love\, and Renewal Reiki Sound Bath
DESCRIPTION:Loss changes us — but within the ache\, there is sacred space for love to breathe again\nThere is no shame in grief. This is a safe space to feel\, emote\, maybe even cry or roar out your frustration\nTrust us\, We have done so much work in the name and honor of grief\, it is our honor to hold this space for you\nJoin Alicia Clark and Marj Wekwert for an afternoon of gentle release\, remembrance\, and renewal through Reiki\, sound\, and ceremony \nTogether we will:\nBe held in a cocoon of Reiki energy and crystal sound\nLight candles to honor loved ones and what has been lost\nPractice simple\, restorative breathing and somatic techniques to open the heart and body\nAllow waves of emotion to move through sound vibrations\, which invite in peace and stillness \nThis is a nurturing space to rest\, reflect\, and reconnect to the beauty still within you\nNo prior experience needed — only your open heart and willingness to receive\nBring your favorite blanket\, journal\, or sacred item for the altar if you feel called\nWe’ll close with grounding breaths to gently return to presence \nReserve your space:\nSpace is limited — only a few spots available for this special gathering
URL:https://funinfarmington.com/event/grief-love-and-renewal-reiki-sound-bath/
LOCATION:CenterPeace\, 33750 Freedom Road\, Farmington\, MI\, 48335
CATEGORIES:Spiritual,Wellness
ATTACH;FMTTYPE=image/jpeg:https://funinfarmington.com/wp-content/uploads/2025/10/IMG_4323.jpeg
END:VEVENT
BEGIN:VEVENT
DTSTART;TZID=UTC:20251103T110000
DTEND;TZID=UTC:20251103T123000
DTSTAMP:20260419T174036
CREATED:20251103T135826Z
LAST-MODIFIED:20251103T135826Z
UID:10018050-1762167600-1762173000@funinfarmington.com
SUMMARY:Soulful Gentle Yin Yoga
DESCRIPTION:Soulful yin yoga is a non yoga studio type classs.\nI am a teacher that enjoys connecting with our bodies. This yoga class is to tune in to our body\, see how it responds to the breath and movement and really use the breath to feel expansion in the body.\nThis class is suitable for people who are not overly flexible\, sometimes need a chair instead of a mat\, like to feel good in their body but not push it to the max\, and spend time getting to your body every week as a devotion not a chore.\nThis class is not about maximizing the pose or pushing past your limits.\nSoulful Yin Yoga is not always just yoga sometimes we do tai chi\, use the wall for restorative poses or tennis balls for our body.\nJoin us if you feel called to come back home to yourself every week.\n$15/class\nAlicia Clark is the instructor for Soulful Yin Yoga. She has been living the yoga life since 2010 and began teaching in 2018. She has tried all different styles of yoga. Alicia blends her style to keep people supple and flexible and connected back to their body and breath.\n11:15-12:15pm Mondays at CenterPeace\n33750 Freedom Rd Farmington\, MI 48335
URL:https://funinfarmington.com/event/soulful-gentle-yin-yoga/2025-11-03/
LOCATION:CenterPeace\, 33750 Freedom Road\, Farmington\, MI\, 48335
CATEGORIES:Fitness,Spiritual
ATTACH;FMTTYPE=image/png:https://funinfarmington.com/wp-content/uploads/2025/11/Soulful-Yin-Yoga-4.png
ORGANIZER;CN="Alicia Clark":MAILTO:sacredlotusexperience@yahoo.com
END:VEVENT
BEGIN:VEVENT
DTSTART;TZID=UTC:20251102T100000
DTEND;TZID=UTC:20251102T113000
DTSTAMP:20260419T174036
CREATED:20250917T034056Z
LAST-MODIFIED:20260101T175835Z
UID:10017471-1762077600-1762083000@funinfarmington.com
SUMMARY:Slow flow aerial yoga
DESCRIPTION:Unwind\, stretch\, and elevate your yoga practice with Slow Flow Aerial Yoga. This gentle and immersive class combines traditional yoga poses with the support of aerial hammocks to cultivate relaxation\, flexibility\, and mindfulness. Designed for all levels\, Slow Flow Aerial Yoga focuses on slow\, intentional movements synchronized with breath\, allowing participants to deepen their stretches and release tension while floating in the air. Whether you’re seeking to decompress from daily stressors or enhance your flexibility\, this class offers a serene and rejuvenating experience that nurtures both body and mind. \nThis is at our Farmington locations and space is limited to only 6 guests so pre-registration is required to secure your spot… \nGrab your tickets early! \nBenefits: \n* Enhances flexibility and mobility \n* Relieves tension and stress \n* Improves balance and body awareness \n* Cultivates mindfulness and relaxation \nPrerequisites: \nNO prior Yoga or Aerial Yoga experience necessary \nParticipants should be comfortable with gentle movement and able to support their weight in the aerial hammock. \nAttire: \nWear comfortable\, form-fitting clothing that allows for freedom of movement. \nAvoid loose or baggy clothing that may get tangled in the hammock. \nEquipment: \nAerial hammocks will be provided. \nParticipants are welcome to bring their own yoga mats for additional support. \nInstructor: \nMarjorie Wekwert\, a certified yoga instructor with expertise in aerial yoga and a passion for guiding students towards holistic well-being. \nCost: \nIndividual Classes ~ $22.00 each \nJOIN US for Slow Flow Aerial Yoga and experience the serenity of suspended yoga practice as you journey towards inner harmony and physical vitality… And did we mention it’s SUPER FUN!!!
URL:https://funinfarmington.com/event/slow-flow-aerial-yoga-2/2025-11-02/
LOCATION:CenterPeace\, 33750 Freedom Road\, Farmington\, MI\, 48335
CATEGORIES:Fitness,Spiritual,Wellness,Yoga
ATTACH;FMTTYPE=image/jpeg:https://funinfarmington.com/wp-content/uploads/2025/09/IMG_4068-1.jpeg
END:VEVENT
BEGIN:VEVENT
DTSTART;TZID=UTC:20251019T100000
DTEND;TZID=UTC:20251019T113000
DTSTAMP:20260419T174036
CREATED:20250917T034043Z
LAST-MODIFIED:20260118T211339Z
UID:10017530-1760868000-1760873400@funinfarmington.com
SUMMARY:Slow Flow Aerial Yoga at CenterPeace
DESCRIPTION:Unwind\, stretch\, and elevate your yoga practice with Slow Flow Aerial Yoga. This gentle and immersive class combines traditional yoga poses with the support of aerial hammocks to cultivate relaxation\, flexibility\, and mindfulness. Designed for all levels\, Slow Flow Aerial Yoga focuses on slow\, intentional movements synchronized with breath\, allowing participants to deepen their stretches and release tension while floating in the air. Whether you’re seeking to decompress from daily stressors or enhance your flexibility\, this class offers a serene and rejuvenating experience that nurtures both body and mind. \nThis is at our Farmington locations and space is limited to only 6 guests so pre-registration is required to secure your spot… \nGrab your tickets early! \nBenefits: \n* Enhances flexibility and mobility \n* Relieves tension and stress \n* Improves balance and body awareness \n* Cultivates mindfulness and relaxation \nPrerequisites: \nNO prior Yoga or Aerial Yoga experience necessary \nParticipants should be comfortable with gentle movement and able to support their weight in the aerial hammock. \nAttire: \nWear comfortable\, form-fitting clothing that allows for freedom of movement. \nAvoid loose or baggy clothing that may get tangled in the hammock. \nEquipment: \nAerial hammocks will be provided. \nParticipants are welcome to bring their own yoga mats for additional support. \nInstructor: \nMarjorie Wekwert\, a certified yoga instructor with expertise in aerial yoga and a passion for guiding students towards holistic well-being. \nCost: \nIndividual Classes ~ $22.00 each \nJOIN US for Slow Flow Aerial Yoga and experience the serenity of suspended yoga practice as you journey towards inner harmony and physical vitality… And did we mention it’s SUPER FUN!!!
URL:https://funinfarmington.com/event/slow-flow-aerial-yoga/2025-10-19/
LOCATION:CenterPeace\, 33750 Freedom Road\, Farmington\, MI\, 48335
CATEGORIES:Fitness,Spiritual,Wellness,Yoga
ATTACH;FMTTYPE=image/jpeg:https://funinfarmington.com/wp-content/uploads/2025/09/IMG_4068-2.jpeg
END:VEVENT
BEGIN:VEVENT
DTSTART;TZID=UTC:20251013T180000
DTEND;TZID=UTC:20251013T190000
DTSTAMP:20260419T174036
CREATED:20251012T183952Z
LAST-MODIFIED:20251012T183952Z
UID:10017846-1760378400-1760382000@funinfarmington.com
SUMMARY:Candlelight Yoga at First Presbyterian
DESCRIPTION:Refocus your week during this beautiful slow-flow hour. Get centered with the day’s devotion and enjoy the connection of mind\, body and spirit to your Creator. This therapeutic style of yoga takes joints through all range of motion\, leaving you feeling mentally\, physically and spiritually prepared to take on anything the week might throw at you. Come and try your first class here for free!\nClass is offered simultaneously on Zoom\, and by Zoom replay video.\nLive location is inside Knox Fellowship Hall12-weeks unlimited classes\, including all replay videos: $1384 or 6-class punch cards: $50 or $751 time walk in: $15First class FREE!
URL:https://funinfarmington.com/event/candlelight-yoga-at-first-presbyterian/
LOCATION:First Presbyterian Church of Farmington\, 26165 Farmington Rd\, Farmington Hills\, Michigan\, 48334
CATEGORIES:Spiritual,Yoga
END:VEVENT
BEGIN:VEVENT
DTSTART;TZID=UTC:20251005T100000
DTEND;TZID=UTC:20251005T113000
DTSTAMP:20260419T174036
CREATED:20250917T034056Z
LAST-MODIFIED:20260101T175835Z
UID:10017470-1759658400-1759663800@funinfarmington.com
SUMMARY:Slow flow aerial yoga
DESCRIPTION:Unwind\, stretch\, and elevate your yoga practice with Slow Flow Aerial Yoga. This gentle and immersive class combines traditional yoga poses with the support of aerial hammocks to cultivate relaxation\, flexibility\, and mindfulness. Designed for all levels\, Slow Flow Aerial Yoga focuses on slow\, intentional movements synchronized with breath\, allowing participants to deepen their stretches and release tension while floating in the air. Whether you’re seeking to decompress from daily stressors or enhance your flexibility\, this class offers a serene and rejuvenating experience that nurtures both body and mind. \nThis is at our Farmington locations and space is limited to only 6 guests so pre-registration is required to secure your spot… \nGrab your tickets early! \nBenefits: \n* Enhances flexibility and mobility \n* Relieves tension and stress \n* Improves balance and body awareness \n* Cultivates mindfulness and relaxation \nPrerequisites: \nNO prior Yoga or Aerial Yoga experience necessary \nParticipants should be comfortable with gentle movement and able to support their weight in the aerial hammock. \nAttire: \nWear comfortable\, form-fitting clothing that allows for freedom of movement. \nAvoid loose or baggy clothing that may get tangled in the hammock. \nEquipment: \nAerial hammocks will be provided. \nParticipants are welcome to bring their own yoga mats for additional support. \nInstructor: \nMarjorie Wekwert\, a certified yoga instructor with expertise in aerial yoga and a passion for guiding students towards holistic well-being. \nCost: \nIndividual Classes ~ $22.00 each \nJOIN US for Slow Flow Aerial Yoga and experience the serenity of suspended yoga practice as you journey towards inner harmony and physical vitality… And did we mention it’s SUPER FUN!!!
URL:https://funinfarmington.com/event/slow-flow-aerial-yoga-2/2025-10-05/
LOCATION:CenterPeace\, 33750 Freedom Road\, Farmington\, MI\, 48335
CATEGORIES:Fitness,Spiritual,Wellness,Yoga
ATTACH;FMTTYPE=image/jpeg:https://funinfarmington.com/wp-content/uploads/2025/09/IMG_4068-1.jpeg
END:VEVENT
END:VCALENDAR