BEGIN:VCALENDAR
VERSION:2.0
PRODID:-//Fun in Farmington - ECPv6.15.20//NONSGML v1.0//EN
CALSCALE:GREGORIAN
METHOD:PUBLISH
X-WR-CALNAME:Fun in Farmington
X-ORIGINAL-URL:https://funinfarmington.com
X-WR-CALDESC:Events for Fun in Farmington
REFRESH-INTERVAL;VALUE=DURATION:PT1H
X-Robots-Tag:noindex
X-PUBLISHED-TTL:PT1H
BEGIN:VTIMEZONE
TZID:UTC
BEGIN:STANDARD
TZOFFSETFROM:+0000
TZOFFSETTO:+0000
TZNAME:UTC
DTSTART:20250101T000000
END:STANDARD
END:VTIMEZONE
BEGIN:VEVENT
DTSTART;TZID=UTC:20260807T183000
DTEND;TZID=UTC:20260807T200000
DTSTAMP:20260420T001541
CREATED:20260418T212527Z
LAST-MODIFIED:20260418T212527Z
UID:10020839-1786127400-1786132800@funinfarmington.com
SUMMARY:Garden and Tea Party
DESCRIPTION:Celebrate the Nature Center Children’s Garden with an outdoor tea party! Native and planted herbs will be harvested from Heritage Park to enjoy in tea or as snacks. We will also be leading some unique nature crafts and activities during the event. Tea has been generously donated by FRASER TEA in Livonia. Check out their website at https://frasertea.com/ . Children must be accompanied by an adult. Both adults and kids must be registered.
URL:https://funinfarmington.com/event/garden-and-tea-party-2/
LOCATION:Heritage Park\, 24915 Farmington Rd\, Farmington Hills\, MI\, 48336\, United States
CATEGORIES:Adults,Community,Kids & Families,Older Adults,Seniors,Teens
END:VEVENT
END:VCALENDAR