BEGIN:VCALENDAR
VERSION:2.0
PRODID:-//Fun in Farmington - ECPv6.15.20//NONSGML v1.0//EN
CALSCALE:GREGORIAN
METHOD:PUBLISH
X-ORIGINAL-URL:https://funinfarmington.com
X-WR-CALDESC:Events for Fun in Farmington
REFRESH-INTERVAL;VALUE=DURATION:PT1H
X-Robots-Tag:noindex
X-PUBLISHED-TTL:PT1H
BEGIN:VTIMEZONE
TZID:UTC
BEGIN:STANDARD
TZOFFSETFROM:+0000
TZOFFSETTO:+0000
TZNAME:UTC
DTSTART:20250101T000000
END:STANDARD
END:VTIMEZONE
BEGIN:VEVENT
DTSTART;TZID=UTC:20260331T130000
DTEND;TZID=UTC:20260331T150000
DTSTAMP:20260420T003147
CREATED:20260322T194314Z
LAST-MODIFIED:20260322T194314Z
UID:10020031-1774962000-1774969200@funinfarmington.com
SUMMARY:SPRING BREAK ~ Frankly Colorful Friends - Cat at Painting With A Twist
DESCRIPTION:**While we welcome painters of any age\, this class is intended for ages 7-13 and only ages 7-13 may be dropped off. \nDrop off between 12:45-1:00pm\nPick up between 2:45-3:00pm \n*PRE-REGISTRATION RECOMMENDED: it is recommended that guests register for class prior to arrival to guarantee your reservation and any special seating requests. You will receive an email/text confirmation if properly registered. Payment is due at the time of the reservation to guarantee your seat. You may reserve & make payment online. \n*WHAT TO BRING:\nYou are welcome to bring in light snacks and drinks (water\, juice and soda) to enjoy during class. Cups are available for your use! You must provide your OWN plates and utensils for food. \n*CLASS TIME:\nPainting begins PROMPTLY at class start time! Please arrive about 30 minutes early to check-in\, get smocked\, and settle in. If you are late to the class you may not be allowed to paint and your payment will be forfeited. \n*SEATING REQUESTS:\nIf you’re coming with others\, but making reservations separately\, give us your group’s name in the Special Request box. We’ll seat you together. If you make a late reservation we may not be able to seat you with your requested group. No seat changes are guaranteed at class time! \n*PWAT reserves the right to cancel classes for unforeseen circumstances. Registrants will be refunded.
URL:https://funinfarmington.com/event/spring-break-frankly-colorful-friends-cat-at-painting-with-a-twist/
LOCATION:Painting With a Twist\, 33033 Grand River Ave\, Farmington\, 48335\, United States
CATEGORIES:Art,Kids & Families,Teens
ATTACH;FMTTYPE=image/png:https://funinfarmington.com/wp-content/uploads/2026/03/spring-cat.png
END:VEVENT
END:VCALENDAR