BEGIN:VCALENDAR
VERSION:2.0
PRODID:-//Fun in Farmington - ECPv6.15.20//NONSGML v1.0//EN
CALSCALE:GREGORIAN
METHOD:PUBLISH
X-ORIGINAL-URL:https://funinfarmington.com
X-WR-CALDESC:Events for Fun in Farmington
REFRESH-INTERVAL;VALUE=DURATION:PT1H
X-Robots-Tag:noindex
X-PUBLISHED-TTL:PT1H
BEGIN:VTIMEZONE
TZID:UTC
BEGIN:STANDARD
TZOFFSETFROM:+0000
TZOFFSETTO:+0000
TZNAME:UTC
DTSTART:20250101T000000
END:STANDARD
END:VTIMEZONE
BEGIN:VEVENT
DTSTART;TZID=UTC:20260412T130000
DTEND;TZID=UTC:20260412T160000
DTSTAMP:20260421T214318
CREATED:20260409T111233Z
LAST-MODIFIED:20260409T111233Z
UID:10020428-1775998800-1776009600@funinfarmington.com
SUMMARY:Upcycled Embellishment: Hand Embroidery at The Hawk
DESCRIPTION:Give new life to your old clothes\, bags\, and accessories by learning the art of hand-embroidered embellishment! In this workshop\, we’ll show you how to turn your plain pieces into unique\, one-of-a-kind creations using embroidery.Whether you want to enhance a favorite shirt\, cover a stain or small hole\, embellish a tote bag\, or any other fabric item\, you’ll learn how to add beautiful and simple embroidery to personalize and refresh your items. You’ll experiment with different stitches to create patterns and motifs that make each piece special. This workshop is all about upcycling—transforming what you already own into something that feels fresh and fashionable\, while embracing your creativity!
URL:https://funinfarmington.com/event/upcycled-embellishment-hand-embroidery-at-the-hawk/
LOCATION:The Hawk Community Center\, 29995 W 12 Mile Rd\, Farmington Hills\, Michigan\, 48334
CATEGORIES:Adults,Crafting,Hobbies,Teens
END:VEVENT
END:VCALENDAR