BEGIN:VCALENDAR
VERSION:2.0
PRODID:-//Fun in Farmington - ECPv6.15.20//NONSGML v1.0//EN
CALSCALE:GREGORIAN
METHOD:PUBLISH
X-WR-CALNAME:Fun in Farmington
X-ORIGINAL-URL:https://funinfarmington.com
X-WR-CALDESC:Events for Fun in Farmington
REFRESH-INTERVAL;VALUE=DURATION:PT1H
X-Robots-Tag:noindex
X-PUBLISHED-TTL:PT1H
BEGIN:VTIMEZONE
TZID:UTC
BEGIN:STANDARD
TZOFFSETFROM:+0000
TZOFFSETTO:+0000
TZNAME:UTC
DTSTART:20250101T000000
END:STANDARD
END:VTIMEZONE
BEGIN:VEVENT
DTSTART;TZID=UTC:20260422T160000
DTEND;TZID=UTC:20260422T190000
DTSTAMP:20260419T225243
CREATED:20260305T172507Z
LAST-MODIFIED:20260305T172507Z
UID:10019979-1776873600-1776884400@funinfarmington.com
SUMMARY:Earth Day Celebration at Heritage Park
DESCRIPTION:The City of Farmington Hills is celebrating Earth Day at the Farmington Hills Nature Center. This family-friendly event aims to promote environmental awareness and sustainability through interactive activities and informational booths. With free admission for all\, it’s a celebration not to be missed with live music\, face painting\, food trucks and more! No registration is required.\nHighlights•Family-Friendly Activities: Enjoy eco-crafts and activities for both kids and adults.•Interactive Booths: Explore earth-friendly topics and get helpful resources to incorporate sustainable living into your daily routines.•Visit the Farmington Hills Nature Center: Learn more about the flora and fauna around you. Then\, take a hike through Heritage Park to spot the wildlife you learned about.
URL:https://funinfarmington.com/event/earth-day-celebration-at-heritage-park/
LOCATION:Heritage Park\, 24915 Farmington Rd\, Farmington Hills\, MI\, 48336\, United States
CATEGORIES:Community,Festival,Kids & Families,NAture,Older Adults,Parents,Seniors,Teens
END:VEVENT
BEGIN:VEVENT
DTSTART;TZID=UTC:20260426T140000
DTEND;TZID=UTC:20260426T160000
DTSTAMP:20260419T225243
CREATED:20260406T142926Z
LAST-MODIFIED:20260406T142926Z
UID:10020327-1777212000-1777219200@funinfarmington.com
SUMMARY:Foot Salt Class at Rose Best
DESCRIPTION:Make and take class. Learn about natural ingredients and make and take a foot salt bath.
URL:https://funinfarmington.com/event/foot-salt-class-at-rose-best/
LOCATION:Rose Best\, 23321 Orchard Lake road\, Farmington\, MI\, 48336\, United States
CATEGORIES:Adults,Art,Community,Crafting,Special Event,Teens,Wellness,Women
ATTACH;FMTTYPE=image/jpeg:https://funinfarmington.com/wp-content/uploads/2026/04/IMG_9166-scaled.jpeg
ORGANIZER;CN="Zehra Kapasi":MAILTO:Rosebest@gmail.com
END:VEVENT
BEGIN:VEVENT
DTSTART;TZID=UTC:20260426T153000
DTEND;TZID=UTC:20260426T173000
DTSTAMP:20260419T225243
CREATED:20260222T204500Z
LAST-MODIFIED:20260222T204500Z
UID:10019591-1777217400-1777224600@funinfarmington.com
SUMMARY:Teen Art Workshop at The Hawk (Ages 12-15)
DESCRIPTION:Shrinky Dink Jewelry – Teen Art Workshop\n\nJanuary 25 – Handmade Journals\nMarch 1 – Shrinky Dink Jewelry\nApril 26 – Scrap Sculptures \nThe Hawk 2D Art Studios are excited to offer teen workshops where we can experiment and explore by getting our hands dirty. Participants will use various materials to explore the unique theme of each workshop. Whether they will paint\, collage\, sculpt or more – they’re sure to have a great time and end with a piece they are proud of. Sign up for one or for all!
URL:https://funinfarmington.com/event/teen-art-workshop-at-the-hawk-ages-12-15/2026-04-26/
LOCATION:The Hawk Community Center\, 29995 W 12 Mile Rd\, Farmington Hills\, Michigan\, 48334
CATEGORIES:Art,Crafting,Teens
END:VEVENT
BEGIN:VEVENT
DTSTART;TZID=UTC:20260429T183000
DTEND;TZID=UTC:20260429T200000
DTSTAMP:20260419T225243
CREATED:20260419T185530Z
LAST-MODIFIED:20260419T185530Z
UID:10020911-1777487400-1777492800@funinfarmington.com
SUMMARY:Write Now! Teen Writers' Group (Grades 6-12) at Library (FH)
DESCRIPTION:No registration is required. \nJoin other teens in grades 6-12 for a monthly writers’ group on the last Wednesday from February through May. Feel free to bring any sort of creative writing you have been working on—short stories\, poetry\, or anything else! Each meet-up will begin with a writing exercise to stretch your creativity and writing skills followed by time to share writing projects with one another.
URL:https://funinfarmington.com/event/write-now-teen-writers-group-grades-6-12-at-library-fh-2/2026-04-29/
LOCATION:Farmington Community Library – Farmington Hills Location\, 32737 W. 12 Mile Rd.\, Farmington Hills\, Michigan\, 48334
CATEGORIES:Teens,Writing
END:VEVENT
BEGIN:VEVENT
DTSTART;TZID=UTC:20260502T100000
DTEND;TZID=UTC:20260502T120000
DTSTAMP:20260419T225243
CREATED:20260222T203700Z
LAST-MODIFIED:20260222T203700Z
UID:10019586-1777716000-1777723200@funinfarmington.com
SUMMARY:Youth Makers Meetup at The Hawk (Ages 9-12)
DESCRIPTION:Calling all young makers! Join us on the first Saturday of each month for our hands-on workshop series designed just for ages 9–12. \nJanuary 3 – Hula Hoop Rugs\nFebruary 7 – Pop Up Valentines\nMarch 7 – Duct Tape Wallet and Accessory\nApril 4 – National Pet Day! Cat/Dog Toys\nMay 2 – Paper Roller Coasters\nEach session explores a new project using tools and materials in our fully equipped Makerspace. Whether you’re into tech\, crafts\, or just love to tinker\, there’s something new to discover every time. Come build your skills\, experiment\, and bring your creative ideas to life. All materials provided. No prior experience necessary—just bring your curiosity! \nAfterwards\, you’re invited to stay during our FREE Monthly Maker Meet-up from 12-2pm This monthly event is the 1st Saturday of the Month and is an opportunity to share knowledge\, laughs\, and inspiration with like-minded creative makers.
URL:https://funinfarmington.com/event/youth-makers-meetup-at-the-hawk-ages-9-12/2026-05-02/
LOCATION:The Hawk Community Center\, 29995 W 12 Mile Rd\, Farmington Hills\, Michigan\, 48334
CATEGORIES:Art,Crafting,Kids & Families,Teens
END:VEVENT
BEGIN:VEVENT
DTSTART;TZID=UTC:20260506T153000
DTEND;TZID=UTC:20260506T170000
DTSTAMP:20260419T225243
CREATED:20260222T203945Z
LAST-MODIFIED:20260222T203945Z
UID:10019589-1778081400-1778086800@funinfarmington.com
SUMMARY:Tween Makers Meetup at The Hawk (Ages 10-15)
DESCRIPTION:Each after-school session explores a new project using tools and materials in our fully equipped Makerspace. Whether you’re into tech\, crafts\, or just love to tinker\, there’s something new to discover every time. Come build your skills\, experiment\, and bring your creative ideas to life. All materials provided. No prior experience necessary—just bring your curiosity! \nFebruary 4 – Light Up Valentines\nMarch 3 – Dimensional Minecraft Skins\nApril 8 – Duct Tape Tote Bags\nMay 6 – Custom Stickers
URL:https://funinfarmington.com/event/tween-makers-meetup-at-the-hawk-ages-10-15/2026-05-06/
LOCATION:The Hawk Community Center\, 29995 W 12 Mile Rd\, Farmington Hills\, Michigan\, 48334
CATEGORIES:Art,Crafting,Teens
END:VEVENT
BEGIN:VEVENT
DTSTART;TZID=UTC:20260507T180000
DTEND;TZID=UTC:20260507T210000
DTSTAMP:20260419T225243
CREATED:20260418T213217Z
LAST-MODIFIED:20260418T213217Z
UID:10020843-1778176800-1778187600@funinfarmington.com
SUMMARY:Volunteer Nature Guide Training at Heritage Park
DESCRIPTION:Explore the skills needed to become a successful Volunteer Nature Guide. The training will cover best practices in the field of Environmental Education and Interpretation\, as well as hands-on activities related to programs offered at the Farmington Hills Nature Center. Participants will leave with helpful resources and a basic understanding of what it takes to interpret the natural world. Trainees will also have the opportunity to join the Volunteer Nature Guide team at the Nature Center. The training is designed for adults. Activities will take place indoors and outdoors. Please dress for the weather. All skill levels welcome! Pre-registration required.
URL:https://funinfarmington.com/event/volunteer-nature-guide-training-at-heritage-park/
LOCATION:Heritage Park\, 24915 Farmington Rd\, Farmington Hills\, MI\, 48336\, United States
CATEGORIES:Adults,Educational,NAture,Older Adults,Seniors,Teens
END:VEVENT
BEGIN:VEVENT
DTSTART;TZID=UTC:20260527T183000
DTEND;TZID=UTC:20260527T200000
DTSTAMP:20260419T225243
CREATED:20260419T185530Z
LAST-MODIFIED:20260419T185530Z
UID:10020912-1779906600-1779912000@funinfarmington.com
SUMMARY:Write Now! Teen Writers' Group (Grades 6-12) at Library (FH)
DESCRIPTION:No registration is required. \nJoin other teens in grades 6-12 for a monthly writers’ group on the last Wednesday from February through May. Feel free to bring any sort of creative writing you have been working on—short stories\, poetry\, or anything else! Each meet-up will begin with a writing exercise to stretch your creativity and writing skills followed by time to share writing projects with one another.
URL:https://funinfarmington.com/event/write-now-teen-writers-group-grades-6-12-at-library-fh-2/2026-05-27/
LOCATION:Farmington Community Library – Farmington Hills Location\, 32737 W. 12 Mile Rd.\, Farmington Hills\, Michigan\, 48334
CATEGORIES:Teens,Writing
END:VEVENT
BEGIN:VEVENT
DTSTART;TZID=UTC:20260625T170000
DTEND;TZID=UTC:20260625T220000
DTSTAMP:20260419T225243
CREATED:20260305T172040Z
LAST-MODIFIED:20260305T172040Z
UID:10019978-1782406800-1782424800@funinfarmington.com
SUMMARY:America 250: Celebration of a Nation at Founders Sports Park
DESCRIPTION:SAVE THE DATE \nJoin the City of Farmington Hills for America 250: Celebration of a Nation in Founders Sports Park. \nFamily fun. Food. Fireworks.
URL:https://funinfarmington.com/event/america-250-celebration-of-a-nation-at-founders-sports-park/
LOCATION:Founder’s Park\, 35500 W 8 Mile Rd\, Farmington Hills\, Michigan\, 48335
CATEGORIES:Community,Festival,Kids & Families,Music,Older Adults,Parents,Seniors,Special Event,Teens
END:VEVENT
BEGIN:VEVENT
DTSTART;TZID=UTC:20260807T183000
DTEND;TZID=UTC:20260807T200000
DTSTAMP:20260419T225243
CREATED:20260418T212527Z
LAST-MODIFIED:20260418T212527Z
UID:10020839-1786127400-1786132800@funinfarmington.com
SUMMARY:Garden and Tea Party
DESCRIPTION:Celebrate the Nature Center Children’s Garden with an outdoor tea party! Native and planted herbs will be harvested from Heritage Park to enjoy in tea or as snacks. We will also be leading some unique nature crafts and activities during the event. Tea has been generously donated by FRASER TEA in Livonia. Check out their website at https://frasertea.com/ . Children must be accompanied by an adult. Both adults and kids must be registered.
URL:https://funinfarmington.com/event/garden-and-tea-party-2/
LOCATION:Heritage Park\, 24915 Farmington Rd\, Farmington Hills\, MI\, 48336\, United States
CATEGORIES:Adults,Community,Kids & Families,Older Adults,Seniors,Teens
END:VEVENT
END:VCALENDAR