BEGIN:VCALENDAR
VERSION:2.0
PRODID:-//Fun in Farmington - ECPv6.15.20//NONSGML v1.0//EN
CALSCALE:GREGORIAN
METHOD:PUBLISH
X-WR-CALNAME:Fun in Farmington
X-ORIGINAL-URL:https://funinfarmington.com
X-WR-CALDESC:Events for Fun in Farmington
REFRESH-INTERVAL;VALUE=DURATION:PT1H
X-Robots-Tag:noindex
X-PUBLISHED-TTL:PT1H
BEGIN:VTIMEZONE
TZID:UTC
BEGIN:STANDARD
TZOFFSETFROM:+0000
TZOFFSETTO:+0000
TZNAME:UTC
DTSTART:20240101T000000
END:STANDARD
END:VTIMEZONE
BEGIN:VEVENT
DTSTART;TZID=UTC:20251210T130000
DTEND;TZID=UTC:20251210T130000
DTSTAMP:20260421T162957
CREATED:20251208T155101Z
LAST-MODIFIED:20251208T155101Z
UID:10018413-1765371600-1765371600@funinfarmington.com
SUMMARY:Christmas Gathering and Play at First Presbyterian
DESCRIPTION:Back by popular demand\, the FPCF Presbyterian Players are back and you’re invited! \n\nAll are welcome to attend our Christmas Gathering is planned for Wednesday\, December 10 at 1:00 p.m. (Note new time!) All are welcome. \n\nTickets ($5.00) include a musical program in the sanctuary\, followed by a play\, “Operation: Whispering Pines” by Karen Jones\, and refreshments afterwards in Knox Hall. \n\nThe play is about a group of feisty retirement home residents who outsmart the devious owner who has plans to evict them right before Christmas and turn their longtime residence into a golf course. The theme of the play is “don’t mess with old people.” \n\nThis event is organized and sponsored by First Pres’ Presbyterian Women’s group for the congregation and community. Again\, all are welcome. Tickets will be on sale in the Narthex each Sunday beginning Nov. 16. A few will be available at the door. Email info@Farmington-Pres.org for more info.
URL:https://funinfarmington.com/event/christmas-gathering-and-play-at-first-presbyterian/
LOCATION:First Presbyterian Church of Farmington\, 26165 Farmington Rd\, Farmington Hills\, Michigan\, 48334
CATEGORIES:Holiday,Theater
END:VEVENT
BEGIN:VEVENT
DTSTART;TZID=UTC:20251207T140000
DTEND;TZID=UTC:20251207T153000
DTSTAMP:20260421T162957
CREATED:20251204T175049Z
LAST-MODIFIED:20251204T175049Z
UID:10018399-1765116000-1765121400@funinfarmington.com
SUMMARY:The Farmington Players Present: A Very Farmington Christmas
DESCRIPTION:A professional woman running in the fast lane of the big city corporate world journeys back to her small town on a mission for her boss. When she runs into a handsome acquaintance from high school\, she’s forced to evaluate her life and priorities. Hot cocoa\, light parades\, and romance collide. Hilarity ensues. A Very Farmington Christmas is a holiday movie parody that will make your season complete!\nRuntime: Approximately 1hr 30min with no intermission.Rated 13+
URL:https://funinfarmington.com/event/the-farmington-players-present-a-very-farmington-christmas/2025-12-07/
LOCATION:The Farmington Players Barn Theater\, 32332 West 12 Mile Road\, Farmington Hills\, Michigan\, 48334
CATEGORIES:Holiday,Theater
END:VEVENT
BEGIN:VEVENT
DTSTART;TZID=UTC:20251207T140000
DTEND;TZID=UTC:20251207T140000
DTSTAMP:20260421T162957
CREATED:20251204T174024Z
LAST-MODIFIED:20251204T174024Z
UID:10018396-1765116000-1765116000@funinfarmington.com
SUMMARY:Scrooge! at The Hawk
DESCRIPTION:December 5-7\nTickets- $15 in advance\, $20 at the door\nFull-Length Musical\, Dramatic Comedy\nIn this timeless musical adaptation of Charles Dickens’ A Christmas Carol\, miserly Ebenezer Scrooge undergoes a profound experience of redemption over the course of a Christmas Eve night\, after being visited by the ghost of his former partner Jacob Marley and the ghosts of Christmas past\, present and future. Presented by the Farmington Hills Youth Theatre Broadway Stars program in conjunction with In The Mitten Productions.
URL:https://funinfarmington.com/event/scrooge-at-the-hawk/2025-12-07/
LOCATION:The Hawk Community Center\, 29995 W 12 Mile Rd\, Farmington Hills\, Michigan\, 48334
CATEGORIES:Holiday,Theater
END:VEVENT
BEGIN:VEVENT
DTSTART;TZID=UTC:20251206T200000
DTEND;TZID=UTC:20251206T213000
DTSTAMP:20260421T162957
CREATED:20251204T175049Z
LAST-MODIFIED:20251204T175049Z
UID:10018398-1765051200-1765056600@funinfarmington.com
SUMMARY:The Farmington Players Present: A Very Farmington Christmas
DESCRIPTION:A professional woman running in the fast lane of the big city corporate world journeys back to her small town on a mission for her boss. When she runs into a handsome acquaintance from high school\, she’s forced to evaluate her life and priorities. Hot cocoa\, light parades\, and romance collide. Hilarity ensues. A Very Farmington Christmas is a holiday movie parody that will make your season complete!\nRuntime: Approximately 1hr 30min with no intermission.Rated 13+
URL:https://funinfarmington.com/event/the-farmington-players-present-a-very-farmington-christmas/2025-12-06/
LOCATION:The Farmington Players Barn Theater\, 32332 West 12 Mile Road\, Farmington Hills\, Michigan\, 48334
CATEGORIES:Holiday,Theater
END:VEVENT
BEGIN:VEVENT
DTSTART;TZID=UTC:20251206T180000
DTEND;TZID=UTC:20251206T180000
DTSTAMP:20260421T162957
CREATED:20251204T174024Z
LAST-MODIFIED:20251204T174024Z
UID:10018395-1765044000-1765044000@funinfarmington.com
SUMMARY:Scrooge! at The Hawk
DESCRIPTION:December 5-7\nTickets- $15 in advance\, $20 at the door\nFull-Length Musical\, Dramatic Comedy\nIn this timeless musical adaptation of Charles Dickens’ A Christmas Carol\, miserly Ebenezer Scrooge undergoes a profound experience of redemption over the course of a Christmas Eve night\, after being visited by the ghost of his former partner Jacob Marley and the ghosts of Christmas past\, present and future. Presented by the Farmington Hills Youth Theatre Broadway Stars program in conjunction with In The Mitten Productions.
URL:https://funinfarmington.com/event/scrooge-at-the-hawk/2025-12-06/2/
LOCATION:The Hawk Community Center\, 29995 W 12 Mile Rd\, Farmington Hills\, Michigan\, 48334
CATEGORIES:Holiday,Theater
END:VEVENT
BEGIN:VEVENT
DTSTART;TZID=UTC:20251206T130000
DTEND;TZID=UTC:20251206T130000
DTSTAMP:20260421T162958
CREATED:20251204T174024Z
LAST-MODIFIED:20251204T174024Z
UID:10018394-1765026000-1765026000@funinfarmington.com
SUMMARY:Scrooge! at The Hawk
DESCRIPTION:December 5-7\nTickets- $15 in advance\, $20 at the door\nFull-Length Musical\, Dramatic Comedy\nIn this timeless musical adaptation of Charles Dickens’ A Christmas Carol\, miserly Ebenezer Scrooge undergoes a profound experience of redemption over the course of a Christmas Eve night\, after being visited by the ghost of his former partner Jacob Marley and the ghosts of Christmas past\, present and future. Presented by the Farmington Hills Youth Theatre Broadway Stars program in conjunction with In The Mitten Productions.
URL:https://funinfarmington.com/event/scrooge-at-the-hawk/2025-12-06/1/
LOCATION:The Hawk Community Center\, 29995 W 12 Mile Rd\, Farmington Hills\, Michigan\, 48334
CATEGORIES:Holiday,Theater
END:VEVENT
BEGIN:VEVENT
DTSTART;TZID=UTC:20251205T200000
DTEND;TZID=UTC:20251205T213000
DTSTAMP:20260421T162958
CREATED:20251204T175049Z
LAST-MODIFIED:20251204T175049Z
UID:10018397-1764964800-1764970200@funinfarmington.com
SUMMARY:The Farmington Players Present: A Very Farmington Christmas
DESCRIPTION:A professional woman running in the fast lane of the big city corporate world journeys back to her small town on a mission for her boss. When she runs into a handsome acquaintance from high school\, she’s forced to evaluate her life and priorities. Hot cocoa\, light parades\, and romance collide. Hilarity ensues. A Very Farmington Christmas is a holiday movie parody that will make your season complete!\nRuntime: Approximately 1hr 30min with no intermission.Rated 13+
URL:https://funinfarmington.com/event/the-farmington-players-present-a-very-farmington-christmas/2025-12-05/
LOCATION:The Farmington Players Barn Theater\, 32332 West 12 Mile Road\, Farmington Hills\, Michigan\, 48334
CATEGORIES:Holiday,Theater
END:VEVENT
BEGIN:VEVENT
DTSTART;TZID=UTC:20251205T190000
DTEND;TZID=UTC:20251205T190000
DTSTAMP:20260421T162958
CREATED:20251204T174024Z
LAST-MODIFIED:20251204T174024Z
UID:10018393-1764961200-1764961200@funinfarmington.com
SUMMARY:Scrooge! at The Hawk
DESCRIPTION:December 5-7\nTickets- $15 in advance\, $20 at the door\nFull-Length Musical\, Dramatic Comedy\nIn this timeless musical adaptation of Charles Dickens’ A Christmas Carol\, miserly Ebenezer Scrooge undergoes a profound experience of redemption over the course of a Christmas Eve night\, after being visited by the ghost of his former partner Jacob Marley and the ghosts of Christmas past\, present and future. Presented by the Farmington Hills Youth Theatre Broadway Stars program in conjunction with In The Mitten Productions.
URL:https://funinfarmington.com/event/scrooge-at-the-hawk/2025-12-05/
LOCATION:The Hawk Community Center\, 29995 W 12 Mile Rd\, Farmington Hills\, Michigan\, 48334
CATEGORIES:Holiday,Theater
END:VEVENT
BEGIN:VEVENT
DTSTART;TZID=UTC:20251116T170000
DTEND;TZID=UTC:20251116T170000
DTSTAMP:20260421T162958
CREATED:20251110T155413Z
LAST-MODIFIED:20251110T155413Z
UID:10018073-1763312400-1763312400@funinfarmington.com
SUMMARY:The SpongeBob Musical at The Hawk
DESCRIPTION:The SpongeBob Musical Jr.Tickets- $15 in advance\, $20 at the door\nThursday\, November 13\, 2025 at 7:00 PMFriday\, November 14\, 2025 at 7:00 PMSaturaday\, November 15\, 2025 at 1:00 PMSaturaday\, Novemeber 15\, 2025 at 5:00 PMSunday\, November 16\, 2025 at 1:00 PMSunday\, November 16\, 2025 at 5:00 PM\nWho lives in a pineapple under the sea and became the hottest star on Broadway? Why\, it’s SpongeBob SquarePants! This one-hour edition of the hit Broadway musical\, brilliantly adapted from the iconic Nickelodeon series\, is fun for the entire family! When the citizens of Bikini Bottom discover that a volcano will soon erupt and destroy their humble home\, SpongeBob and his friends must come together to save the fate of their undersea world. With lives hanging in the balance and all hope lost\, a most unexpected hero rises up. The power of optimism really can save the world!
URL:https://funinfarmington.com/event/the-spongebob-musical-at-the-hawk/2025-11-16/2/
LOCATION:The Hawk Community Center\, 29995 W 12 Mile Rd\, Farmington Hills\, Michigan\, 48334
CATEGORIES:Kids & Families,Theater
END:VEVENT
BEGIN:VEVENT
DTSTART;TZID=UTC:20251116T130000
DTEND;TZID=UTC:20251116T130000
DTSTAMP:20260421T162958
CREATED:20251110T155413Z
LAST-MODIFIED:20251110T155413Z
UID:10018072-1763298000-1763298000@funinfarmington.com
SUMMARY:The SpongeBob Musical at The Hawk
DESCRIPTION:The SpongeBob Musical Jr.Tickets- $15 in advance\, $20 at the door\nThursday\, November 13\, 2025 at 7:00 PMFriday\, November 14\, 2025 at 7:00 PMSaturaday\, November 15\, 2025 at 1:00 PMSaturaday\, Novemeber 15\, 2025 at 5:00 PMSunday\, November 16\, 2025 at 1:00 PMSunday\, November 16\, 2025 at 5:00 PM\nWho lives in a pineapple under the sea and became the hottest star on Broadway? Why\, it’s SpongeBob SquarePants! This one-hour edition of the hit Broadway musical\, brilliantly adapted from the iconic Nickelodeon series\, is fun for the entire family! When the citizens of Bikini Bottom discover that a volcano will soon erupt and destroy their humble home\, SpongeBob and his friends must come together to save the fate of their undersea world. With lives hanging in the balance and all hope lost\, a most unexpected hero rises up. The power of optimism really can save the world!
URL:https://funinfarmington.com/event/the-spongebob-musical-at-the-hawk/2025-11-16/1/
LOCATION:The Hawk Community Center\, 29995 W 12 Mile Rd\, Farmington Hills\, Michigan\, 48334
CATEGORIES:Kids & Families,Theater
END:VEVENT
BEGIN:VEVENT
DTSTART;TZID=UTC:20251115T170000
DTEND;TZID=UTC:20251115T170000
DTSTAMP:20260421T162958
CREATED:20251110T155413Z
LAST-MODIFIED:20251110T155413Z
UID:10018071-1763226000-1763226000@funinfarmington.com
SUMMARY:The SpongeBob Musical at The Hawk
DESCRIPTION:The SpongeBob Musical Jr.Tickets- $15 in advance\, $20 at the door\nThursday\, November 13\, 2025 at 7:00 PMFriday\, November 14\, 2025 at 7:00 PMSaturaday\, November 15\, 2025 at 1:00 PMSaturaday\, Novemeber 15\, 2025 at 5:00 PMSunday\, November 16\, 2025 at 1:00 PMSunday\, November 16\, 2025 at 5:00 PM\nWho lives in a pineapple under the sea and became the hottest star on Broadway? Why\, it’s SpongeBob SquarePants! This one-hour edition of the hit Broadway musical\, brilliantly adapted from the iconic Nickelodeon series\, is fun for the entire family! When the citizens of Bikini Bottom discover that a volcano will soon erupt and destroy their humble home\, SpongeBob and his friends must come together to save the fate of their undersea world. With lives hanging in the balance and all hope lost\, a most unexpected hero rises up. The power of optimism really can save the world!
URL:https://funinfarmington.com/event/the-spongebob-musical-at-the-hawk/2025-11-15/2/
LOCATION:The Hawk Community Center\, 29995 W 12 Mile Rd\, Farmington Hills\, Michigan\, 48334
CATEGORIES:Kids & Families,Theater
END:VEVENT
BEGIN:VEVENT
DTSTART;TZID=UTC:20251115T130000
DTEND;TZID=UTC:20251115T130000
DTSTAMP:20260421T162958
CREATED:20251110T155413Z
LAST-MODIFIED:20251110T155413Z
UID:10018070-1763211600-1763211600@funinfarmington.com
SUMMARY:The SpongeBob Musical at The Hawk
DESCRIPTION:The SpongeBob Musical Jr.Tickets- $15 in advance\, $20 at the door\nThursday\, November 13\, 2025 at 7:00 PMFriday\, November 14\, 2025 at 7:00 PMSaturaday\, November 15\, 2025 at 1:00 PMSaturaday\, Novemeber 15\, 2025 at 5:00 PMSunday\, November 16\, 2025 at 1:00 PMSunday\, November 16\, 2025 at 5:00 PM\nWho lives in a pineapple under the sea and became the hottest star on Broadway? Why\, it’s SpongeBob SquarePants! This one-hour edition of the hit Broadway musical\, brilliantly adapted from the iconic Nickelodeon series\, is fun for the entire family! When the citizens of Bikini Bottom discover that a volcano will soon erupt and destroy their humble home\, SpongeBob and his friends must come together to save the fate of their undersea world. With lives hanging in the balance and all hope lost\, a most unexpected hero rises up. The power of optimism really can save the world!
URL:https://funinfarmington.com/event/the-spongebob-musical-at-the-hawk/2025-11-15/1/
LOCATION:The Hawk Community Center\, 29995 W 12 Mile Rd\, Farmington Hills\, Michigan\, 48334
CATEGORIES:Kids & Families,Theater
END:VEVENT
BEGIN:VEVENT
DTSTART;TZID=UTC:20251114T190000
DTEND;TZID=UTC:20251114T190000
DTSTAMP:20260421T162958
CREATED:20251110T155413Z
LAST-MODIFIED:20251110T155413Z
UID:10018069-1763146800-1763146800@funinfarmington.com
SUMMARY:The SpongeBob Musical at The Hawk
DESCRIPTION:The SpongeBob Musical Jr.Tickets- $15 in advance\, $20 at the door\nThursday\, November 13\, 2025 at 7:00 PMFriday\, November 14\, 2025 at 7:00 PMSaturaday\, November 15\, 2025 at 1:00 PMSaturaday\, Novemeber 15\, 2025 at 5:00 PMSunday\, November 16\, 2025 at 1:00 PMSunday\, November 16\, 2025 at 5:00 PM\nWho lives in a pineapple under the sea and became the hottest star on Broadway? Why\, it’s SpongeBob SquarePants! This one-hour edition of the hit Broadway musical\, brilliantly adapted from the iconic Nickelodeon series\, is fun for the entire family! When the citizens of Bikini Bottom discover that a volcano will soon erupt and destroy their humble home\, SpongeBob and his friends must come together to save the fate of their undersea world. With lives hanging in the balance and all hope lost\, a most unexpected hero rises up. The power of optimism really can save the world!
URL:https://funinfarmington.com/event/the-spongebob-musical-at-the-hawk/2025-11-14/
LOCATION:The Hawk Community Center\, 29995 W 12 Mile Rd\, Farmington Hills\, Michigan\, 48334
CATEGORIES:Kids & Families,Theater
END:VEVENT
BEGIN:VEVENT
DTSTART;TZID=UTC:20251113T190000
DTEND;TZID=UTC:20251113T190000
DTSTAMP:20260421T162958
CREATED:20251110T155413Z
LAST-MODIFIED:20251110T155413Z
UID:10018068-1763060400-1763060400@funinfarmington.com
SUMMARY:The SpongeBob Musical at The Hawk
DESCRIPTION:The SpongeBob Musical Jr.Tickets- $15 in advance\, $20 at the door\nThursday\, November 13\, 2025 at 7:00 PMFriday\, November 14\, 2025 at 7:00 PMSaturaday\, November 15\, 2025 at 1:00 PMSaturaday\, Novemeber 15\, 2025 at 5:00 PMSunday\, November 16\, 2025 at 1:00 PMSunday\, November 16\, 2025 at 5:00 PM\nWho lives in a pineapple under the sea and became the hottest star on Broadway? Why\, it’s SpongeBob SquarePants! This one-hour edition of the hit Broadway musical\, brilliantly adapted from the iconic Nickelodeon series\, is fun for the entire family! When the citizens of Bikini Bottom discover that a volcano will soon erupt and destroy their humble home\, SpongeBob and his friends must come together to save the fate of their undersea world. With lives hanging in the balance and all hope lost\, a most unexpected hero rises up. The power of optimism really can save the world!
URL:https://funinfarmington.com/event/the-spongebob-musical-at-the-hawk/2025-11-13/
LOCATION:The Hawk Community Center\, 29995 W 12 Mile Rd\, Farmington Hills\, Michigan\, 48334
CATEGORIES:Kids & Families,Theater
END:VEVENT
BEGIN:VEVENT
DTSTART;TZID=UTC:20251028T190000
DTEND;TZID=UTC:20251028T200000
DTSTAMP:20260421T162958
CREATED:20251014T144912Z
LAST-MODIFIED:20251014T144912Z
UID:10017850-1761678000-1761681600@funinfarmington.com
SUMMARY:Grand Raven Whispers in the Park
DESCRIPTION:Each week Casey from Blue Cheese Theatre will host a dramatic reading from a family friendly story and a excerpt from an Edgar Allan Poe story or poem. \n10/28 at Riley Park\nStories: Annabel Lee & The Little Old Lady Who Was Not Afraid of Anything
URL:https://funinfarmington.com/event/grand-raven-whispers-in-the-park/
LOCATION:Riley Park\, 33113 Grand River Ave\, Farmington\, Michigan\, 48335
CATEGORIES:Holiday,Theater
END:VEVENT
BEGIN:VEVENT
DTSTART;TZID=UTC:20251025T150000
DTEND;TZID=UTC:20251025T153000
DTSTAMP:20260421T162958
CREATED:20251014T141933Z
LAST-MODIFIED:20251014T141933Z
UID:10017848-1761404400-1761406200@funinfarmington.com
SUMMARY:Seussical Kids at The Hawk
DESCRIPTION:Horton the Elephant\, the Cat in the Hat and all of your favorite Dr. Seuss characters spring to life onstage in Seussical KIDS! \nTransporting audiences from the Jungle of Nool to the Circus McGurkus\, the Cat in the Hat\, our narrator\, tells the story of Horton\, an elephant who discovers a speck of dust containing tiny people called the Whos\, including Jojo\, a Who child\, who gets in trouble for thinking too many “thinks.” Horton’s challenge is twofold — not only must he protect the Whos from a world of naysayers and dangers\, but he must also guard an abandoned egg that’s been left in his care by the irresponsible Mayzie La Bird. Although Horton faces ridicule\, danger\, kidnapping and a trial\, the intrepid Gertrude McFuzz never loses faith in him. Ultimately\, the powers of friendship\, loyalty\, family and community are challenged and emerge triumphant! \nSeussical Kids! is presented in special arrangement with Music Theatrre International (MTI). All authorized performance materials are also supplied by MTI. www.MTIShows.com
URL:https://funinfarmington.com/event/seussical-kids-at-the-hawk/2025-10-25/
LOCATION:The Hawk Community Center\, 29995 W 12 Mile Rd\, Farmington Hills\, Michigan\, 48334
CATEGORIES:Kids & Families,Theater
END:VEVENT
BEGIN:VEVENT
DTSTART;TZID=UTC:20251024T190000
DTEND;TZID=UTC:20251024T193000
DTSTAMP:20260421T162958
CREATED:20251014T141933Z
LAST-MODIFIED:20251014T141933Z
UID:10017847-1761332400-1761334200@funinfarmington.com
SUMMARY:Seussical Kids at The Hawk
DESCRIPTION:Horton the Elephant\, the Cat in the Hat and all of your favorite Dr. Seuss characters spring to life onstage in Seussical KIDS! \nTransporting audiences from the Jungle of Nool to the Circus McGurkus\, the Cat in the Hat\, our narrator\, tells the story of Horton\, an elephant who discovers a speck of dust containing tiny people called the Whos\, including Jojo\, a Who child\, who gets in trouble for thinking too many “thinks.” Horton’s challenge is twofold — not only must he protect the Whos from a world of naysayers and dangers\, but he must also guard an abandoned egg that’s been left in his care by the irresponsible Mayzie La Bird. Although Horton faces ridicule\, danger\, kidnapping and a trial\, the intrepid Gertrude McFuzz never loses faith in him. Ultimately\, the powers of friendship\, loyalty\, family and community are challenged and emerge triumphant! \nSeussical Kids! is presented in special arrangement with Music Theatrre International (MTI). All authorized performance materials are also supplied by MTI. www.MTIShows.com
URL:https://funinfarmington.com/event/seussical-kids-at-the-hawk/2025-10-24/
LOCATION:The Hawk Community Center\, 29995 W 12 Mile Rd\, Farmington Hills\, Michigan\, 48334
CATEGORIES:Kids & Families,Theater
END:VEVENT
BEGIN:VEVENT
DTSTART;TZID=UTC:20251021T190000
DTEND;TZID=UTC:20251021T200000
DTSTAMP:20260421T162958
CREATED:20251014T144919Z
LAST-MODIFIED:20251014T144919Z
UID:10017849-1761073200-1761076800@funinfarmington.com
SUMMARY:Grand Raven Whispers in the Park
DESCRIPTION:Each week Casey from Blue Cheese Theatre will host a dramatic reading from a family friendly story and a excerpt from an Edgar Allan Poe story or poem. \n10/21 at Masons Corner\nStories: The Raven & The Spider and the Fly
URL:https://funinfarmington.com/event/grand-raven-whispers-in-the-park-2/
LOCATION:Masonic Plaza\, 23715 Farmington Rd\, Farmington\, MI\, 48336\, United States
CATEGORIES:Holiday,Theater
END:VEVENT
END:VCALENDAR